BEGIN:VCALENDAR
VERSION:2.0
PRODID:-//Stoneham Memorial Church - ECPv6.15.20//NONSGML v1.0//EN
CALSCALE:GREGORIAN
METHOD:PUBLISH
X-ORIGINAL-URL:https://stonehammemorialchurch.org
X-WR-CALDESC:Events for Stoneham Memorial Church
REFRESH-INTERVAL;VALUE=DURATION:PT1H
X-Robots-Tag:noindex
X-PUBLISHED-TTL:PT1H
BEGIN:VTIMEZONE
TZID:America/New_York
BEGIN:DAYLIGHT
TZOFFSETFROM:-0500
TZOFFSETTO:-0400
TZNAME:EDT
DTSTART:20250309T070000
END:DAYLIGHT
BEGIN:STANDARD
TZOFFSETFROM:-0400
TZOFFSETTO:-0500
TZNAME:EST
DTSTART:20251102T060000
END:STANDARD
BEGIN:DAYLIGHT
TZOFFSETFROM:-0500
TZOFFSETTO:-0400
TZNAME:EDT
DTSTART:20260308T070000
END:DAYLIGHT
BEGIN:STANDARD
TZOFFSETFROM:-0400
TZOFFSETTO:-0500
TZNAME:EST
DTSTART:20261101T060000
END:STANDARD
BEGIN:DAYLIGHT
TZOFFSETFROM:-0500
TZOFFSETTO:-0400
TZNAME:EDT
DTSTART:20270314T070000
END:DAYLIGHT
BEGIN:STANDARD
TZOFFSETFROM:-0400
TZOFFSETTO:-0500
TZNAME:EST
DTSTART:20271107T060000
END:STANDARD
END:VTIMEZONE
BEGIN:VEVENT
DTSTART;TZID=America/New_York:20260201T084500
DTEND;TZID=America/New_York:20260201T100000
DTSTAMP:20260421T085235
CREATED:20260131T005654Z
LAST-MODIFIED:20260131T005654Z
UID:4281-1769935500-1769940000@stonehammemorialchurch.org
SUMMARY:2026 Church Officer Zoom Training
DESCRIPTION:2026 Church Officer Zoom Training \n(English only) @ 8:45 am\nTime: Feb 1\, 2026\nMeeting ID: 646 392 0401
URL:https://stonehammemorialchurch.org/event/2026-church-officer-zoom-training/
LOCATION:MA
END:VEVENT
BEGIN:VEVENT
DTSTART;TZID=America/New_York:20260203T183000
DTEND;TZID=America/New_York:20260203T200000
DTSTAMP:20260421T085235
CREATED:20260131T005748Z
LAST-MODIFIED:20260131T005748Z
UID:4283-1770143400-1770148800@stonehammemorialchurch.org
SUMMARY:Board Meeting
DESCRIPTION:Board Meeting
URL:https://stonehammemorialchurch.org/event/board-meeting/
LOCATION:Stoneham Memorial Church\, 29 MAPLE STREET\, STONEHAM\, MA\, 02180\, United States
END:VEVENT
BEGIN:VEVENT
DTSTART;TZID=America/New_York:20260207T173000
DTEND;TZID=America/New_York:20260207T190000
DTSTAMP:20260421T085235
CREATED:20260206T235513Z
LAST-MODIFIED:20260207T163403Z
UID:4299-1770485400-1770490800@stonehammemorialchurch.org
SUMMARY:Cancelled - Children's SS social @ GBA
DESCRIPTION:Children’s SS social @ GBA – weather permitting.
URL:https://stonehammemorialchurch.org/event/childrens-ss-social-gba/
LOCATION:Greater Boston Academy\, 108 Pond St\, Stoneham\, MA\, 02180\, United States
END:VEVENT
BEGIN:VEVENT
DTSTART;TZID=America/New_York:20260213T190000
DTEND;TZID=America/New_York:20260213T200000
DTSTAMP:20260421T085235
CREATED:20260131T010124Z
LAST-MODIFIED:20260131T010124Z
UID:4289-1771009200-1771012800@stonehammemorialchurch.org
SUMMARY:Vespers Program
DESCRIPTION:Vespers Program – Ellison Group
URL:https://stonehammemorialchurch.org/event/vespers-program-2/
LOCATION:Stoneham Memorial Church\, 29 MAPLE STREET\, STONEHAM\, MA\, 02180\, United States
ATTACH;FMTTYPE=image/jpeg:https://stonehammemorialchurch.org/wp-content/uploads/2026/01/Feb13Vespers.jpeg
END:VEVENT
BEGIN:VEVENT
DTSTART;TZID=America/New_York:20260216T183000
DTEND;TZID=America/New_York:20260216T193000
DTSTAMP:20260421T085235
CREATED:20250913T000841Z
LAST-MODIFIED:20260214T134646Z
UID:4106-1771266600-1771270200@stonehammemorialchurch.org
SUMMARY:Soup with Jesus Bible Study
DESCRIPTION:Soup with Jesus Bible Study with Pr. Clifton Glasgow – Everyone is invited in the Fellowship Hall
URL:https://stonehammemorialchurch.org/event/soup-with-jesus/
LOCATION:Stoneham Memorial Church\, 29 MAPLE STREET\, STONEHAM\, MA\, 02180\, United States
END:VEVENT
BEGIN:VEVENT
DTSTART;TZID=America/New_York:20260218T190000
DTEND;TZID=America/New_York:20260218T200000
DTSTAMP:20260421T085235
CREATED:20260207T000101Z
LAST-MODIFIED:20260214T134511Z
UID:4303-1771441200-1771444800@stonehammemorialchurch.org
SUMMARY:Weekly Prayer meeting
DESCRIPTION:Weekly Prayer meeting\, every\nWednesday evening starting\nFeb. 11\, @ 7pm\, Fellowship Hall.
URL:https://stonehammemorialchurch.org/event/weekly-prayer-meeting/
LOCATION:Stoneham Memorial Church\, 29 MAPLE STREET\, STONEHAM\, MA\, 02180\, United States
ATTACH;FMTTYPE=image/png:https://stonehammemorialchurch.org/wp-content/uploads/2026/02/PrayingHands.png
END:VEVENT
BEGIN:VEVENT
DTSTART;TZID=America/New_York:20260221T143000
DTEND;TZID=America/New_York:20260221T153000
DTSTAMP:20260421T085235
CREATED:20260214T134216Z
LAST-MODIFIED:20260214T134216Z
UID:4313-1771684200-1771687800@stonehammemorialchurch.org
SUMMARY:Ask a Doctor Program
DESCRIPTION:Ask a Doctor Program Come join us on Sabbath\, February 21 at 2:30 pm\nin the sanctuary\, – Ask the Dietitian: Live Q & A on Nutrition & Women’s\nHealth. The speaker will be Sue-Ellen Anderson-Haynes\, Registered and\nLicensed Dietitian – Women’s Health Dietitian. Please use the QR code to\nsend your questions in\, no later than Tuesday February 17. Bring your\nfriends to hear this important topic.
URL:https://stonehammemorialchurch.org/event/ask-a-doctor-program/
LOCATION:MA
ATTACH;FMTTYPE=image/png:https://stonehammemorialchurch.org/wp-content/uploads/2026/02/AskADoctor-21Feb2026.png
END:VEVENT
BEGIN:VEVENT
DTSTART;TZID=America/New_York:20260221T180000
DTEND;TZID=America/New_York:20260221T193000
DTSTAMP:20260421T085235
CREATED:20260206T235732Z
LAST-MODIFIED:20260206T235732Z
UID:4301-1771696800-1771702200@stonehammemorialchurch.org
SUMMARY:Social Night\, Games\, Food
DESCRIPTION:Join us for a memorable social night even with interactive games and good food. \nPsychology of Him and Her… \nAll are welcome\, bring friends!
URL:https://stonehammemorialchurch.org/event/social-night-games-food/
LOCATION:Stoneham Memorial Church\, 29 MAPLE STREET\, STONEHAM\, MA\, 02180\, United States
ATTACH;FMTTYPE=image/jpeg:https://stonehammemorialchurch.org/wp-content/uploads/2026/02/Feb21Social.jpeg
END:VEVENT
BEGIN:VEVENT
DTSTART;TZID=America/New_York:20260222T190000
DTEND;TZID=America/New_York:20260222T203000
DTSTAMP:20260421T085235
CREATED:20260131T005926Z
LAST-MODIFIED:20260131T005926Z
UID:4285-1771786800-1771792200@stonehammemorialchurch.org
SUMMARY:SMC Town Hall Meeting
DESCRIPTION:SMC Town Hall Meeting\, Sanctuary\,\nFeb. 22 @ 7 pm.\nJoin us for a town hall meeting.\nThese pre-Constituency session\nmeetings provide an essential\nopportunity for constituents to hear\nreports from current officers\, ask\nquestions\, and share feedback.
URL:https://stonehammemorialchurch.org/event/smc-town-hall-meeting/
LOCATION:Stoneham Memorial Church\, 29 MAPLE STREET\, STONEHAM\, MA\, 02180\, United States
END:VEVENT
BEGIN:VEVENT
DTSTART;TZID=America/New_York:20260227T080000
DTEND;TZID=America/New_York:20260227T170000
DTSTAMP:20260421T085235
CREATED:20260228T010220Z
LAST-MODIFIED:20260228T010220Z
UID:4327-1772179200-1772211600@stonehammemorialchurch.org
SUMMARY:Woman’s Ministry\, Zoom prayer meeting
DESCRIPTION:Woman’s Ministry\, Zoom prayer meeting\, Mar. 1 @ 7 pm.\nMeeting ID: 850 0361 5019\nPasscode: 791588
URL:https://stonehammemorialchurch.org/event/womans-ministry-zoom-prayer-meeting/
LOCATION:MA
ATTACH;FMTTYPE=image/jpeg:https://stonehammemorialchurch.org/wp-content/uploads/2026/02/WomensMinistry3-1-2026.jpg.jpeg
END:VEVENT
END:VCALENDAR