BEGIN:VCALENDAR
VERSION:2.0
PRODID:-//Stoneham Memorial Church - ECPv6.15.20//NONSGML v1.0//EN
CALSCALE:GREGORIAN
METHOD:PUBLISH
X-WR-CALNAME:Stoneham Memorial Church
X-ORIGINAL-URL:https://stonehammemorialchurch.org
X-WR-CALDESC:Events for Stoneham Memorial Church
REFRESH-INTERVAL;VALUE=DURATION:PT1H
X-Robots-Tag:noindex
X-PUBLISHED-TTL:PT1H
BEGIN:VTIMEZONE
TZID:America/New_York
BEGIN:DAYLIGHT
TZOFFSETFROM:-0500
TZOFFSETTO:-0400
TZNAME:EDT
DTSTART:20210314T070000
END:DAYLIGHT
BEGIN:STANDARD
TZOFFSETFROM:-0400
TZOFFSETTO:-0500
TZNAME:EST
DTSTART:20211107T060000
END:STANDARD
BEGIN:DAYLIGHT
TZOFFSETFROM:-0500
TZOFFSETTO:-0400
TZNAME:EDT
DTSTART:20220313T070000
END:DAYLIGHT
BEGIN:STANDARD
TZOFFSETFROM:-0400
TZOFFSETTO:-0500
TZNAME:EST
DTSTART:20221106T060000
END:STANDARD
BEGIN:DAYLIGHT
TZOFFSETFROM:-0500
TZOFFSETTO:-0400
TZNAME:EDT
DTSTART:20230312T070000
END:DAYLIGHT
BEGIN:STANDARD
TZOFFSETFROM:-0400
TZOFFSETTO:-0500
TZNAME:EST
DTSTART:20231105T060000
END:STANDARD
BEGIN:DAYLIGHT
TZOFFSETFROM:-0500
TZOFFSETTO:-0400
TZNAME:EDT
DTSTART:20240310T070000
END:DAYLIGHT
BEGIN:STANDARD
TZOFFSETFROM:-0400
TZOFFSETTO:-0500
TZNAME:EST
DTSTART:20241103T060000
END:STANDARD
END:VTIMEZONE
BEGIN:VEVENT
DTSTART;TZID=America/New_York:20230922T190000
DTEND;TZID=America/New_York:20230922T203000
DTSTAMP:20260422T184059
CREATED:20230916T000940Z
LAST-MODIFIED:20230916T000940Z
UID:3276-1695409200-1695414600@stonehammemorialchurch.org
SUMMARY:Solid Rock Café
DESCRIPTION:Solid Rock Café\, 7pm. Come enjoy a Meal\, Music\, Praise and Sharing!
URL:https://stonehammemorialchurch.org/event/solid-rock-cafe-5/
LOCATION:Stoneham Memorial Church\, 29 MAPLE STREET\, STONEHAM\, MA\, 02180\, United States
END:VEVENT
BEGIN:VEVENT
DTSTART;TZID=America/New_York:20230921T170000
DTEND;TZID=America/New_York:20230921T183000
DTSTAMP:20260422T184059
CREATED:20230916T000831Z
LAST-MODIFIED:20230916T001847Z
UID:3273-1695315600-1695321000@stonehammemorialchurch.org
SUMMARY:GBA Corn Roast
DESCRIPTION:GBA Corn Roast\, 5-6:30 at GBA. All are invited to join!
URL:https://stonehammemorialchurch.org/event/gba-corn-roast-2/
LOCATION:Greater Boston Academy\, 108 Pond St\, Stoneham\, MA\, 02180\, United States
ATTACH;FMTTYPE=image/png:https://stonehammemorialchurch.org/wp-content/uploads/2023/09/CornRoastPotluck.png
END:VEVENT
BEGIN:VEVENT
DTSTART;TZID=America/New_York:20230908T180000
DTEND;TZID=America/New_York:20230909T180000
DTSTAMP:20260422T184059
CREATED:20230429T010319Z
LAST-MODIFIED:20230429T010319Z
UID:3142-1694196000-1694282400@stonehammemorialchurch.org
SUMMARY:Teen Weekend Seminar
DESCRIPTION:Save The Date – Sept 8 & 9 2023\, Jennifer Jill Sweitzer from 3ABN will be here for a special Teen Weekend Seminar. Teens\, you won’t want to miss this!
URL:https://stonehammemorialchurch.org/event/teen-weekend-seminar/
END:VEVENT
BEGIN:VEVENT
DTSTART;TZID=America/New_York:20230717T183000
DTEND;TZID=America/New_York:20230717T193000
DTSTAMP:20260422T184059
CREATED:20230715T010952Z
LAST-MODIFIED:20230715T010952Z
UID:3225-1689618600-1689622200@stonehammemorialchurch.org
SUMMARY:Monday Night Fellowship
DESCRIPTION:July 17: Monday night Fellowship 6:30 pm
URL:https://stonehammemorialchurch.org/event/monday-night-fellowship-3/
LOCATION:Stoneham Memorial Church\, 29 MAPLE STREET\, STONEHAM\, MA\, 02180\, United States
END:VEVENT
BEGIN:VEVENT
DTSTART;TZID=America/New_York:20230715T140000
DTEND;TZID=America/New_York:20230715T153000
DTSTAMP:20260422T184059
CREATED:20230715T010832Z
LAST-MODIFIED:20230715T010832Z
UID:3223-1689429600-1689435000@stonehammemorialchurch.org
SUMMARY:Ask A Doctor - Depression & Anxiety
DESCRIPTION:July 15: 2 pm – Ask A Doctor – Depression & Anxiety with Cris Coconcea\,\nPsychiatrist. Submit your questions by July 11 at https://tinyurl.com/smcaskadoctor
URL:https://stonehammemorialchurch.org/event/ask-a-doctor-depression-anxiety/
LOCATION:Stoneham Memorial Church\, 29 MAPLE STREET\, STONEHAM\, MA\, 02180\, United States
END:VEVENT
BEGIN:VEVENT
DTSTART;TZID=America/New_York:20230714T190000
DTEND;TZID=America/New_York:20230714T200000
DTSTAMP:20260422T184059
CREATED:20230715T011122Z
LAST-MODIFIED:20230715T011122Z
UID:3227-1689361200-1689364800@stonehammemorialchurch.org
SUMMARY:Vespers
DESCRIPTION:July 14: Vespers – Study Leviticus 5 – 12\, Bring your favorite Bible verses and what they mean to you.
URL:https://stonehammemorialchurch.org/event/vespers-5/
END:VEVENT
BEGIN:VEVENT
DTSTART;VALUE=DATE:20230616
DTEND;VALUE=DATE:20230625
DTSTAMP:20260422T184059
CREATED:20230603T111411Z
LAST-MODIFIED:20230603T111411Z
UID:3195-1686873600-1687651199@stonehammemorialchurch.org
SUMMARY:Camp Meeting - S. Lancaster\, MA
DESCRIPTION:June 16-24: SNEC Camp Meeting in South Lancaster\, MA – Stoneham Memorial Church CLOSED
URL:https://stonehammemorialchurch.org/event/camp-meeting-s-lancaster-ma/
END:VEVENT
BEGIN:VEVENT
DTSTART;TZID=America/New_York:20230610T110000
DTEND;TZID=America/New_York:20230610T123000
DTSTAMP:20260422T184059
CREATED:20230603T111653Z
LAST-MODIFIED:20230603T111653Z
UID:3199-1686394800-1686400200@stonehammemorialchurch.org
SUMMARY:Communion
DESCRIPTION:Communion
URL:https://stonehammemorialchurch.org/event/communion-3/
LOCATION:Stoneham Memorial Church\, 29 MAPLE STREET\, STONEHAM\, MA\, 02180\, United States
END:VEVENT
BEGIN:VEVENT
DTSTART;TZID=America/New_York:20230605T183000
DTEND;TZID=America/New_York:20230605T200000
DTSTAMP:20260422T184059
CREATED:20230603T111540Z
LAST-MODIFIED:20230603T111540Z
UID:3197-1685989800-1685995200@stonehammemorialchurch.org
SUMMARY:Monday Night Fellowship
DESCRIPTION:Monday Night Fellowship
URL:https://stonehammemorialchurch.org/event/monday-night-fellowship-2/
LOCATION:Stoneham Memorial Church\, 29 MAPLE STREET\, STONEHAM\, MA\, 02180\, United States
END:VEVENT
BEGIN:VEVENT
DTSTART;TZID=America/New_York:20230604T100000
DTEND;TZID=America/New_York:20230604T120000
DTSTAMP:20260422T184059
CREATED:20230513T011740Z
LAST-MODIFIED:20230513T011740Z
UID:3173-1685872800-1685880000@stonehammemorialchurch.org
SUMMARY:Church Business Meeting
DESCRIPTION:Church Business Meeting 10am in the Fellowship Hall
URL:https://stonehammemorialchurch.org/event/church-business-meeting/
LOCATION:Stoneham Memorial Church\, 29 MAPLE STREET\, STONEHAM\, MA\, 02180\, United States
END:VEVENT
BEGIN:VEVENT
DTSTART;TZID=America/New_York:20230602T190000
DTEND;TZID=America/New_York:20230602T200000
DTSTAMP:20260422T184059
CREATED:20230527T003034Z
LAST-MODIFIED:20230527T003034Z
UID:3187-1685732400-1685736000@stonehammemorialchurch.org
SUMMARY:Vespers
DESCRIPTION:Vespers 7pm Study Exodus 29-36\, Share your testimony
URL:https://stonehammemorialchurch.org/event/vespers-4/
LOCATION:Stoneham Memorial Church\, 29 MAPLE STREET\, STONEHAM\, MA\, 02180\, United States
END:VEVENT
BEGIN:VEVENT
DTSTART;TZID=America/New_York:20230601T170000
DTEND;TZID=America/New_York:20230601T190000
DTSTAMP:20260422T184059
CREATED:20230513T011639Z
LAST-MODIFIED:20230527T002716Z
UID:3171-1685638800-1685646000@stonehammemorialchurch.org
SUMMARY:Farewell Celebration @GBA
DESCRIPTION:Farewell Celebration Honoring Dausele Vieira and Diane Maloney – 5pm at GBA\nBring a Vegi dish to share
URL:https://stonehammemorialchurch.org/event/farewell-celebration/
END:VEVENT
BEGIN:VEVENT
DTSTART;TZID=America/New_York:20230513T100000
DTEND;TZID=America/New_York:20230513T160000
DTSTAMP:20260422T184059
CREATED:20230429T010053Z
LAST-MODIFIED:20230429T010122Z
UID:3140-1683972000-1683993600@stonehammemorialchurch.org
SUMMARY:Worchester SDA Church w/Dr. Jennifer Jill Schwirzer
DESCRIPTION:Worcester SDA Church – Dr. Jennifer Jill Schwirzer speaks on mental health from a spiritual perspective. May 13\, 10 am – 4 pm\, with a potluck lunch at 12:30 pm  Worcester SDA Church\, 2 Airport Drive\, Worcester\, MA
URL:https://stonehammemorialchurch.org/event/worchester-sda-church-w-dr-jennifer-jill-schwirzer/
END:VEVENT
BEGIN:VEVENT
DTSTART;TZID=America/New_York:20230507T100000
DTEND;TZID=America/New_York:20230507T120000
DTSTAMP:20260422T184059
CREATED:20230429T005904Z
LAST-MODIFIED:20230429T005904Z
UID:3138-1683453600-1683460800@stonehammemorialchurch.org
SUMMARY:SNEC VBS Training
DESCRIPTION:The SNEC VBS Training – Sunday\, May 7th\, 2023 from 10 AM – 12 PM. At the College Church in South Lancaster\, MA.
URL:https://stonehammemorialchurch.org/event/snec-vbs-training/
END:VEVENT
BEGIN:VEVENT
DTSTART;TZID=America/New_York:20230506T140000
DTEND;TZID=America/New_York:20230506T170000
DTSTAMP:20260422T184059
CREATED:20230429T010603Z
LAST-MODIFIED:20230506T012053Z
UID:3144-1683381600-1683392400@stonehammemorialchurch.org
SUMMARY:Bird Watching w/Ed
DESCRIPTION:Bird Watching with Ed at Mt. Auburn\, after Fellowship Lunch\n580 Mt Auburn St. Cambridge\nBRING BINOCULARS!
URL:https://stonehammemorialchurch.org/event/bird-watching-w-ed/
END:VEVENT
BEGIN:VEVENT
DTSTART;TZID=America/New_York:20230505T190000
DTEND;TZID=America/New_York:20230505T200000
DTSTAMP:20260422T184059
CREATED:20230429T005625Z
LAST-MODIFIED:20230429T005625Z
UID:3136-1683313200-1683316800@stonehammemorialchurch.org
SUMMARY:Vespers - What's Amazing About God?
DESCRIPTION:Vespers – What’s Amazing About God?
URL:https://stonehammemorialchurch.org/event/vespers-whats-amazing-about-god/
LOCATION:Stoneham Memorial Church\, 29 MAPLE STREET\, STONEHAM\, MA\, 02180\, United States
END:VEVENT
BEGIN:VEVENT
DTSTART;TZID=America/New_York:20230501T183000
DTEND;TZID=America/New_York:20230501T193000
DTSTAMP:20260422T184059
CREATED:20230429T005346Z
LAST-MODIFIED:20230429T005346Z
UID:3134-1682965800-1682969400@stonehammemorialchurch.org
SUMMARY:Monday Night Fellowship
DESCRIPTION:Monday Night Fellowship @6:30 PM
URL:https://stonehammemorialchurch.org/event/monday-night-fellowship/
LOCATION:Stoneham Memorial Church\, 29 MAPLE STREET\, STONEHAM\, MA\, 02180\, United States
END:VEVENT
BEGIN:VEVENT
DTSTART;TZID=America/New_York:20230421T190000
DTEND;TZID=America/New_York:20230421T203000
DTSTAMP:20260422T184059
CREATED:20230415T010916Z
LAST-MODIFIED:20230415T010916Z
UID:3123-1682103600-1682109000@stonehammemorialchurch.org
SUMMARY:Spencerville Adventist Academy Band Concert
DESCRIPTION:Apr. 21 – 7pm\, Spencerville Adventist Academy will present a Band Concert of sacred\nmusic. Come\, bring a friend.
URL:https://stonehammemorialchurch.org/event/spencerville-adventist-academy-band-concert/
LOCATION:Stoneham Memorial Church\, 29 MAPLE STREET\, STONEHAM\, MA\, 02180\, United States
END:VEVENT
BEGIN:VEVENT
DTSTART;TZID=America/New_York:20230415T140000
DTEND;TZID=America/New_York:20230415T160000
DTSTAMP:20260422T184059
CREATED:20230401T013204Z
LAST-MODIFIED:20230401T013204Z
UID:3102-1681567200-1681574400@stonehammemorialchurch.org
SUMMARY:Ask A Doctor
DESCRIPTION:The Stoneham Memorial Church is hosting a series of “Ask A Doctor”\nsessions so you can get answers from physicians\, dentists\, nurse practitioners and other\nhealth professionals to curated questions received prior to the session. The first session\nwill be on Sabbath April 15 at 2:00pm. The featured topic will be: Cardiovascular Health.\nThe discussant will be: Dr. Kalon Ho\, cardiologist. Please submit your questions via this\nform https://tinyurl.com/SMCAskADoctor Please send in questions by April 8.
URL:https://stonehammemorialchurch.org/event/ask-a-doctor/
LOCATION:Stoneham Memorial Church\, 29 MAPLE STREET\, STONEHAM\, MA\, 02180\, United States
END:VEVENT
BEGIN:VEVENT
DTSTART;TZID=America/New_York:20230415T110000
DTEND;TZID=America/New_York:20230415T123000
DTSTAMP:20260422T184059
CREATED:20230401T012931Z
LAST-MODIFIED:20230401T012931Z
UID:3100-1681556400-1681561800@stonehammemorialchurch.org
SUMMARY:Adventist Frontier Missions
DESCRIPTION:John Baxter from Adventist Frontier Missions will be our speaker.
URL:https://stonehammemorialchurch.org/event/adventist-frontier-missions/
LOCATION:Stoneham Memorial Church\, 29 MAPLE STREET\, STONEHAM\, MA\, 02180\, United States
END:VEVENT
BEGIN:VEVENT
DTSTART;TZID=America/New_York:20230407T190000
DTEND;TZID=America/New_York:20230407T200000
DTSTAMP:20260422T184059
CREATED:20230401T012826Z
LAST-MODIFIED:20230401T012826Z
UID:3098-1680894000-1680897600@stonehammemorialchurch.org
SUMMARY:Vespers
DESCRIPTION:Vespers\, 7pm. “Never Stop Being Amazed About God”. Read Genesis 48-Exodus 4
URL:https://stonehammemorialchurch.org/event/vespers-3/
END:VEVENT
BEGIN:VEVENT
DTSTART;TZID=America/New_York:20230403T190000
DTEND;TZID=America/New_York:20230403T200000
DTSTAMP:20260422T184059
CREATED:20230401T012724Z
LAST-MODIFIED:20230401T012724Z
UID:3096-1680548400-1680552000@stonehammemorialchurch.org
SUMMARY:Monday Study Group
DESCRIPTION:Monday Study Group\, 7pm in the Fellowship Hall
URL:https://stonehammemorialchurch.org/event/monday-study-group/
LOCATION:Stoneham Memorial Church\, 29 MAPLE STREET\, STONEHAM\, MA\, 02180\, United States
END:VEVENT
BEGIN:VEVENT
DTSTART;TZID=America/New_York:20230402T110000
DTEND;TZID=America/New_York:20230402T150000
DTSTAMP:20260422T184059
CREATED:20230401T012623Z
LAST-MODIFIED:20230401T012623Z
UID:3094-1680433200-1680447600@stonehammemorialchurch.org
SUMMARY:Korean Food Festival
DESCRIPTION:Korean Food Festival\, fundraiser for Turkey Earthquake Relief\, Boston Korean\nSDA Church\, 4 Spring St.\, Stoneham\, 11am to 3pm.
URL:https://stonehammemorialchurch.org/event/korean-food-festival/
END:VEVENT
BEGIN:VEVENT
DTSTART;TZID=America/New_York:20230325T180000
DTEND;TZID=America/New_York:20230325T200000
DTSTAMP:20260422T184059
CREATED:20230311T011044Z
LAST-MODIFIED:20230311T011044Z
UID:3077-1679767200-1679774400@stonehammemorialchurch.org
SUMMARY:Spring Social
DESCRIPTION:Spring Social\, 6 pm in the Fellowship Hall. Haystacks on the menu\, if you would like to help with food\, please email Kathy Curtis – Mrsgcurt@msn.com
URL:https://stonehammemorialchurch.org/event/spring-social/
LOCATION:Stoneham Memorial Church\, 29 MAPLE STREET\, STONEHAM\, MA\, 02180\, United States
END:VEVENT
BEGIN:VEVENT
DTSTART;TZID=America/New_York:20230228T080000
DTEND;TZID=America/New_York:20230228T170000
DTSTAMP:20260422T184059
CREATED:20230204T003854Z
LAST-MODIFIED:20230204T003854Z
UID:3039-1677571200-1677603600@stonehammemorialchurch.org
SUMMARY:Church Board Meeting
DESCRIPTION:Church Board Meeting\, 6:30 pm in the Fellowship Hall.
URL:https://stonehammemorialchurch.org/event/church-board-meeting/
END:VEVENT
BEGIN:VEVENT
DTSTART;TZID=America/New_York:20230227T183000
DTEND;TZID=America/New_York:20230227T200000
DTSTAMP:20260422T184059
CREATED:20230204T003753Z
LAST-MODIFIED:20230204T003753Z
UID:3037-1677522600-1677528000@stonehammemorialchurch.org
SUMMARY:GBA Constituency Meeting
DESCRIPTION:GBA Constituency Meeting
URL:https://stonehammemorialchurch.org/event/gba-constituency-meeting-3/
END:VEVENT
BEGIN:VEVENT
DTSTART;TZID=America/New_York:20230212T090000
DTEND;TZID=America/New_York:20230212T120000
DTSTAMP:20260422T184059
CREATED:20230204T003551Z
LAST-MODIFIED:20230204T003551Z
UID:3035-1676192400-1676203200@stonehammemorialchurch.org
SUMMARY:Church Officers Training 2023
DESCRIPTION:2023 Church Officers Training\nVia Zoom \nSouthern New England Conference\nhttps://stonehammemorialchurch.us12.list-manage.com/track/click?u=e2904d8aca22490c99222022e&id=56c60f666f&e=4f86296858 \n 
URL:https://stonehammemorialchurch.org/event/church-officers-training-2023/
END:VEVENT
BEGIN:VEVENT
DTSTART;TZID=America/New_York:20230210T190000
DTEND;TZID=America/New_York:20230210T203000
DTSTAMP:20260422T184059
CREATED:20230204T002849Z
LAST-MODIFIED:20230204T002849Z
UID:3032-1676055600-1676061000@stonehammemorialchurch.org
SUMMARY:Vespers - Miracles of the Master
DESCRIPTION:Vespers\, 7 pm. Video- “Miracles of the Master”\, by Richard Stenvakken\, and Bible trivia based on Genesis 16-24.
URL:https://stonehammemorialchurch.org/event/vespers-miracles-of-the-master/
END:VEVENT
BEGIN:VEVENT
DTSTART;TZID=America/New_York:20230204T123000
DTEND;TZID=America/New_York:20230204T140000
DTSTAMP:20260422T184059
CREATED:20230204T002543Z
LAST-MODIFIED:20230204T002543Z
UID:3029-1675513800-1675519200@stonehammemorialchurch.org
SUMMARY:Fellowship Lunch
DESCRIPTION:Join your brothers and sisters in faith for a fellowship lunch after the church service.
URL:https://stonehammemorialchurch.org/event/fellowship-lunch-6/
LOCATION:Stoneham Memorial Church\, 29 MAPLE STREET\, STONEHAM\, MA\, 02180\, United States
END:VEVENT
BEGIN:VEVENT
DTSTART;TZID=America/New_York:20221029T110000
DTEND;TZID=America/New_York:20221029T130000
DTSTAMP:20260422T184059
CREATED:20220924T003256Z
LAST-MODIFIED:20220924T003256Z
UID:2903-1667041200-1667048400@stonehammemorialchurch.org
SUMMARY:Adventurer & Pathfinder Induction
DESCRIPTION:Adventurer & Pathfinder Induction
URL:https://stonehammemorialchurch.org/event/adventurer-pathfinder-induction/
END:VEVENT
END:VCALENDAR