BEGIN:VCALENDAR
VERSION:2.0
PRODID:-//Stoneham Memorial Church - ECPv6.15.20//NONSGML v1.0//EN
CALSCALE:GREGORIAN
METHOD:PUBLISH
X-WR-CALNAME:Stoneham Memorial Church
X-ORIGINAL-URL:https://stonehammemorialchurch.org
X-WR-CALDESC:Events for Stoneham Memorial Church
REFRESH-INTERVAL;VALUE=DURATION:PT1H
X-Robots-Tag:noindex
X-PUBLISHED-TTL:PT1H
BEGIN:VTIMEZONE
TZID:UTC
BEGIN:STANDARD
TZOFFSETFROM:+0000
TZOFFSETTO:+0000
TZNAME:UTC
DTSTART:20150101T000000
END:STANDARD
END:VTIMEZONE
BEGIN:VEVENT
DTSTART;TZID=UTC:20160720T190000
DTEND;TZID=UTC:20160720T200000
DTSTAMP:20260423T084102
CREATED:20160714T221607Z
LAST-MODIFIED:20160714T221607Z
UID:428-1469041200-1469044800@stonehammemorialchurch.org
SUMMARY:Bible Study
DESCRIPTION:
URL:https://stonehammemorialchurch.org/event/bible-study-2/
END:VEVENT
BEGIN:VEVENT
DTSTART;VALUE=DATE:20160716
DTEND;VALUE=DATE:20160717
DTSTAMP:20260423T084102
CREATED:20160707T173725Z
LAST-MODIFIED:20160707T173725Z
UID:418-1468627200-1468713599@stonehammemorialchurch.org
SUMMARY:Church-wide Fellowship
DESCRIPTION:
URL:https://stonehammemorialchurch.org/event/church-wide-fellowship/
END:VEVENT
BEGIN:VEVENT
DTSTART;TZID=UTC:20160713T190000
DTEND;TZID=UTC:20160713T200000
DTSTAMP:20260423T084102
CREATED:20160707T173433Z
LAST-MODIFIED:20160707T173801Z
UID:417-1468436400-1468440000@stonehammemorialchurch.org
SUMMARY:Bible Study
DESCRIPTION:
URL:https://stonehammemorialchurch.org/event/bible-study/
END:VEVENT
BEGIN:VEVENT
DTSTART;VALUE=DATE:20160531
DTEND;VALUE=DATE:20160601
DTSTAMP:20260423T084102
CREATED:20160529T231044Z
LAST-MODIFIED:20160529T231044Z
UID:410-1464652800-1464739199@stonehammemorialchurch.org
SUMMARY:Church Meeting
DESCRIPTION:This is a test event to see if the calendar functionality is working. Check check check\, text text\, cool.
URL:https://stonehammemorialchurch.org/event/church-meeting/
END:VEVENT
END:VCALENDAR