BEGIN:VCALENDAR
VERSION:2.0
PRODID:-//Stoneham Memorial Church - ECPv6.15.20//NONSGML v1.0//EN
CALSCALE:GREGORIAN
METHOD:PUBLISH
X-WR-CALNAME:Stoneham Memorial Church
X-ORIGINAL-URL:https://stonehammemorialchurch.org
X-WR-CALDESC:Events for Stoneham Memorial Church
REFRESH-INTERVAL;VALUE=DURATION:PT1H
X-Robots-Tag:noindex
X-PUBLISHED-TTL:PT1H
BEGIN:VTIMEZONE
TZID:America/New_York
BEGIN:DAYLIGHT
TZOFFSETFROM:-0500
TZOFFSETTO:-0400
TZNAME:EDT
DTSTART:20240310T070000
END:DAYLIGHT
BEGIN:STANDARD
TZOFFSETFROM:-0400
TZOFFSETTO:-0500
TZNAME:EST
DTSTART:20241103T060000
END:STANDARD
BEGIN:DAYLIGHT
TZOFFSETFROM:-0500
TZOFFSETTO:-0400
TZNAME:EDT
DTSTART:20250309T070000
END:DAYLIGHT
BEGIN:STANDARD
TZOFFSETFROM:-0400
TZOFFSETTO:-0500
TZNAME:EST
DTSTART:20251102T060000
END:STANDARD
BEGIN:DAYLIGHT
TZOFFSETFROM:-0500
TZOFFSETTO:-0400
TZNAME:EDT
DTSTART:20260308T070000
END:DAYLIGHT
BEGIN:STANDARD
TZOFFSETFROM:-0400
TZOFFSETTO:-0500
TZNAME:EST
DTSTART:20261101T060000
END:STANDARD
END:VTIMEZONE
BEGIN:VEVENT
DTSTART;TZID=America/New_York:20250919T180000
DTEND;TZID=America/New_York:20251004T190000
DTSTAMP:20260421T172903
CREATED:20250725T195744Z
LAST-MODIFIED:20250823T163439Z
UID:4040-1758304800-1759604400@stonehammemorialchurch.org
SUMMARY:Keys To Revelation: Unlocking The Mysteries
DESCRIPTION:Keys To Revelation: Unlocking The Mysteries\nLet’s unite as a Church family in His mission as we share the everlasting gospel. \nKeys to Revelation is an evangelistic series exploring the profound messages found in the book of Revelation. Join us in sharing these valuable truths with our communities by registering your church today. \nKeysToRevelation.com \n  \n 
URL:https://stonehammemorialchurch.org/event/evangelistic-series/
LOCATION:Stoneham Memorial Church\, 29 MAPLE STREET\, STONEHAM\, MA\, 02180\, United States
ATTACH;FMTTYPE=image/png:https://stonehammemorialchurch.org/wp-content/uploads/2025/08/KeysToRevelation.png
END:VEVENT
BEGIN:VEVENT
DTSTART;TZID=America/New_York:20250912T170000
DTEND;TZID=America/New_York:20250914T190000
DTSTAMP:20260421T172903
CREATED:20250906T005709Z
LAST-MODIFIED:20250906T005709Z
UID:4094-1757696400-1757876400@stonehammemorialchurch.org
SUMMARY:Life Ready Kids Seminar
DESCRIPTION:September 12-14: Chuck Hagele (Life Ready Kids)
URL:https://stonehammemorialchurch.org/event/life-ready-kids-seminar/
ATTACH;FMTTYPE=image/png:https://stonehammemorialchurch.org/wp-content/uploads/2025/09/LifeReadyKidsSeminar.png
END:VEVENT
BEGIN:VEVENT
DTSTART;TZID=America/New_York:20250831T050000
DTEND;TZID=America/New_York:20250831T210000
DTSTAMP:20260421T172903
CREATED:20250830T011325Z
LAST-MODIFIED:20250830T011325Z
UID:4084-1756616400-1756674000@stonehammemorialchurch.org
SUMMARY:Morning Prayer and Kayaking
DESCRIPTION:Morning Prayer and Kayaking at 4 Woodland Rd. Stoneham. \nFor more information or to register contact Lidya or Odeli
URL:https://stonehammemorialchurch.org/event/morning-prayer-and-kayaking/
ATTACH;FMTTYPE=image/jpeg:https://stonehammemorialchurch.org/wp-content/uploads/2025/08/MorningPrayerAug31.jpg
END:VEVENT
BEGIN:VEVENT
DTSTART;TZID=America/New_York:20250830T160000
DTEND;TZID=America/New_York:20250830T190000
DTSTAMP:20260421T172903
CREATED:20250830T010838Z
LAST-MODIFIED:20250830T011146Z
UID:4080-1756569600-1756580400@stonehammemorialchurch.org
SUMMARY:Chandler Hovey Park\, Marblehead\, MA
DESCRIPTION:Chandler Hovey Park\, \nLighthouse Ln\, Marblehead\, MA \nFor more information please contact Peter Connelly
URL:https://stonehammemorialchurch.org/event/chandler-hovey-park-marblehead-ma/
ATTACH;FMTTYPE=image/png:https://stonehammemorialchurch.org/wp-content/uploads/2025/08/ChandlerHoveyPark.png
END:VEVENT
BEGIN:VEVENT
DTSTART;TZID=America/New_York:20250822T190000
DTEND;TZID=America/New_York:20250822T200000
DTSTAMP:20260421T172903
CREATED:20250531T012807Z
LAST-MODIFIED:20250816T020435Z
UID:3964-1755889200-1755892800@stonehammemorialchurch.org
SUMMARY:Vespers
DESCRIPTION:Vespers – Be there for the Blessing
URL:https://stonehammemorialchurch.org/event/vespers-6/
LOCATION:Stoneham Memorial Church\, 29 MAPLE STREET\, STONEHAM\, MA\, 02180\, United States
END:VEVENT
BEGIN:VEVENT
DTSTART;TZID=America/New_York:20250822T080000
DTEND;TZID=America/New_York:20250824T170000
DTSTAMP:20260421T172903
CREATED:20250725T195541Z
LAST-MODIFIED:20250725T195541Z
UID:4036-1755849600-1756054800@stonehammemorialchurch.org
SUMMARY:Aimed for Success & Evangelism
DESCRIPTION:For ages 12-17 – “Aimed for Success & Evangelism” Venue – Camp Winnekeag
URL:https://stonehammemorialchurch.org/event/aimed-for-success-evangelism/
LOCATION:Camp Winnekeag\, 257 Ashby Rd\, Ashburnham\, MA\, United States
END:VEVENT
BEGIN:VEVENT
DTSTART;TZID=America/New_York:20250816T110000
DTEND;TZID=America/New_York:20250816T120000
DTSTAMP:20260421T172903
CREATED:20250725T195420Z
LAST-MODIFIED:20250725T195420Z
UID:4034-1755342000-1755345600@stonehammemorialchurch.org
SUMMARY:Food Pantry Volunteers “Thank You.”
DESCRIPTION:Food Pantry Volunteers “Thank You.”
URL:https://stonehammemorialchurch.org/event/food-pantry-volunteers-thank-you/
END:VEVENT
BEGIN:VEVENT
DTSTART;TZID=America/New_York:20250816T110000
DTEND;TZID=America/New_York:20250816T120000
DTSTAMP:20260421T172903
CREATED:20250531T013752Z
LAST-MODIFIED:20250531T013752Z
UID:3970-1755342000-1755345600@stonehammemorialchurch.org
SUMMARY:Volunteers "Thank you"
DESCRIPTION:Volunteers “Thank you”
URL:https://stonehammemorialchurch.org/event/volunteers-thank-you/
LOCATION:Stoneham Memorial Church\, 29 MAPLE STREET\, STONEHAM\, MA\, 02180\, United States
END:VEVENT
BEGIN:VEVENT
DTSTART;TZID=America/New_York:20250809T160000
DTEND;TZID=America/New_York:20250809T173000
DTSTAMP:20260421T172903
CREATED:20250725T195323Z
LAST-MODIFIED:20250725T195323Z
UID:4032-1754755200-1754760600@stonehammemorialchurch.org
SUMMARY:Memorial Service for John K. Hodson
DESCRIPTION:The memorial service for John K. Hodson will be held on Saturday at 4:00p.m. at the College Church.
URL:https://stonehammemorialchurch.org/event/memorial-service-for-john-k-hodson/
END:VEVENT
BEGIN:VEVENT
DTSTART;TZID=America/New_York:20250730T143000
DTEND;TZID=America/New_York:20250730T160000
DTSTAMP:20260421T172903
CREATED:20250725T195631Z
LAST-MODIFIED:20250725T195631Z
UID:4038-1753885800-1753891200@stonehammemorialchurch.org
SUMMARY:We Care Visiting Outreach
DESCRIPTION:We Care Visiting Outreach
URL:https://stonehammemorialchurch.org/event/we-care-visiting-outreach-3/
END:VEVENT
BEGIN:VEVENT
DTSTART;TZID=America/New_York:20250711T190000
DTEND;TZID=America/New_York:20250711T200000
DTSTAMP:20260421T172903
CREATED:20250705T002842Z
LAST-MODIFIED:20250705T002842Z
UID:4011-1752260400-1752264000@stonehammemorialchurch.org
SUMMARY:Vespers @GBA
DESCRIPTION:Vespers Held at GBA Campfire\, starting at 7.00pm.\nPlease bring light refreshments to share.
URL:https://stonehammemorialchurch.org/event/vespers-gba/
LOCATION:Greater Boston Academy\, 108 Pond St\, Stoneham\, MA\, 02180\, United States
END:VEVENT
BEGIN:VEVENT
DTSTART;TZID=America/New_York:20250706T100000
DTEND;TZID=America/New_York:20250706T150000
DTSTAMP:20260421T172903
CREATED:20250705T002723Z
LAST-MODIFIED:20250705T002723Z
UID:4009-1751796000-1751814000@stonehammemorialchurch.org
SUMMARY:Beach Day Out!
DESCRIPTION:Beach Day Out! – Tomorrow July 6:\nLet’s meet at Nahant Beach at 10.00am. A\nparking fee of $10.00 is required. For more\ndetails\, please contact Odeli
URL:https://stonehammemorialchurch.org/event/beach-day-out/
END:VEVENT
BEGIN:VEVENT
DTSTART;TZID=America/New_York:20250705T110000
DTEND;TZID=America/New_York:20250705T123000
DTSTAMP:20260421T172903
CREATED:20250627T213311Z
LAST-MODIFIED:20250627T213311Z
UID:3991-1751713200-1751718600@stonehammemorialchurch.org
SUMMARY:Communion Service
DESCRIPTION:Communion Service (NO Potluck Lunch after service)
URL:https://stonehammemorialchurch.org/event/communion-service-2/
LOCATION:Stoneham Memorial Church\, 29 MAPLE STREET\, STONEHAM\, MA\, 02180\, United States
END:VEVENT
BEGIN:VEVENT
DTSTART;TZID=America/New_York:20250628T090000
DTEND;TZID=America/New_York:20250628T210000
DTSTAMP:20260421T172903
CREATED:20250614T022724Z
LAST-MODIFIED:20250628T091646Z
UID:3986-1751101200-1751144400@stonehammemorialchurch.org
SUMMARY:CAMPMEETING LAST DAY
DESCRIPTION:Join us as we unite in mission across the Southern New England Conference to share the gospel with boldness and love. Pentecost 2025 is a call to revival\, outreach\, and Spirit-led impact in our communities. Explore resources\, events\, and ways to get involved. Let’s move forward \nhttps://www.sneconline.org/campmeeting2025 \n— Together In Mission
URL:https://stonehammemorialchurch.org/event/campmeeting-2/
LOCATION:Southern New England Conference\, 34 Sawyer St.\, South Lancaster\, MA\, 01561\, United States
ATTACH;FMTTYPE=image/png:https://stonehammemorialchurch.org/wp-content/uploads/2025/06/2025SNECCampMeeting.png
END:VEVENT
BEGIN:VEVENT
DTSTART;TZID=America/New_York:20250621T090000
DTEND;TZID=America/New_York:20250621T210000
DTSTAMP:20260421T172903
CREATED:20250614T022819Z
LAST-MODIFIED:20250614T022819Z
UID:3988-1750496400-1750539600@stonehammemorialchurch.org
SUMMARY:CAMPMEETING
DESCRIPTION:Join us as we unite in mission across the Southern New England Conference to share the gospel with boldness and love. Pentecost 2025 is a call to revival\, outreach\, and Spirit-led impact in our communities. Explore resources\, events\, and ways to get involved. Let’s move forward \nhttps://www.sneconline.org/campmeeting2025 \n— Together In Mission
URL:https://stonehammemorialchurch.org/event/campmeeting-3/
LOCATION:Southern New England Conference\, 34 Sawyer St.\, South Lancaster\, MA\, 01561\, United States
ATTACH;FMTTYPE=image/png:https://stonehammemorialchurch.org/wp-content/uploads/2025/06/2025SNECCampMeeting.png
END:VEVENT
BEGIN:VEVENT
DTSTART;TZID=America/New_York:20250607T143000
DTEND;TZID=America/New_York:20250607T153000
DTSTAMP:20260421T172903
CREATED:20250531T013632Z
LAST-MODIFIED:20250531T013632Z
UID:3968-1749306600-1749310200@stonehammemorialchurch.org
SUMMARY:We Care Visiting Outreach
DESCRIPTION:We Care Visiting Outreach at Stoneham Memorial Church
URL:https://stonehammemorialchurch.org/event/we-care-visiting-outreach-2/
LOCATION:Stoneham Memorial Church\, 29 MAPLE STREET\, STONEHAM\, MA\, 02180\, United States
END:VEVENT
BEGIN:VEVENT
DTSTART;TZID=America/New_York:20250605T180000
DTEND;TZID=America/New_York:20250605T190000
DTSTAMP:20260421T172903
CREATED:20250531T012915Z
LAST-MODIFIED:20250531T012915Z
UID:3966-1749146400-1749150000@stonehammemorialchurch.org
SUMMARY:GBA Graduation
DESCRIPTION:GBA Graduation
URL:https://stonehammemorialchurch.org/event/gba-graduation/
LOCATION:Greater Boston Academy\, 108 Pond St\, Stoneham\, MA\, 02180\, United States
END:VEVENT
BEGIN:VEVENT
DTSTART;TZID=America/New_York:20250602T183000
DTEND;TZID=America/New_York:20250602T183000
DTSTAMP:20260421T172903
CREATED:20250301T162216Z
LAST-MODIFIED:20250531T012637Z
UID:3828-1748889000-1748889000@stonehammemorialchurch.org
SUMMARY:Soup With Jesus – 6:30pm in the Fellowship Hall
DESCRIPTION:Soup With Jesus – 6:30pm in the Fellowship Hall
URL:https://stonehammemorialchurch.org/event/soup-with-jesus-630pm-in-the-fellowship-hall/
LOCATION:Stoneham Memorial Church\, 29 MAPLE STREET\, STONEHAM\, MA\, 02180\, United States
END:VEVENT
BEGIN:VEVENT
DTSTART;TZID=America/New_York:20250517T153000
DTEND;TZID=America/New_York:20250517T170000
DTSTAMP:20260421T172903
CREATED:20250510T012722Z
LAST-MODIFIED:20250511T113716Z
UID:3938-1747495800-1747501200@stonehammemorialchurch.org
SUMMARY:Streams of Light Mission Training (Dorchester)
DESCRIPTION:Streams of Light Mission Training \n366 Washington St.\nDorchester\, MA
URL:https://stonehammemorialchurch.org/event/streams-of-light-mission-training-dorchester/
END:VEVENT
BEGIN:VEVENT
DTSTART;TZID=America/New_York:20250510T143000
DTEND;TZID=America/New_York:20250510T153000
DTSTAMP:20260421T172903
CREATED:20250510T012554Z
LAST-MODIFIED:20250510T012554Z
UID:3936-1746887400-1746891000@stonehammemorialchurch.org
SUMMARY:We Care Visiting Outreach
DESCRIPTION:We Care Visiting Outreach
URL:https://stonehammemorialchurch.org/event/we-care-visiting-outreach/
LOCATION:Stoneham Memorial Church\, 29 MAPLE STREET\, STONEHAM\, MA\, 02180\, United States
END:VEVENT
BEGIN:VEVENT
DTSTART;TZID=America/New_York:20250504T080000
DTEND;TZID=America/New_York:20250504T120000
DTSTAMP:20260421T172903
CREATED:20250502T212148Z
LAST-MODIFIED:20250502T212148Z
UID:3918-1746345600-1746360000@stonehammemorialchurch.org
SUMMARY:Walk for Hunger
DESCRIPTION:Are you going to walk for the hungry? Join us Sunday May 4\, on Boston Common\, 139 Tremont St. Boston\, 8am – 12noon. Parking is limited so carpooling or taking the train is encouraged.
URL:https://stonehammemorialchurch.org/event/walk-for-hunger/
END:VEVENT
BEGIN:VEVENT
DTSTART;TZID=America/New_York:20250503T123000
DTEND;TZID=America/New_York:20250503T133000
DTSTAMP:20260421T172903
CREATED:20250502T212303Z
LAST-MODIFIED:20250502T212303Z
UID:3920-1746275400-1746279000@stonehammemorialchurch.org
SUMMARY:Fellowship Potluck Lunch
DESCRIPTION:Fellowship Potluck Lunch after worship service.
URL:https://stonehammemorialchurch.org/event/fellowship-potluck-lunch/
LOCATION:Stoneham Memorial Church\, 29 MAPLE STREET\, STONEHAM\, MA\, 02180\, United States
END:VEVENT
BEGIN:VEVENT
DTSTART;TZID=America/New_York:20250422T180000
DTEND;TZID=America/New_York:20250422T193000
DTSTAMP:20260421T172903
CREATED:20250414T001254Z
LAST-MODIFIED:20250414T014331Z
UID:3901-1745344800-1745350200@stonehammemorialchurch.org
SUMMARY:Bible Study with Dr. Bertrand Pryce
DESCRIPTION:Bible Study with Dr. Bertrand Pryce every other Tuesday @6 PM
URL:https://stonehammemorialchurch.org/event/bible-study-with-dr-pryce/
LOCATION:Stoneham Memorial Church\, 29 MAPLE STREET\, STONEHAM\, MA\, 02180\, United States
ATTACH;FMTTYPE=image/png:https://stonehammemorialchurch.org/wp-content/uploads/2025/04/BibleStudy.png
END:VEVENT
BEGIN:VEVENT
DTSTART;TZID=America/New_York:20250419T123000
DTEND;TZID=America/New_York:20250419T140000
DTSTAMP:20260421T172903
CREATED:20250411T213332Z
LAST-MODIFIED:20250411T220428Z
UID:3898-1745065800-1745071200@stonehammemorialchurch.org
SUMMARY:The Healthy Living Challenge
DESCRIPTION:The Healthy Living Challenge was rescheduled for April 19\, immediately after the morning church service.
URL:https://stonehammemorialchurch.org/event/the-healthy-living-challenge/
LOCATION:Stoneham Memorial Church\, 29 MAPLE STREET\, STONEHAM\, MA\, 02180\, United States
END:VEVENT
BEGIN:VEVENT
DTSTART;TZID=America/New_York:20250405T160000
DTEND;TZID=America/New_York:20250405T180000
DTSTAMP:20260421T172903
CREATED:20250404T203217Z
LAST-MODIFIED:20250404T203246Z
UID:3880-1743868800-1743876000@stonehammemorialchurch.org
SUMMARY:Celebrating the Life of Lois Eunice Henderson
DESCRIPTION:Celebrating the Life of Lois Eunice Henderson \nJanuary 8\, 1935 – January 23\, 2025 \nSaturday\, April 5 at 4:00 PM \nhttps://bit.ly/LoisHendersonYouTube
URL:https://stonehammemorialchurch.org/event/celebrating-the-life-of-lois-eunice-henderson/
LOCATION:Stoneham Memorial Church\, 29 MAPLE STREET\, STONEHAM\, MA\, 02180\, United States
ATTACH;FMTTYPE=image/jpeg:https://stonehammemorialchurch.org/wp-content/uploads/2025/04/LoisHandersonLifeCelebration.jpg
END:VEVENT
BEGIN:VEVENT
DTSTART;TZID=America/New_York:20250405T110000
DTEND;TZID=America/New_York:20250405T140000
DTSTAMP:20260421T172903
CREATED:20250329T005303Z
LAST-MODIFIED:20250329T005303Z
UID:3873-1743850800-1743861600@stonehammemorialchurch.org
SUMMARY:Stoneham Health & Wellness Fair
DESCRIPTION:On April 5\, the Stoneham Health and Wellness Fair takes place at the Stoneham Town Hall from 11am to 2pm.  We will have a booth there\, where we will be doing the Health Age Screen\, checking blood pressures and distributing literature.
URL:https://stonehammemorialchurch.org/event/stoneham-health-wellness-fair/
LOCATION:STONEHAM TOWN HALL\, 35 CENTRAL ST.\, STOENHAM\, MA\, 02180\, United States
END:VEVENT
BEGIN:VEVENT
DTSTART;TZID=America/New_York:20250404T080000
DTEND;TZID=America/New_York:20250406T170000
DTSTAMP:20260421T172903
CREATED:20250301T164311Z
LAST-MODIFIED:20250301T164852Z
UID:3834-1743753600-1743958800@stonehammemorialchurch.org
SUMMARY:Spring Spiritual Revival Retreat
DESCRIPTION:Daring to Ask for More \nKeynote speaker: Melody Mason – Coordinator of “Back to the Altar” Discipleship Training Program General Conference \nYouth Theme: Reroute\, Rewire\, Renew \nKeynote speaker: Pastor Omar Rodriguez – Washington Conference \nThere will also  be a children’s program
URL:https://stonehammemorialchurch.org/event/spring-spiritual-revival-retreat/
LOCATION:Camp Winnekeag\, 257 Ashby Rd\, Ashburnham\, MA\, United States
ATTACH;FMTTYPE=image/png:https://stonehammemorialchurch.org/wp-content/uploads/2025/03/Spring2025Revival.png
END:VEVENT
BEGIN:VEVENT
DTSTART;TZID=America/New_York:20250322T110000
DTEND;TZID=America/New_York:20250322T123000
DTSTAMP:20260421T172903
CREATED:20250316T030528Z
LAST-MODIFIED:20250316T030528Z
UID:3858-1742641200-1742646600@stonehammemorialchurch.org
SUMMARY:Communion Service
DESCRIPTION:Communion Service
URL:https://stonehammemorialchurch.org/event/communion-service/
LOCATION:Stoneham Memorial Church\, 29 MAPLE STREET\, STONEHAM\, MA\, 02180\, United States
END:VEVENT
BEGIN:VEVENT
DTSTART;TZID=America/New_York:20250315T140000
DTEND;TZID=America/New_York:20250315T153000
DTSTAMP:20260421T172903
CREATED:20250222T004935Z
LAST-MODIFIED:20250222T004935Z
UID:3810-1742047200-1742052600@stonehammemorialchurch.org
SUMMARY:Ask a Doctor Series - Cherie Asgeirsson\, Registered Dietitian
DESCRIPTION:SMC: Ask A Doctor Series\n\nThe Stoneham Memorial Church is hosting a series of “Ask A Doctor” sessions so you can get answers from physicians\, dentists\, nurse practitioners and other health professionals to curated questions received prior to the session. Please use this form to submit your question by Tuesday\, March 11 via https://tinyurl.com/SMCAskADoctoror\n\nThe next scheduled session is on: Saturday\, March 15 at 2 pm\n \nThe featured topic will be: Eating for Better Health\nThe discussant will be: Cherie Asgeirsson\, Registered Dietician/Nutritionist
URL:https://stonehammemorialchurch.org/event/ask-a-doctor-series-cherie-asgeirsson-registered-dietitian/
LOCATION:Stoneham Memorial Church\, 29 MAPLE STREET\, STONEHAM\, MA\, 02180\, United States
END:VEVENT
BEGIN:VEVENT
DTSTART;TZID=America/New_York:20250301T150000
DTEND;TZID=America/New_York:20250301T163000
DTSTAMP:20260421T172903
CREATED:20250301T162022Z
LAST-MODIFIED:20250301T162022Z
UID:3826-1740841200-1740846600@stonehammemorialchurch.org
SUMMARY:Afternoon Training Program
DESCRIPTION:Afternoon Training Program for Impact Boston and Pentecost 2025
URL:https://stonehammemorialchurch.org/event/afternoon-training-program-2/
LOCATION:Stoneham Memorial Church\, 29 MAPLE STREET\, STONEHAM\, MA\, 02180\, United States
END:VEVENT
END:VCALENDAR