BEGIN:VCALENDAR
VERSION:2.0
PRODID:-//Stoneham Memorial Church - ECPv6.15.20//NONSGML v1.0//EN
CALSCALE:GREGORIAN
METHOD:PUBLISH
X-WR-CALNAME:Stoneham Memorial Church
X-ORIGINAL-URL:https://stonehammemorialchurch.org
X-WR-CALDESC:Events for Stoneham Memorial Church
REFRESH-INTERVAL;VALUE=DURATION:PT1H
X-Robots-Tag:noindex
X-PUBLISHED-TTL:PT1H
BEGIN:VTIMEZONE
TZID:UTC
BEGIN:STANDARD
TZOFFSETFROM:+0000
TZOFFSETTO:+0000
TZNAME:UTC
DTSTART:20150101T000000
END:STANDARD
END:VTIMEZONE
BEGIN:VEVENT
DTSTART;TZID=UTC:20161008T191500
DTEND;TZID=UTC:20161008T203000
DTSTAMP:20260423T055708
CREATED:20161008T000229Z
LAST-MODIFIED:20161008T000756Z
UID:727-1475954100-1475958600@stonehammemorialchurch.org
SUMMARY:REVELATION TODAY - Signs
DESCRIPTION:
URL:https://stonehammemorialchurch.org/event/revelation-today-signs/
LOCATION:STONEHAM TOWN HALL\, 35 CENTRAL ST.\, STOENHAM\, MA\, 02180\, United States
END:VEVENT
BEGIN:VEVENT
DTSTART;TZID=UTC:20161007T191500
DTEND;TZID=UTC:20161007T203000
DTSTAMP:20260423T055708
CREATED:20161003T174732Z
LAST-MODIFIED:20161008T000739Z
UID:721-1475867700-1475872200@stonehammemorialchurch.org
SUMMARY:REVELATION TODAY - Daniel 2
DESCRIPTION:Opening Night for adults and children!
URL:https://stonehammemorialchurch.org/event/revelation-today/
LOCATION:STONEHAM TOWN HALL\, 35 CENTRAL ST.\, STOENHAM\, MA\, 02180\, United States
ATTACH;FMTTYPE=image/jpeg:https://stonehammemorialchurch.org/wp-content/uploads/2016/10/revelation-today.jpg
END:VEVENT
BEGIN:VEVENT
DTSTART;TZID=UTC:20160917T110000
DTEND;TZID=UTC:20160917T160000
DTSTAMP:20260423T055708
CREATED:20160714T224453Z
LAST-MODIFIED:20160818T202113Z
UID:442-1474110000-1474128000@stonehammemorialchurch.org
SUMMARY:Stoneham Town Day
DESCRIPTION:Our “Take It To Heart” van will offer Free “Health Age” screening and Blood Pressure checks at the 33rd Annual Stoneham Town Day. \n  \n\nRAIN DATE on SUNDAY\, SEPTEMBER 18
URL:https://stonehammemorialchurch.org/event/33rd-annual-stoneham-town-day/
LOCATION:Stoneham Town Common\, Main Street \, Stoneham\, MA\, 02180\, United States
ATTACH;FMTTYPE=image/jpeg:https://stonehammemorialchurch.org/wp-content/uploads/2016/07/Town-Day-logo1-150x150.jpg
END:VEVENT
BEGIN:VEVENT
DTSTART;VALUE=DATE:20160917
DTEND;VALUE=DATE:20160918
DTSTAMP:20260423T055708
CREATED:20160714T222035Z
LAST-MODIFIED:20160714T222035Z
UID:434-1474070400-1474156799@stonehammemorialchurch.org
SUMMARY:Church-wide Fellowship
DESCRIPTION:
URL:https://stonehammemorialchurch.org/event/church-wide-fellowship-5/
LOCATION:MA
END:VEVENT
BEGIN:VEVENT
DTSTART;VALUE=DATE:20160910
DTEND;VALUE=DATE:20160911
DTSTAMP:20260423T055708
CREATED:20160714T221422Z
LAST-MODIFIED:20160714T221422Z
UID:427-1473465600-1473551999@stonehammemorialchurch.org
SUMMARY:Cliff Island
DESCRIPTION:
URL:https://stonehammemorialchurch.org/event/cliff-island/
LOCATION:MA
END:VEVENT
BEGIN:VEVENT
DTSTART;VALUE=DATE:20160903
DTEND;VALUE=DATE:20160904
DTSTAMP:20260423T055708
CREATED:20160714T221952Z
LAST-MODIFIED:20160714T221952Z
UID:433-1472860800-1472947199@stonehammemorialchurch.org
SUMMARY:Church-wide Fellowship
DESCRIPTION:
URL:https://stonehammemorialchurch.org/event/church-wide-fellowship-4/
LOCATION:MA
END:VEVENT
BEGIN:VEVENT
DTSTART;TZID=UTC:20160831T190000
DTEND;TZID=UTC:20160831T200000
DTSTAMP:20260423T055708
CREATED:20160714T222402Z
LAST-MODIFIED:20160714T222402Z
UID:439-1472670000-1472673600@stonehammemorialchurch.org
SUMMARY:Bible Study
DESCRIPTION:
URL:https://stonehammemorialchurch.org/event/bible-study-8/
LOCATION:MA
END:VEVENT
BEGIN:VEVENT
DTSTART;TZID=UTC:20160824T190000
DTEND;TZID=UTC:20160824T200000
DTSTAMP:20260423T055708
CREATED:20160714T222342Z
LAST-MODIFIED:20160714T222342Z
UID:438-1472065200-1472068800@stonehammemorialchurch.org
SUMMARY:Bible Study
DESCRIPTION:
URL:https://stonehammemorialchurch.org/event/bible-study-7/
LOCATION:MA
END:VEVENT
BEGIN:VEVENT
DTSTART;VALUE=DATE:20160820
DTEND;VALUE=DATE:20160821
DTSTAMP:20260423T055708
CREATED:20160714T221917Z
LAST-MODIFIED:20160714T221917Z
UID:432-1471651200-1471737599@stonehammemorialchurch.org
SUMMARY:Church-wide Fellowship
DESCRIPTION:
URL:https://stonehammemorialchurch.org/event/church-wide-fellowship-3/
LOCATION:MA
END:VEVENT
BEGIN:VEVENT
DTSTART;TZID=UTC:20160819T190000
DTEND;TZID=UTC:20160819T210000
DTSTAMP:20260423T055708
CREATED:20160818T195050Z
LAST-MODIFIED:20160818T195139Z
UID:532-1471633200-1471640400@stonehammemorialchurch.org
SUMMARY:Solid Rock Cafe
DESCRIPTION:Come join us for food\, fellowship\, worship & praise this Friday @ 7:00 pm in the Fellowship Hall.
URL:https://stonehammemorialchurch.org/event/solid-rock-cafe/
LOCATION:MA
ATTACH;FMTTYPE=image/jpeg:https://stonehammemorialchurch.org/wp-content/uploads/2016/03/solid-rock.jpg
END:VEVENT
BEGIN:VEVENT
DTSTART;TZID=UTC:20160817T190000
DTEND;TZID=UTC:20160817T200000
DTSTAMP:20260423T055708
CREATED:20160714T222321Z
LAST-MODIFIED:20160714T222321Z
UID:437-1471460400-1471464000@stonehammemorialchurch.org
SUMMARY:Bible Study
DESCRIPTION:
URL:https://stonehammemorialchurch.org/event/bible-study-6/
LOCATION:MA
END:VEVENT
BEGIN:VEVENT
DTSTART;TZID=UTC:20160813T160000
DTEND;TZID=UTC:20160813T200000
DTSTAMP:20260423T055708
CREATED:20160818T195422Z
LAST-MODIFIED:20160818T195422Z
UID:533-1471104000-1471118400@stonehammemorialchurch.org
SUMMARY:Chandler Hovey - Vesper
DESCRIPTION:Plan to join in us this afternoon AT 4:00 PM at Chandler Hovey Park in Marblehead\, MA
URL:https://stonehammemorialchurch.org/event/chandler-hovey-vesper/
LOCATION:MA
END:VEVENT
BEGIN:VEVENT
DTSTART;TZID=UTC:20160810T190000
DTEND;TZID=UTC:20160810T200000
DTSTAMP:20260423T055708
CREATED:20160714T222242Z
LAST-MODIFIED:20160714T222242Z
UID:436-1470855600-1470859200@stonehammemorialchurch.org
SUMMARY:Bible Study
DESCRIPTION:
URL:https://stonehammemorialchurch.org/event/bible-study-5/
LOCATION:MA
END:VEVENT
BEGIN:VEVENT
DTSTART;VALUE=DATE:20160806
DTEND;VALUE=DATE:20160807
DTSTAMP:20260423T055708
CREATED:20160714T221900Z
LAST-MODIFIED:20160714T221900Z
UID:431-1470441600-1470527999@stonehammemorialchurch.org
SUMMARY:Church-wide Fellowship
DESCRIPTION:
URL:https://stonehammemorialchurch.org/event/church-wide-fellowship-2/
LOCATION:MA
END:VEVENT
BEGIN:VEVENT
DTSTART;TZID=UTC:20160803T190000
DTEND;TZID=UTC:20160803T200000
DTSTAMP:20260423T055708
CREATED:20160714T222115Z
LAST-MODIFIED:20160714T222115Z
UID:435-1470250800-1470254400@stonehammemorialchurch.org
SUMMARY:Bible Study
DESCRIPTION:
URL:https://stonehammemorialchurch.org/event/bible-study-4/
LOCATION:MA
END:VEVENT
BEGIN:VEVENT
DTSTART;TZID=UTC:20160727T190000
DTEND;TZID=UTC:20160727T200000
DTSTAMP:20260423T055708
CREATED:20160714T221642Z
LAST-MODIFIED:20160714T221642Z
UID:429-1469646000-1469649600@stonehammemorialchurch.org
SUMMARY:Bible Study
DESCRIPTION:
URL:https://stonehammemorialchurch.org/event/bible-study-3/
LOCATION:MA
END:VEVENT
BEGIN:VEVENT
DTSTART;TZID=UTC:20160720T190000
DTEND;TZID=UTC:20160720T200000
DTSTAMP:20260423T055708
CREATED:20160714T221607Z
LAST-MODIFIED:20160714T221607Z
UID:428-1469041200-1469044800@stonehammemorialchurch.org
SUMMARY:Bible Study
DESCRIPTION:
URL:https://stonehammemorialchurch.org/event/bible-study-2/
LOCATION:MA
END:VEVENT
BEGIN:VEVENT
DTSTART;VALUE=DATE:20160716
DTEND;VALUE=DATE:20160717
DTSTAMP:20260423T055708
CREATED:20160707T173725Z
LAST-MODIFIED:20160707T173725Z
UID:418-1468627200-1468713599@stonehammemorialchurch.org
SUMMARY:Church-wide Fellowship
DESCRIPTION:
URL:https://stonehammemorialchurch.org/event/church-wide-fellowship/
LOCATION:MA
END:VEVENT
BEGIN:VEVENT
DTSTART;TZID=UTC:20160713T190000
DTEND;TZID=UTC:20160713T200000
DTSTAMP:20260423T055708
CREATED:20160707T173433Z
LAST-MODIFIED:20160707T173801Z
UID:417-1468436400-1468440000@stonehammemorialchurch.org
SUMMARY:Bible Study
DESCRIPTION:
URL:https://stonehammemorialchurch.org/event/bible-study/
LOCATION:MA
END:VEVENT
BEGIN:VEVENT
DTSTART;VALUE=DATE:20160531
DTEND;VALUE=DATE:20160601
DTSTAMP:20260423T055708
CREATED:20160529T231044Z
LAST-MODIFIED:20160529T231044Z
UID:410-1464652800-1464739199@stonehammemorialchurch.org
SUMMARY:Church Meeting
DESCRIPTION:This is a test event to see if the calendar functionality is working. Check check check\, text text\, cool.
URL:https://stonehammemorialchurch.org/event/church-meeting/
LOCATION:MA
END:VEVENT
END:VCALENDAR