BEGIN:VCALENDAR
VERSION:2.0
PRODID:-//Stoneham Memorial Church - ECPv6.15.20//NONSGML v1.0//EN
CALSCALE:GREGORIAN
METHOD:PUBLISH
X-WR-CALNAME:Stoneham Memorial Church
X-ORIGINAL-URL:https://stonehammemorialchurch.org
X-WR-CALDESC:Events for Stoneham Memorial Church
REFRESH-INTERVAL;VALUE=DURATION:PT1H
X-Robots-Tag:noindex
X-PUBLISHED-TTL:PT1H
BEGIN:VTIMEZONE
TZID:UTC
BEGIN:STANDARD
TZOFFSETFROM:+0000
TZOFFSETTO:+0000
TZNAME:UTC
DTSTART:20150101T000000
END:STANDARD
END:VTIMEZONE
BEGIN:VEVENT
DTSTART;TZID=UTC:20170111T190000
DTEND;TZID=UTC:20170111T200000
DTSTAMP:20260423T065215
CREATED:20170106T191356Z
LAST-MODIFIED:20170106T191356Z
UID:860-1484161200-1484164800@stonehammemorialchurch.org
SUMMARY:MOVIE "WAR ROOM"
DESCRIPTION:
URL:https://stonehammemorialchurch.org/event/movie-war-room/
LOCATION:Stoneham Memorial Church\, 29 MAPLE STREET\, STONEHAM\, MA\, 02180\, United States
ATTACH;FMTTYPE=image/jpeg:https://stonehammemorialchurch.org/wp-content/uploads/2017/01/fb_main.jpg
END:VEVENT
BEGIN:VEVENT
DTSTART;TZID=UTC:20170110T190000
DTEND;TZID=UTC:20170110T200000
DTSTAMP:20260423T065215
CREATED:20161229T214355Z
LAST-MODIFIED:20161229T214355Z
UID:834-1484074800-1484078400@stonehammemorialchurch.org
SUMMARY:10 DAYS OF PRAYER
DESCRIPTION:Join us as we start this New Year with 10 Days of Prayer. \nWe will be reading “One Miracle After Another” the Pavel Goia story. \ne-book version available at AdventistBookCenter.com \nhttp://www.adventistbookcenter.com/one-miracle-after-another.html \nor Amazon/Kindle: \nhttps://www.amazon.com/Miracle-After-Another-Gregg-Budd-ebook/dp/B003KK57GE \nWe will have some paperback version available for $14.00.
URL:https://stonehammemorialchurch.org/event/10-days-of-prayer-10/
LOCATION:Stoneham Memorial Church\, 29 MAPLE STREET\, STONEHAM\, MA\, 02180\, United States
ATTACH;FMTTYPE=image/jpeg:https://stonehammemorialchurch.org/wp-content/uploads/2016/12/IMG_9673.jpg
END:VEVENT
BEGIN:VEVENT
DTSTART;TZID=UTC:20170109T190000
DTEND;TZID=UTC:20170109T200000
DTSTAMP:20260423T065215
CREATED:20161229T214313Z
LAST-MODIFIED:20161229T214313Z
UID:833-1483988400-1483992000@stonehammemorialchurch.org
SUMMARY:10 DAYS OF PRAYER
DESCRIPTION:Join us as we start this New Year with 10 Days of Prayer. \nWe will be reading “One Miracle After Another” the Pavel Goia story. \ne-book version available at AdventistBookCenter.com \nhttp://www.adventistbookcenter.com/one-miracle-after-another.html \nor Amazon/Kindle: \nhttps://www.amazon.com/Miracle-After-Another-Gregg-Budd-ebook/dp/B003KK57GE \nWe will have some paperback version available for $14.00.
URL:https://stonehammemorialchurch.org/event/10-days-of-prayer-9/
LOCATION:Stoneham Memorial Church\, 29 MAPLE STREET\, STONEHAM\, MA\, 02180\, United States
ATTACH;FMTTYPE=image/jpeg:https://stonehammemorialchurch.org/wp-content/uploads/2016/12/IMG_9673.jpg
END:VEVENT
BEGIN:VEVENT
DTSTART;TZID=UTC:20170108T190000
DTEND;TZID=UTC:20170108T200000
DTSTAMP:20260423T065215
CREATED:20161229T214231Z
LAST-MODIFIED:20161229T214231Z
UID:832-1483902000-1483905600@stonehammemorialchurch.org
SUMMARY:10 DAYS OF PRAYER
DESCRIPTION:Join us as we start this New Year with 10 Days of Prayer. \nWe will be reading “One Miracle After Another” the Pavel Goia story. \ne-book version available at AdventistBookCenter.com \nhttp://www.adventistbookcenter.com/one-miracle-after-another.html \nor Amazon/Kindle: \nhttps://www.amazon.com/Miracle-After-Another-Gregg-Budd-ebook/dp/B003KK57GE \nWe will have some paperback version available for $14.00.
URL:https://stonehammemorialchurch.org/event/10-days-of-prayer-8/
LOCATION:Stoneham Memorial Church\, 29 MAPLE STREET\, STONEHAM\, MA\, 02180\, United States
ATTACH;FMTTYPE=image/jpeg:https://stonehammemorialchurch.org/wp-content/uploads/2016/12/IMG_9673.jpg
END:VEVENT
BEGIN:VEVENT
DTSTART;TZID=UTC:20170107T190000
DTEND;TZID=UTC:20170107T200000
DTSTAMP:20260423T065215
CREATED:20161229T213816Z
LAST-MODIFIED:20161229T214132Z
UID:827-1483815600-1483819200@stonehammemorialchurch.org
SUMMARY:10 DAYS OF PRAYER
DESCRIPTION:Join us as we start this New Year with 10 Days of Prayer. \nWe will be reading “One Miracle After Another” the Pavel Goia story. \ne-book version available at AdventistBookCenter.com \nhttp://www.adventistbookcenter.com/one-miracle-after-another.html \nor Amazon/Kindle: \nhttps://www.amazon.com/Miracle-After-Another-Gregg-Budd-ebook/dp/B003KK57GE \nWe will have some paperback version available for $14.00.
URL:https://stonehammemorialchurch.org/event/10-days-of-prayer-4/
LOCATION:Stoneham Memorial Church\, 29 MAPLE STREET\, STONEHAM\, MA\, 02180\, United States
ATTACH;FMTTYPE=image/jpeg:https://stonehammemorialchurch.org/wp-content/uploads/2016/12/IMG_9673.jpg
END:VEVENT
BEGIN:VEVENT
DTSTART;TZID=UTC:20170106T190000
DTEND;TZID=UTC:20170106T200000
DTSTAMP:20260423T065215
CREATED:20161229T214036Z
LAST-MODIFIED:20161229T214036Z
UID:830-1483729200-1483732800@stonehammemorialchurch.org
SUMMARY:10 DAYS OF PRAYER
DESCRIPTION:Join us as we start this New Year with 10 Days of Prayer. \nWe will be reading “One Miracle After Another” the Pavel Goia story. \ne-book version available at AdventistBookCenter.com \nhttp://www.adventistbookcenter.com/one-miracle-after-another.html \nor Amazon/Kindle: \nhttps://www.amazon.com/Miracle-After-Another-Gregg-Budd-ebook/dp/B003KK57GE \nWe will have some paperback version available for $14.00.
URL:https://stonehammemorialchurch.org/event/10-days-of-prayer-7/
LOCATION:Stoneham Memorial Church\, 29 MAPLE STREET\, STONEHAM\, MA\, 02180\, United States
ATTACH;FMTTYPE=image/jpeg:https://stonehammemorialchurch.org/wp-content/uploads/2016/12/IMG_9673.jpg
END:VEVENT
BEGIN:VEVENT
DTSTART;TZID=UTC:20170105T190000
DTEND;TZID=UTC:20170105T200000
DTSTAMP:20260423T065215
CREATED:20161229T213956Z
LAST-MODIFIED:20161229T213956Z
UID:829-1483642800-1483646400@stonehammemorialchurch.org
SUMMARY:10 DAYS OF PRAYER
DESCRIPTION:Join us as we start this New Year with 10 Days of Prayer. \nWe will be reading “One Miracle After Another” the Pavel Goia story. \ne-book version available at AdventistBookCenter.com \nhttp://www.adventistbookcenter.com/one-miracle-after-another.html \nor Amazon/Kindle: \nhttps://www.amazon.com/Miracle-After-Another-Gregg-Budd-ebook/dp/B003KK57GE \nWe will have some paperback version available for $14.00.
URL:https://stonehammemorialchurch.org/event/10-days-of-prayer-6/
LOCATION:Stoneham Memorial Church\, 29 MAPLE STREET\, STONEHAM\, MA\, 02180\, United States
ATTACH;FMTTYPE=image/jpeg:https://stonehammemorialchurch.org/wp-content/uploads/2016/12/IMG_9673.jpg
END:VEVENT
BEGIN:VEVENT
DTSTART;TZID=UTC:20170104T190000
DTEND;TZID=UTC:20170104T200000
DTSTAMP:20260423T065215
CREATED:20161229T213837Z
LAST-MODIFIED:20161229T213857Z
UID:828-1483556400-1483560000@stonehammemorialchurch.org
SUMMARY:10 DAYS OF PRAYER
DESCRIPTION:Join us as we start this New Year with 10 Days of Prayer. \nWe will be reading “One Miracle After Another” the Pavel Goia story. \ne-book version available at AdventistBookCenter.com \nhttp://www.adventistbookcenter.com/one-miracle-after-another.html \nor Amazon/Kindle: \nhttps://www.amazon.com/Miracle-After-Another-Gregg-Budd-ebook/dp/B003KK57GE \nWe will have some paperback version available for $14.00.
URL:https://stonehammemorialchurch.org/event/10-days-of-prayer-5/
LOCATION:Stoneham Memorial Church\, 29 MAPLE STREET\, STONEHAM\, MA\, 02180\, United States
ATTACH;FMTTYPE=image/jpeg:https://stonehammemorialchurch.org/wp-content/uploads/2016/12/IMG_9673.jpg
END:VEVENT
BEGIN:VEVENT
DTSTART;TZID=UTC:20170103T190000
DTEND;TZID=UTC:20170103T200000
DTSTAMP:20260423T065215
CREATED:20161229T213745Z
LAST-MODIFIED:20161229T213745Z
UID:826-1483470000-1483473600@stonehammemorialchurch.org
SUMMARY:10 DAYS OF PRAYER
DESCRIPTION:Join us as we start this New Year with 10 Days of Prayer. \nWe will be reading “One Miracle After Another” the Pavel Goia story. \ne-book version available at AdventistBookCenter.com \nhttp://www.adventistbookcenter.com/one-miracle-after-another.html \nor Amazon/Kindle: \nhttps://www.amazon.com/Miracle-After-Another-Gregg-Budd-ebook/dp/B003KK57GE \nWe will have some paperback version available for $14.00.
URL:https://stonehammemorialchurch.org/event/10-days-of-prayer-3/
ATTACH;FMTTYPE=image/jpeg:https://stonehammemorialchurch.org/wp-content/uploads/2016/12/IMG_9673.jpg
END:VEVENT
BEGIN:VEVENT
DTSTART;TZID=UTC:20170102T190000
DTEND;TZID=UTC:20170102T200000
DTSTAMP:20260423T065215
CREATED:20161229T213712Z
LAST-MODIFIED:20161229T213712Z
UID:825-1483383600-1483387200@stonehammemorialchurch.org
SUMMARY:10 DAYS OF PRAYER
DESCRIPTION:Join us as we start this New Year with 10 Days of Prayer. \nWe will be reading “One Miracle After Another” the Pavel Goia story. \ne-book version available at AdventistBookCenter.com \nhttp://www.adventistbookcenter.com/one-miracle-after-another.html \nor Amazon/Kindle: \nhttps://www.amazon.com/Miracle-After-Another-Gregg-Budd-ebook/dp/B003KK57GE \nWe will have some paperback version available for $14.00.
URL:https://stonehammemorialchurch.org/event/10-days-of-prayer-2/
LOCATION:Stoneham Memorial Church\, 29 MAPLE STREET\, STONEHAM\, MA\, 02180\, United States
ATTACH;FMTTYPE=image/jpeg:https://stonehammemorialchurch.org/wp-content/uploads/2016/12/IMG_9673.jpg
END:VEVENT
BEGIN:VEVENT
DTSTART;TZID=UTC:20170101T190000
DTEND;TZID=UTC:20170101T200000
DTSTAMP:20260423T065215
CREATED:20161229T213633Z
LAST-MODIFIED:20161229T213633Z
UID:824-1483297200-1483300800@stonehammemorialchurch.org
SUMMARY:10 DAYS OF PRAYER
DESCRIPTION:Join us as we start this New Year with 10 Days of Prayer. \nWe will be reading “One Miracle After Another” the Pavel Goia story. \ne-book version available at AdventistBookCenter.com \nhttp://www.adventistbookcenter.com/one-miracle-after-another.html \nor Amazon/Kindle: \nhttps://www.amazon.com/Miracle-After-Another-Gregg-Budd-ebook/dp/B003KK57GE \nWe will have some paperback version available for $14.00.
URL:https://stonehammemorialchurch.org/event/10-days-of-prayer/
LOCATION:Stoneham Memorial Church\, 29 MAPLE STREET\, STONEHAM\, MA\, 02180\, United States
ATTACH;FMTTYPE=image/jpeg:https://stonehammemorialchurch.org/wp-content/uploads/2016/12/IMG_9673.jpg
END:VEVENT
BEGIN:VEVENT
DTSTART;TZID=UTC:20161231T190000
DTEND;TZID=UTC:20161231T230000
DTSTAMP:20260423T065215
CREATED:20161229T221755Z
LAST-MODIFIED:20161230T061557Z
UID:836-1483210800-1483225200@stonehammemorialchurch.org
SUMMARY:NEW YEARS EVE SOCIAL
DESCRIPTION:Please join us for fun\, food & fellowship on Saturday\, December 31st!\nWe will play ping pong\, volleyball\, basketball\, board games\, activities\, face painting\, and have a craft! \nPlease bring a dish of food and drinks to share. \nWhere – GBA Gym\nWhen – 7 pm Open\n8:00 pm Food\n11:00 pm Countdown to New Years! \nWe look forward to seeing you there!
URL:https://stonehammemorialchurch.org/event/new-years-eve-social/
ATTACH;FMTTYPE=image/jpeg:https://stonehammemorialchurch.org/wp-content/uploads/2016/12/IMG_9680-e1483060541367.jpg
END:VEVENT
BEGIN:VEVENT
DTSTART;TZID=UTC:20161203T104500
DTEND;TZID=UTC:20161203T160000
DTSTAMP:20260423T065215
CREATED:20161118T195624Z
LAST-MODIFIED:20161118T195719Z
UID:793-1480761900-1480780800@stonehammemorialchurch.org
SUMMARY:Prison Ministries Sabbath
DESCRIPTION:December 3\, 2016 will be Prison Ministries Sabbath and our speaker will be Chaplain Washington from the Atlantic Union. He will have the worship service and a meeting in the afternoon following our fellowship meal. He will be sharing the ways we can become involved in this important ministry
URL:https://stonehammemorialchurch.org/event/prison-ministries-sabbath/
LOCATION:Stoneham Memorial Church\, 29 MAPLE STREET\, STONEHAM\, MA\, 02180\, United States
END:VEVENT
BEGIN:VEVENT
DTSTART;TZID=UTC:20161122T190000
DTEND;TZID=UTC:20161122T200000
DTSTAMP:20260423T065215
CREATED:20161118T195333Z
LAST-MODIFIED:20161118T195333Z
UID:792-1479841200-1479844800@stonehammemorialchurch.org
SUMMARY:Inter-Faith Thanksgiving Service
DESCRIPTION:Stoneham InterFaith Thanksgiving Service this Tuesday\, Nov. 22\, at 7pm. \nPlease consider coming out and joining in this Thanksgiving Service with our friends and neighbors. If you would like to sing with the choir that evening\, please see or call Nancy\nCrandall at 781-279-7778.
URL:https://stonehammemorialchurch.org/event/inter-faith-thanksgiving-service/
LOCATION:Stoneham Memorial Church\, 29 MAPLE STREET\, STONEHAM\, MA\, 02180\, United States
END:VEVENT
BEGIN:VEVENT
DTSTART;TZID=UTC:20161120T160000
DTEND;TZID=UTC:20161120T170000
DTSTAMP:20260423T065215
CREATED:20161118T195942Z
LAST-MODIFIED:20161118T195942Z
UID:794-1479657600-1479661200@stonehammemorialchurch.org
SUMMARY:Pathfinder Thanksgiving Dinner
DESCRIPTION:The Adventurer and Pathfinder Clubs of Stoneham Memorial Church are presenting a Thanksgiving Dinner for our members and friends at 4pm in the Fellowship Hall. Come out and enjoy a meal and fellowship with friends.
URL:https://stonehammemorialchurch.org/event/pathfinder-thanksgiving-dinner/
LOCATION:Stoneham Memorial Church\, 29 MAPLE STREET\, STONEHAM\, MA\, 02180\, United States
END:VEVENT
BEGIN:VEVENT
DTSTART;TZID=UTC:20161109T190000
DTEND;TZID=UTC:20161109T200000
DTSTAMP:20260423T065215
CREATED:20161104T222338Z
LAST-MODIFIED:20161104T222338Z
UID:769-1478718000-1478721600@stonehammemorialchurch.org
SUMMARY:Bible Study
DESCRIPTION:
URL:https://stonehammemorialchurch.org/event/bible-study-9/
LOCATION:Stoneham Memorial Church\, 29 MAPLE STREET\, STONEHAM\, MA\, 02180\, United States
END:VEVENT
BEGIN:VEVENT
DTSTART;TZID=UTC:20161102T184500
DTEND;TZID=UTC:20161102T200000
DTSTAMP:20260423T065215
CREATED:20161104T222302Z
LAST-MODIFIED:20161104T222302Z
UID:768-1478112300-1478116800@stonehammemorialchurch.org
SUMMARY:Fellowship Meal & Bible Study
DESCRIPTION:
URL:https://stonehammemorialchurch.org/event/fellowship-meal-bible-study/
LOCATION:Stoneham Memorial Church\, 29 MAPLE STREET\, STONEHAM\, MA\, 02180\, United States
END:VEVENT
BEGIN:VEVENT
DTSTART;TZID=UTC:20161029T191500
DTEND;TZID=UTC:20161029T203000
DTSTAMP:20260423T065215
CREATED:20161008T002213Z
LAST-MODIFIED:20161008T002213Z
UID:743-1477768500-1477773000@stonehammemorialchurch.org
SUMMARY:REVELATION TODAY
DESCRIPTION:
URL:https://stonehammemorialchurch.org/event/revelation-today-3/
LOCATION:STONEHAM TOWN HALL\, 35 CENTRAL ST.\, STOENHAM\, MA\, 02180\, United States
ATTACH;FMTTYPE=image/jpeg:https://stonehammemorialchurch.org/wp-content/uploads/2016/10/revelation-today.jpg
END:VEVENT
BEGIN:VEVENT
DTSTART;TZID=UTC:20161028T191500
DTEND;TZID=UTC:20161028T203000
DTSTAMP:20260423T065215
CREATED:20161008T002133Z
LAST-MODIFIED:20161008T002133Z
UID:742-1477682100-1477686600@stonehammemorialchurch.org
SUMMARY:REVELATION TODAY - True Church
DESCRIPTION:
URL:https://stonehammemorialchurch.org/event/revelation-today-true-church/
LOCATION:STONEHAM TOWN HALL\, 35 CENTRAL ST.\, STOENHAM\, MA\, 02180\, United States
ATTACH;FMTTYPE=image/jpeg:https://stonehammemorialchurch.org/wp-content/uploads/2016/10/revelation-today.jpg
END:VEVENT
BEGIN:VEVENT
DTSTART;TZID=UTC:20161026T191500
DTEND;TZID=UTC:20161026T203000
DTSTAMP:20260423T065215
CREATED:20161008T002048Z
LAST-MODIFIED:20161025T212453Z
UID:741-1477509300-1477513800@stonehammemorialchurch.org
SUMMARY:REVELATION TODAY - Babylon
DESCRIPTION:
URL:https://stonehammemorialchurch.org/event/revelation-today-babylon/
LOCATION:Stoneham Memorial Church\, 29 MAPLE STREET\, STONEHAM\, MA\, 02180\, United States
ATTACH;FMTTYPE=image/jpeg:https://stonehammemorialchurch.org/wp-content/uploads/2016/10/revelation-today.jpg
END:VEVENT
BEGIN:VEVENT
DTSTART;TZID=UTC:20161025T080000
DTEND;TZID=UTC:20161025T170000
DTSTAMP:20260423T065215
CREATED:20161008T002009Z
LAST-MODIFIED:20161025T212345Z
UID:740-1477382400-1477414800@stonehammemorialchurch.org
SUMMARY:REVELATION TODAY - Health
DESCRIPTION:
URL:https://stonehammemorialchurch.org/event/revelation-today-health/
LOCATION:Stoneham Memorial Church\, 29 MAPLE STREET\, STONEHAM\, MA\, 02180\, United States
ATTACH;FMTTYPE=image/jpeg:https://stonehammemorialchurch.org/wp-content/uploads/2016/10/revelation-today.jpg
END:VEVENT
BEGIN:VEVENT
DTSTART;TZID=UTC:20161023T071500
DTEND;TZID=UTC:20161023T083000
DTSTAMP:20260423T065215
CREATED:20161008T001932Z
LAST-MODIFIED:20161008T001932Z
UID:739-1477206900-1477211400@stonehammemorialchurch.org
SUMMARY:REVELATION TODAY - Baptism
DESCRIPTION:
URL:https://stonehammemorialchurch.org/event/revelation-today-baptism/
LOCATION:STONEHAM TOWN HALL\, 35 CENTRAL ST.\, STOENHAM\, MA\, 02180\, United States
ATTACH;FMTTYPE=image/jpeg:https://stonehammemorialchurch.org/wp-content/uploads/2016/10/revelation-today.jpg
END:VEVENT
BEGIN:VEVENT
DTSTART;TZID=UTC:20161022T191500
DTEND;TZID=UTC:20161022T203000
DTSTAMP:20260423T065215
CREATED:20161008T001834Z
LAST-MODIFIED:20161008T001834Z
UID:738-1477163700-1477168200@stonehammemorialchurch.org
SUMMARY:REVELATION TODAY
DESCRIPTION:
URL:https://stonehammemorialchurch.org/event/revelation-today-2/
LOCATION:STONEHAM TOWN HALL\, 35 CENTRAL ST.\, STOENHAM\, MA\, 02180\, United States
ATTACH;FMTTYPE=image/jpeg:https://stonehammemorialchurch.org/wp-content/uploads/2016/10/revelation-today.jpg
END:VEVENT
BEGIN:VEVENT
DTSTART;TZID=UTC:20161021T080000
DTEND;TZID=UTC:20161021T170000
DTSTAMP:20260423T065215
CREATED:20161008T001736Z
LAST-MODIFIED:20161008T001736Z
UID:737-1477036800-1477069200@stonehammemorialchurch.org
SUMMARY:REVELATION TODAY - Antichrist
DESCRIPTION:
URL:https://stonehammemorialchurch.org/event/revelation-today-antichrist/
LOCATION:STONEHAM TOWN HALL\, 35 CENTRAL ST.\, STOENHAM\, MA\, 02180\, United States
ATTACH;FMTTYPE=image/jpeg:https://stonehammemorialchurch.org/wp-content/uploads/2016/10/revelation-today.jpg
END:VEVENT
BEGIN:VEVENT
DTSTART;TZID=UTC:20161019T191500
DTEND;TZID=UTC:20161019T203000
DTSTAMP:20260423T065215
CREATED:20161008T001647Z
LAST-MODIFIED:20161008T001647Z
UID:736-1476904500-1476909000@stonehammemorialchurch.org
SUMMARY:REVELATION TODAY - Millennium/Hell
DESCRIPTION:
URL:https://stonehammemorialchurch.org/event/revelation-today-millenniumhell/
LOCATION:STONEHAM TOWN HALL\, 35 CENTRAL ST.\, STOENHAM\, MA\, 02180\, United States
ATTACH;FMTTYPE=image/jpeg:https://stonehammemorialchurch.org/wp-content/uploads/2016/10/revelation-today.jpg
END:VEVENT
BEGIN:VEVENT
DTSTART;TZID=UTC:20161018T191500
DTEND;TZID=UTC:20161018T203000
DTSTAMP:20260423T065215
CREATED:20161008T001542Z
LAST-MODIFIED:20161008T001542Z
UID:735-1476818100-1476822600@stonehammemorialchurch.org
SUMMARY:REVELATION TODAY - Death
DESCRIPTION:
URL:https://stonehammemorialchurch.org/event/revelation-today-death/
LOCATION:STONEHAM TOWN HALL\, 35 CENTRAL ST.\, STOENHAM\, MA\, 02180\, United States
ATTACH;FMTTYPE=image/jpeg:https://stonehammemorialchurch.org/wp-content/uploads/2016/10/revelation-today.jpg
END:VEVENT
BEGIN:VEVENT
DTSTART;TZID=UTC:20161016T191500
DTEND;TZID=UTC:20161016T203000
DTSTAMP:20260423T065215
CREATED:20161008T001459Z
LAST-MODIFIED:20161008T001459Z
UID:734-1476645300-1476649800@stonehammemorialchurch.org
SUMMARY:REVELATION TODAY - Change of Sabbath
DESCRIPTION:
URL:https://stonehammemorialchurch.org/event/revelation-today-change-of-sabbath/
LOCATION:STONEHAM TOWN HALL\, 35 CENTRAL ST.\, STOENHAM\, MA\, 02180\, United States
ATTACH;FMTTYPE=image/jpeg:https://stonehammemorialchurch.org/wp-content/uploads/2016/10/revelation-today.jpg
END:VEVENT
BEGIN:VEVENT
DTSTART;TZID=UTC:20161015T191500
DTEND;TZID=UTC:20161015T203000
DTSTAMP:20260423T065215
CREATED:20161008T001341Z
LAST-MODIFIED:20161008T001341Z
UID:733-1476558900-1476563400@stonehammemorialchurch.org
SUMMARY:REVELATION TODAY - Sabbath
DESCRIPTION:
URL:https://stonehammemorialchurch.org/event/revelation-today-sabbath/
LOCATION:STONEHAM TOWN HALL\, 35 CENTRAL ST.\, STOENHAM\, MA\, 02180\, United States
ATTACH;FMTTYPE=image/jpeg:https://stonehammemorialchurch.org/wp-content/uploads/2016/10/revelation-today.jpg
END:VEVENT
BEGIN:VEVENT
DTSTART;TZID=UTC:20161014T191500
DTEND;TZID=UTC:20161014T203000
DTSTAMP:20260423T065215
CREATED:20161008T001226Z
LAST-MODIFIED:20161008T001226Z
UID:732-1476472500-1476477000@stonehammemorialchurch.org
SUMMARY:REVELATION TODAY - Commandments/Grace
DESCRIPTION:
URL:https://stonehammemorialchurch.org/event/revelation-today-commandmentsgrace/
LOCATION:STONEHAM TOWN HALL\, 35 CENTRAL ST.\, STOENHAM\, MA\, 02180\, United States
ATTACH;FMTTYPE=image/jpeg:https://stonehammemorialchurch.org/wp-content/uploads/2016/10/revelation-today.jpg
END:VEVENT
BEGIN:VEVENT
DTSTART;TZID=UTC:20161012T071500
DTEND;TZID=UTC:20161012T203000
DTSTAMP:20260423T065215
CREATED:20161008T001053Z
LAST-MODIFIED:20161008T001100Z
UID:731-1476256500-1476304200@stonehammemorialchurch.org
SUMMARY:REVELATION TODAY - Judgment
DESCRIPTION:
URL:https://stonehammemorialchurch.org/event/revelation-today-judgment/
LOCATION:STONEHAM TOWN HALL\, 35 CENTRAL ST.\, STOENHAM\, MA\, 02180\, United States
ATTACH;FMTTYPE=image/jpeg:https://stonehammemorialchurch.org/wp-content/uploads/2016/10/revelation-today.jpg
END:VEVENT
END:VCALENDAR