BEGIN:VCALENDAR
VERSION:2.0
PRODID:-//Stoneham Memorial Church - ECPv6.15.20//NONSGML v1.0//EN
CALSCALE:GREGORIAN
METHOD:PUBLISH
X-WR-CALNAME:Stoneham Memorial Church
X-ORIGINAL-URL:https://stonehammemorialchurch.org
X-WR-CALDESC:Events for Stoneham Memorial Church
REFRESH-INTERVAL;VALUE=DURATION:PT1H
X-Robots-Tag:noindex
X-PUBLISHED-TTL:PT1H
BEGIN:VTIMEZONE
TZID:America/Halifax
BEGIN:DAYLIGHT
TZOFFSETFROM:-0400
TZOFFSETTO:-0300
TZNAME:ADT
DTSTART:20170312T060000
END:DAYLIGHT
BEGIN:STANDARD
TZOFFSETFROM:-0300
TZOFFSETTO:-0400
TZNAME:AST
DTSTART:20171105T050000
END:STANDARD
BEGIN:DAYLIGHT
TZOFFSETFROM:-0400
TZOFFSETTO:-0300
TZNAME:ADT
DTSTART:20180311T060000
END:DAYLIGHT
BEGIN:STANDARD
TZOFFSETFROM:-0300
TZOFFSETTO:-0400
TZNAME:AST
DTSTART:20181104T050000
END:STANDARD
BEGIN:DAYLIGHT
TZOFFSETFROM:-0400
TZOFFSETTO:-0300
TZNAME:ADT
DTSTART:20190310T060000
END:DAYLIGHT
BEGIN:STANDARD
TZOFFSETFROM:-0300
TZOFFSETTO:-0400
TZNAME:AST
DTSTART:20191103T050000
END:STANDARD
END:VTIMEZONE
BEGIN:VTIMEZONE
TZID:UTC
BEGIN:STANDARD
TZOFFSETFROM:+0000
TZOFFSETTO:+0000
TZNAME:UTC
DTSTART:20160101T000000
END:STANDARD
END:VTIMEZONE
BEGIN:VTIMEZONE
TZID:America/New_York
BEGIN:DAYLIGHT
TZOFFSETFROM:-0500
TZOFFSETTO:-0400
TZNAME:EDT
DTSTART:20170312T070000
END:DAYLIGHT
BEGIN:STANDARD
TZOFFSETFROM:-0400
TZOFFSETTO:-0500
TZNAME:EST
DTSTART:20171105T060000
END:STANDARD
BEGIN:DAYLIGHT
TZOFFSETFROM:-0500
TZOFFSETTO:-0400
TZNAME:EDT
DTSTART:20180311T070000
END:DAYLIGHT
BEGIN:STANDARD
TZOFFSETFROM:-0400
TZOFFSETTO:-0500
TZNAME:EST
DTSTART:20181104T060000
END:STANDARD
BEGIN:DAYLIGHT
TZOFFSETFROM:-0500
TZOFFSETTO:-0400
TZNAME:EDT
DTSTART:20190310T070000
END:DAYLIGHT
BEGIN:STANDARD
TZOFFSETFROM:-0400
TZOFFSETTO:-0500
TZNAME:EST
DTSTART:20191103T060000
END:STANDARD
END:VTIMEZONE
BEGIN:VTIMEZONE
TZID:America/New_York
BEGIN:DAYLIGHT
TZOFFSETFROM:-0500
TZOFFSETTO:-0400
TZNAME:EDT
DTSTART:20170312T070000
END:DAYLIGHT
BEGIN:STANDARD
TZOFFSETFROM:-0400
TZOFFSETTO:-0500
TZNAME:EST
DTSTART:20171105T060000
END:STANDARD
BEGIN:DAYLIGHT
TZOFFSETFROM:-0500
TZOFFSETTO:-0400
TZNAME:EDT
DTSTART:20180311T070000
END:DAYLIGHT
BEGIN:STANDARD
TZOFFSETFROM:-0400
TZOFFSETTO:-0500
TZNAME:EST
DTSTART:20181104T060000
END:STANDARD
BEGIN:DAYLIGHT
TZOFFSETFROM:-0500
TZOFFSETTO:-0400
TZNAME:EDT
DTSTART:20190310T070000
END:DAYLIGHT
BEGIN:STANDARD
TZOFFSETFROM:-0400
TZOFFSETTO:-0500
TZNAME:EST
DTSTART:20191103T060000
END:STANDARD
END:VTIMEZONE
BEGIN:VEVENT
DTSTART;TZID=America/Halifax:20180818T093000
DTEND;TZID=America/Halifax:20180818T103000
DTSTAMP:20260422T182439
CREATED:20180720T062039Z
LAST-MODIFIED:20180720T062039Z
UID:1423-1534584600-1534588200@stonehammemorialchurch.org
SUMMARY:All About Jesus Revival Seminar
DESCRIPTION:All About Jesus Revival Seminar with Lee Venden \nFriday\, Aug 10 @ 6:30 PM \n\n\n\n\n\n\n\n\n\n\n\n\n\n\n\n\n\n\n\nSaturday\, Aug 11 @ 9:30 AM\nSaturday\, Aug 11 @ 10:45 AM\nSaturday\, Aug 11 @ 2 PM\n\nSunday Aug 12 @ 6:30 PM\n\nMonday\, Aug 13 @ 6:30 PM\nTuesday\, Aug 14 @ 6:30 PM\nWednesday Aug 15 @ 6:30 PM\n\nThursday\, Aug 16 @ 6:30 PM\nFriday\, Aug 17 @ 6:30 PM\n\n\n\n\nSaturday\, Aug 18 @ 9:30 AM\nSaturday\, Aug 18 @ 10:45 AM\nSaturday\, Aug 18 @ 2 PM
URL:https://stonehammemorialchurch.org/event/all-about-jesus-revival-seminar-8/
LOCATION:Stoneham Memorial Church\, 29 MAPLE STREET\, STONEHAM\, MA\, 02180\, United States
ATTACH;FMTTYPE=image/jpeg:https://stonehammemorialchurch.org/wp-content/uploads/2018/07/RevivalVendenAugust10to18-2018.jpg
END:VEVENT
BEGIN:VEVENT
DTSTART;TZID=America/Halifax:20180817T183000
DTEND;TZID=America/Halifax:20180817T193000
DTSTAMP:20260422T182439
CREATED:20180720T061917Z
LAST-MODIFIED:20180720T061917Z
UID:1422-1534530600-1534534200@stonehammemorialchurch.org
SUMMARY:All About Jesus Revival Seminar
DESCRIPTION:All About Jesus Revival Seminar with Lee Venden \nFriday\, Aug 10 @ 6:30 PM \n\n\n\n\n\n\n\n\n\n\n\n\n\n\n\n\n\n\n\nSaturday\, Aug 11 @ 9:30 AM\nSaturday\, Aug 11 @ 10:45 AM\nSaturday\, Aug 11 @ 2 PM\n\nSunday Aug 12 @ 6:30 PM\n\nMonday\, Aug 13 @ 6:30 PM\nTuesday\, Aug 14 @ 6:30 PM\nWednesday Aug 15 @ 6:30 PM\n\nThursday\, Aug 16 @ 6:30 PM\nFriday\, Aug 17 @ 6:30 PM\n\n\n\n\nSaturday\, Aug 18 @ 9:30 AM\nSaturday\, Aug 18 @ 10:45 AM\nSaturday\, Aug 18 @ 2 PM
URL:https://stonehammemorialchurch.org/event/all-about-jesus-revival-seminar-7/
LOCATION:Stoneham Memorial Church\, 29 MAPLE STREET\, STONEHAM\, MA\, 02180\, United States
ATTACH;FMTTYPE=image/jpeg:https://stonehammemorialchurch.org/wp-content/uploads/2018/07/RevivalVendenAugust10to18-2018.jpg
END:VEVENT
BEGIN:VEVENT
DTSTART;TZID=America/Halifax:20180816T183000
DTEND;TZID=America/Halifax:20180816T193000
DTSTAMP:20260422T182439
CREATED:20180720T061757Z
LAST-MODIFIED:20180720T061757Z
UID:1421-1534444200-1534447800@stonehammemorialchurch.org
SUMMARY:All About Jesus Revival Seminar
DESCRIPTION:All About Jesus Revival Seminar with Lee Venden \nFriday\, Aug 10 @ 6:30 PM \n\n\n\n\n\n\n\n\n\n\n\n\n\n\n\n\n\n\n\nSaturday\, Aug 11 @ 9:30 AM\nSaturday\, Aug 11 @ 10:45 AM\nSaturday\, Aug 11 @ 2 PM\n\nSunday Aug 12 @ 6:30 PM\n\nMonday\, Aug 13 @ 6:30 PM\nTuesday\, Aug 14 @ 6:30 PM\nWednesday Aug 15 @ 6:30 PM\n\nThursday\, Aug 16 @ 6:30 PM\nFriday\, Aug 17 @ 6:30 PM\n\n\n\n\nSaturday\, Aug 18 @ 9:30 AM\nSaturday\, Aug 18 @ 10:45 AM\nSaturday\, Aug 18 @ 2 PM
URL:https://stonehammemorialchurch.org/event/all-about-jesus-revival-seminar-6/
LOCATION:Stoneham Memorial Church\, 29 MAPLE STREET\, STONEHAM\, MA\, 02180\, United States
ATTACH;FMTTYPE=image/jpeg:https://stonehammemorialchurch.org/wp-content/uploads/2018/07/RevivalVendenAugust10to18-2018.jpg
END:VEVENT
BEGIN:VEVENT
DTSTART;TZID=America/Halifax:20180815T183000
DTEND;TZID=America/Halifax:20180815T193000
DTSTAMP:20260422T182439
CREATED:20180720T061557Z
LAST-MODIFIED:20180720T061557Z
UID:1420-1534357800-1534361400@stonehammemorialchurch.org
SUMMARY:All About Jesus Revival Seminar
DESCRIPTION:All About Jesus Revival Seminar with Lee Venden \nFriday\, Aug 10 @ 6:30 PM \n\n\n\n\n\n\n\n\n\n\n\n\n\n\n\n\n\n\n\nSaturday\, Aug 11 @ 9:30 AM\nSaturday\, Aug 11 @ 10:45 AM\nSaturday\, Aug 11 @ 2 PM\n\nSunday Aug 12 @ 6:30 PM\n\nMonday\, Aug 13 @ 6:30 PM\nTuesday\, Aug 14 @ 6:30 PM\nWednesday Aug 15 @ 6:30 PM\n\nThursday\, Aug 16 @ 6:30 PM\nFriday\, Aug 17 @ 6:30 PM\n\n\n\n\nSaturday\, Aug 18 @ 9:30 AM\nSaturday\, Aug 18 @ 10:45 AM\nSaturday\, Aug 18 @ 2 PM
URL:https://stonehammemorialchurch.org/event/all-about-jesus-revival-seminar-5/
LOCATION:Stoneham Memorial Church\, 29 MAPLE STREET\, STONEHAM\, MA\, 02180\, United States
ATTACH;FMTTYPE=image/jpeg:https://stonehammemorialchurch.org/wp-content/uploads/2018/07/RevivalVendenAugust10to18-2018.jpg
END:VEVENT
BEGIN:VEVENT
DTSTART;TZID=America/Halifax:20180814T183000
DTEND;TZID=America/Halifax:20180814T193000
DTSTAMP:20260422T182439
CREATED:20180720T061500Z
LAST-MODIFIED:20180720T061616Z
UID:1419-1534271400-1534275000@stonehammemorialchurch.org
SUMMARY:All About Jesus Revival Seminar
DESCRIPTION:All About Jesus Revival Seminar with Lee Venden \nFriday\, Aug 10 @ 6:30 PM \n\n\n\n\n\n\n\n\n\n\n\n\n\n\n\n\n\n\n\nSaturday\, Aug 11 @ 9:30 AM\nSaturday\, Aug 11 @ 10:45 AM\nSaturday\, Aug 11 @ 2 PM\n\nSunday Aug 12 @ 6:30 PM\n\nMonday\, Aug 13 @ 6:30 PM\nTuesday\, Aug 14 @ 6:30 PM\nWednesday Aug 15 @ 6:30 PM\n\nThursday\, Aug 16 @ 6:30 PM\nFriday\, Aug 17 @ 6:30 PM\n\n\n\n\nSaturday\, Aug 18 @ 9:30 AM\nSaturday\, Aug 18 @ 10:45 AM\nSaturday\, Aug 18 @ 2 PM
URL:https://stonehammemorialchurch.org/event/all-about-jesus-seminar-3/
LOCATION:Stoneham Memorial Church\, 29 MAPLE STREET\, STONEHAM\, MA\, 02180\, United States
ATTACH;FMTTYPE=image/jpeg:https://stonehammemorialchurch.org/wp-content/uploads/2018/07/RevivalVendenAugust10to18-2018.jpg
END:VEVENT
BEGIN:VEVENT
DTSTART;TZID=UTC:20180813T183000
DTEND;TZID=UTC:20180813T193000
DTSTAMP:20260422T182439
CREATED:20180720T061328Z
LAST-MODIFIED:20180720T061328Z
UID:1417-1534185000-1534188600@stonehammemorialchurch.org
SUMMARY:All About Jesus Revival Seminar
DESCRIPTION:All About Jesus Revival Seminar with Lee Venden \nFriday\, Aug 10 @ 6:30 PM \n\n\n\n\n\n\n\n\n\n\n\n\n\n\n\n\n\n\n\nSaturday\, Aug 11 @ 9:30 AM\nSaturday\, Aug 11 @ 10:45 AM\nSaturday\, Aug 11 @ 2 PM\n\nSunday Aug 12 @ 6:30 PM\n\nMonday\, Aug 13 @ 6:30 PM\nTuesday\, Aug 14 @ 6:30 PM\nWednesday Aug 15 @ 6:30 PM\n\nThursday\, Aug 16 @ 6:30 PM\nFriday\, Aug 17 @ 6:30 PM\n\n\n\n\nSaturday\, Aug 18 @ 9:30 AM\nSaturday\, Aug 18 @ 10:45 AM\nSaturday\, Aug 18 @ 2 PM
URL:https://stonehammemorialchurch.org/event/all-about-jesus-revival-seminar-4/
LOCATION:Stoneham Memorial Church\, 29 MAPLE STREET\, STONEHAM\, MA\, 02180\, United States
ATTACH;FMTTYPE=image/jpeg:https://stonehammemorialchurch.org/wp-content/uploads/2018/07/RevivalVendenAugust10to18-2018.jpg
END:VEVENT
BEGIN:VEVENT
DTSTART;TZID=America/Halifax:20180812T183000
DTEND;TZID=America/Halifax:20180812T193000
DTSTAMP:20260422T182439
CREATED:20180720T060242Z
LAST-MODIFIED:20180720T061151Z
UID:1413-1534098600-1534102200@stonehammemorialchurch.org
SUMMARY:All About Jesus Revival Seminar
DESCRIPTION:All About Jesus Revival Seminar with Lee Venden \nFriday\, Aug 10 @ 6:30 PM \n\n\n\n\n\n\n\n\n\n\n\n\n\n\n\n\n\n\n\nSaturday\, Aug 11 @ 9:30 AM\nSaturday\, Aug 11 @ 10:45 AM\nSaturday\, Aug 11 @ 2 PM\n\nSunday Aug 12 @ 6:30 PM\n\nMonday\, Aug 13 @ 6:30 PM\nTuesday\, Aug 14 @ 6:30 PM\nWednesday Aug 15 @ 6:30 PM\n\nThursday\, Aug 16 @ 6:30 PM\nFriday\, Aug 17 @ 6:30 PM\n\n\n\n\nSaturday\, Aug 18 @ 9:30 AM\nSaturday\, Aug 18 @ 10:45 AM\nSaturday\, Aug 18 @ 2 PM
URL:https://stonehammemorialchurch.org/event/all-about-jesus-revival-seminar-3/
LOCATION:Stoneham Memorial Church\, 29 MAPLE STREET\, STONEHAM\, MA\, 02180\, United States
ATTACH;FMTTYPE=image/jpeg:https://stonehammemorialchurch.org/wp-content/uploads/2018/07/RevivalVendenAugust10to18-2018.jpg
END:VEVENT
BEGIN:VEVENT
DTSTART;TZID=America/Halifax:20180811T140000
DTEND;TZID=America/Halifax:20180811T150000
DTSTAMP:20260422T182439
CREATED:20180720T055842Z
LAST-MODIFIED:20180720T061125Z
UID:1411-1533996000-1533999600@stonehammemorialchurch.org
SUMMARY:All About Jesus Revival Seminar
DESCRIPTION:All About Jesus Revival Seminar with Lee Venden \nFriday\, Aug 10 @ 6:30 PM \n\n\n\n\n\n\n\n\n\n\n\n\n\n\n\n\n\n\n\nSaturday\, Aug 11 @ 9:30 AM\nSaturday\, Aug 11 @ 10:45 AM\nSaturday\, Aug 11 @ 2 PM\n\nSunday Aug 12 @ 6:30 PM\n\nMonday\, Aug 13 @ 6:30 PM\nTuesday\, Aug 14 @ 6:30 PM\nWednesday Aug 15 @ 6:30 PM\n\nThursday\, Aug 16 @ 6:30 PM\nFriday\, Aug 17 @ 6:30 PM\n\n\n\n\nSaturday\, Aug 18 @ 9:30 AM\nSaturday\, Aug 18 @ 10:45 AM\nSaturday\, Aug 18 @ 2 PM
URL:https://stonehammemorialchurch.org/event/all-about-jesus-revival-seminar-2/
LOCATION:Stoneham Memorial Church\, 29 MAPLE STREET\, STONEHAM\, MA\, 02180\, United States
ATTACH;FMTTYPE=image/jpeg:https://stonehammemorialchurch.org/wp-content/uploads/2018/07/RevivalVendenAugust10to18-2018.jpg
END:VEVENT
BEGIN:VEVENT
DTSTART;TZID=America/Halifax:20180811T104500
DTEND;TZID=America/Halifax:20180811T120000
DTSTAMP:20260422T182439
CREATED:20180720T054629Z
LAST-MODIFIED:20180720T061039Z
UID:1410-1533984300-1533988800@stonehammemorialchurch.org
SUMMARY:All About Jesus Revival Seminar
DESCRIPTION:All About Jesus Revival Seminar with Lee Venden \nFriday\, Aug 10 @ 6:30 PM \n\n\n\n\n\n\n\n\n\n\n\n\n\n\n\n\n\n\n\nSaturday\, Aug 11 @ 9:30 AM\nSaturday\, Aug 11 @ 10:45 AM\nSaturday\, Aug 11 @ 2 PM\n\nSunday Aug 12 @ 6:30 PM\n\nMonday\, Aug 13 @ 6:30 PM\nTuesday\, Aug 14 @ 6:30 PM\nWednesday Aug 15 @ 6:30 PM\n\nThursday\, Aug 16 @ 6:30 PM\nFriday\, Aug 17 @ 6:30 PM\n\n\n\n\nSaturday\, Aug 18 @ 9:30 AM\nSaturday\, Aug 18 @ 10:45 AM\nSaturday\, Aug 18 @ 2 PM
URL:https://stonehammemorialchurch.org/event/all-about-jesus-revival-seminar/
LOCATION:Stoneham Memorial Church\, 29 MAPLE STREET\, STONEHAM\, MA\, 02180\, United States
ATTACH;FMTTYPE=image/jpeg:https://stonehammemorialchurch.org/wp-content/uploads/2018/07/LeeVendanRevival8-10-18.jpg
END:VEVENT
BEGIN:VEVENT
DTSTART;TZID=America/Halifax:20180811T093000
DTEND;TZID=America/Halifax:20180811T103000
DTSTAMP:20260422T182439
CREATED:20180720T054404Z
LAST-MODIFIED:20180720T060821Z
UID:1409-1533979800-1533983400@stonehammemorialchurch.org
SUMMARY:All About Jesus Revival Seminar
DESCRIPTION:All About Jesus Revival Seminar with Lee Venden \nFriday\, Aug 10 @ 6:30 PM \n\n\n\n\n\n\n\n\n\n\n\n\n\n\n\n\n\n\n\nSaturday\, Aug 11 @ 9:30 AM\nSaturday\, Aug 11 @ 10:45 AM\nSaturday\, Aug 11 @ 2 PM\n\nSunday Aug 12 @ 6:30 PM\n\nMonday\, Aug 13 @ 6:30 PM\nTuesday\, Aug 14 @ 6:30 PM\nWednesday Aug 15 @ 6:30 PM\n\nThursday\, Aug 16 @ 6:30 PM\nFriday\, Aug 17 @ 6:30 PM\n\n\n\n\nSaturday\, Aug 18 @ 9:30 AM\nSaturday\, Aug 18 @ 10:45 AM\nSaturday\, Aug 18 @ 2 PM
URL:https://stonehammemorialchurch.org/event/all-about-jesus-seminar-2/
LOCATION:Stoneham Memorial Church\, 29 MAPLE STREET\, STONEHAM\, MA\, 02180\, United States
ATTACH;FMTTYPE=image/jpeg:https://stonehammemorialchurch.org/wp-content/uploads/2018/07/RevivalVendenAugust10to18-2018.jpg
END:VEVENT
BEGIN:VEVENT
DTSTART;TZID=America/Halifax:20180810T183000
DTEND;TZID=America/Halifax:20180810T193000
DTSTAMP:20260422T182439
CREATED:20180720T054030Z
LAST-MODIFIED:20180720T060910Z
UID:1408-1533925800-1533929400@stonehammemorialchurch.org
SUMMARY:All About Jesus Revival Seminar
DESCRIPTION:All About Jesus Revival Seminar with Lee Venden \nFriday\, Aug 10 @ 6:30 PM \n\n\n\n\n\n\n\n\n\n\n\n\n\n\n\n\n\n\n\nSaturday\, Aug 11 @ 9:30 AM\nSaturday\, Aug 11 @ 10:45 AM\nSaturday\, Aug 11 @ 2 PM\n\nSunday Aug 12 @ 6:30 PM\n\nMonday\, Aug 13 @ 6:30 PM\nTuesday\, Aug 14 @ 6:30 PM\nWednesday Aug 15 @ 6:30 PM\n\nThursday\, Aug 16 @ 6:30 PM\nFriday\, Aug 17 @ 6:30 PM\n\n\n\n\nSaturday\, Aug 18 @ 9:30 AM\nSaturday\, Aug 18 @ 10:45 AM\nSaturday\, Aug 18 @ 2 PM
URL:https://stonehammemorialchurch.org/event/all-about-jesus-seminar/
LOCATION:Stoneham Memorial Church\, 29 MAPLE STREET\, STONEHAM\, MA\, 02180\, United States
ATTACH;FMTTYPE=image/jpeg:https://stonehammemorialchurch.org/wp-content/uploads/2018/07/RevivalVendenAugust10to18-2018.jpg
END:VEVENT
BEGIN:VEVENT
DTSTART;TZID=America/New_York:20180603T100000
DTEND;TZID=America/New_York:20180603T160000
DTSTAMP:20260422T182439
CREATED:20180519T053226Z
LAST-MODIFIED:20180519T054204Z
UID:1358-1528020000-1528041600@stonehammemorialchurch.org
SUMMARY:Entrepreneurship Seminar
DESCRIPTION:Entrepreneurship Seminar: Turning Ideas Into Businesses\nA one day intensive interactive seminar designed to build the foundation necessary to transform an idea into a sustainable business that creates increased financial security\, a more fulfilling life\, and an improved community. \nThe contents of this course have been developed and taught at venture capital firms and universities in New York City\, Boston\, Detroit\, Philadelphia\, Baltimore\, Providence\, San Francisco\, and more. \nGet more info and purchase tickets here: https://school16.eventbrite.com/
URL:https://stonehammemorialchurch.org/event/entrepreneurship-seminar/
LOCATION:Stoneham Memorial Church\, 29 MAPLE STREET\, STONEHAM\, MA\, 02180\, United States
ATTACH;FMTTYPE=image/jpeg:https://stonehammemorialchurch.org/wp-content/uploads/2018/05/EntrepreneurshipSeminarBanner.jpg
END:VEVENT
BEGIN:VEVENT
DTSTART;TZID=America/New_York:20180530T183000
DTEND;TZID=America/New_York:20180530T193000
DTSTAMP:20260422T182439
CREATED:20180310T054905Z
LAST-MODIFIED:20180310T055620Z
UID:1288-1527705000-1527708600@stonehammemorialchurch.org
SUMMARY:FINANCIAL PEACE UNIVERSITY
DESCRIPTION:Financial Peace University – A Nine Week course (Wednesdays in April and May) to help you on the path to living debt free. Find our class and purchase your materials online here (https://fpu.com/1062644).
URL:https://stonehammemorialchurch.org/event/financial-peace-university-12/
LOCATION:Stoneham Memorial Church\, 29 MAPLE STREET\, STONEHAM\, MA\, 02180\, United States
ATTACH;FMTTYPE=image/jpeg:https://stonehammemorialchurch.org/wp-content/uploads/2018/03/FinancialPeaceUniversity2018.jpg
END:VEVENT
BEGIN:VEVENT
DTSTART;TZID=America/Halifax:20180526T123000
DTEND;TZID=America/Halifax:20180526T140000
DTSTAMP:20260422T182439
CREATED:20180519T055009Z
LAST-MODIFIED:20180519T055849Z
UID:1362-1527337800-1527343200@stonehammemorialchurch.org
SUMMARY:Book Club - The Desire of Ages
DESCRIPTION:Conflict of the Ages Book Club. Starting on May 26 with the book The Desire of Ages. Participants are encouraged to bring a sack lunch. The group will meet every 3 weeks.
URL:https://stonehammemorialchurch.org/event/book-club-the-desire-of-ages/
LOCATION:Stoneham Memorial Church\, 29 MAPLE STREET\, STONEHAM\, MA\, 02180\, United States
ATTACH;FMTTYPE=image/png:https://stonehammemorialchurch.org/wp-content/uploads/2018/05/ConflictOfAgesBookClub.png
END:VEVENT
BEGIN:VEVENT
DTSTART;TZID=America/New_York:20180523T183000
DTEND;TZID=America/New_York:20180523T193000
DTSTAMP:20260422T182439
CREATED:20180310T054810Z
LAST-MODIFIED:20180310T055650Z
UID:1287-1527100200-1527103800@stonehammemorialchurch.org
SUMMARY:FINANCIAL PEACE UNIVERSITY
DESCRIPTION:Financial Peace University – A Nine Week course (Wednesdays in April and May) to help you on the path to living debt free. Find our class and purchase your materials online here (https://fpu.com/1062644).
URL:https://stonehammemorialchurch.org/event/financial-peace-university-11/
LOCATION:Stoneham Memorial Church\, 29 MAPLE STREET\, STONEHAM\, MA\, 02180\, United States
ATTACH;FMTTYPE=image/jpeg:https://stonehammemorialchurch.org/wp-content/uploads/2018/03/FinancialPeaceUniversity2018.jpg
END:VEVENT
BEGIN:VEVENT
DTSTART;TZID=America/New_York:20180516T183000
DTEND;TZID=America/New_York:20180516T193000
DTSTAMP:20260422T182439
CREATED:20180310T054710Z
LAST-MODIFIED:20180310T055715Z
UID:1286-1526495400-1526499000@stonehammemorialchurch.org
SUMMARY:FINANCIAL PEACE UNIVERSITY
DESCRIPTION:Financial Peace University – A Nine Week course (Wednesdays in April and May) to help you on the path to living debt free. Find our class and purchase your materials online here (https://fpu.com/1062644).
URL:https://stonehammemorialchurch.org/event/financial-peace-university-10/
LOCATION:Stoneham Memorial Church\, 29 MAPLE STREET\, STONEHAM\, MA\, 02180\, United States
ATTACH;FMTTYPE=image/jpeg:https://stonehammemorialchurch.org/wp-content/uploads/2018/03/FinancialPeaceUniversity2018.jpg
END:VEVENT
BEGIN:VEVENT
DTSTART;TZID=America/New_York:20180509T183000
DTEND;TZID=America/New_York:20180509T193000
DTSTAMP:20260422T182439
CREATED:20180310T054609Z
LAST-MODIFIED:20180310T055737Z
UID:1285-1525890600-1525894200@stonehammemorialchurch.org
SUMMARY:FINANCIAL PEACE UNIVERSITY
DESCRIPTION:Financial Peace University – A Nine Week course (Wednesdays in April and May) to help you on the path to living debt free. Find our class and purchase your materials online here (https://fpu.com/1062644).
URL:https://stonehammemorialchurch.org/event/financial-peace-university-9/
LOCATION:Stoneham Memorial Church\, 29 MAPLE STREET\, STONEHAM\, MA\, 02180\, United States
ATTACH;FMTTYPE=image/jpeg:https://stonehammemorialchurch.org/wp-content/uploads/2018/03/FinancialPeaceUniversity2018.jpg
END:VEVENT
BEGIN:VEVENT
DTSTART;TZID=America/New_York:20180502T183000
DTEND;TZID=America/New_York:20180502T193000
DTSTAMP:20260422T182439
CREATED:20180310T054512Z
LAST-MODIFIED:20180310T055803Z
UID:1284-1525285800-1525289400@stonehammemorialchurch.org
SUMMARY:FINANCIAL PEACE UNIVERSITY
DESCRIPTION:Financial Peace University – A Nine Week course (Wednesdays in April and May) to help you on the path to living debt free. Find our class and purchase your materials online here (https://fpu.com/1062644).
URL:https://stonehammemorialchurch.org/event/financial-peace-university-8/
LOCATION:Stoneham Memorial Church\, 29 MAPLE STREET\, STONEHAM\, MA\, 02180\, United States
ATTACH;FMTTYPE=image/jpeg:https://stonehammemorialchurch.org/wp-content/uploads/2018/03/FinancialPeaceUniversity2018.jpg
END:VEVENT
BEGIN:VEVENT
DTSTART;TZID=America/New_York:20180425T183000
DTEND;TZID=America/New_York:20180425T193000
DTSTAMP:20260422T182439
CREATED:20180310T054409Z
LAST-MODIFIED:20180310T055833Z
UID:1283-1524681000-1524684600@stonehammemorialchurch.org
SUMMARY:FINANCIAL PEACE UNIVERSITY
DESCRIPTION:Financial Peace University – A Nine Week course (Wednesdays in April and May) to help you on the path to living debt free. Find our class and purchase your materials online here (https://fpu.com/1062644).
URL:https://stonehammemorialchurch.org/event/financial-peace-university-7/
LOCATION:Stoneham Memorial Church\, 29 MAPLE STREET\, STONEHAM\, MA\, 02180\, United States
ATTACH;FMTTYPE=image/jpeg:https://stonehammemorialchurch.org/wp-content/uploads/2018/03/FinancialPeaceUniversity2018.jpg
END:VEVENT
BEGIN:VEVENT
DTSTART;TZID=America/New_York:20180418T183000
DTEND;TZID=America/New_York:20180418T193000
DTSTAMP:20260422T182439
CREATED:20180310T054307Z
LAST-MODIFIED:20180310T055901Z
UID:1282-1524076200-1524079800@stonehammemorialchurch.org
SUMMARY:FINANCIAL PEACE UNIVERISTY
DESCRIPTION:Financial Peace University – A Nine Week course (Wednesdays in April and May) to help you on the path to living debt free. Find our class and purchase your materials online here (https://fpu.com/1062644).
URL:https://stonehammemorialchurch.org/event/financial-peace-univeristy/
LOCATION:Stoneham Memorial Church\, 29 MAPLE STREET\, STONEHAM\, MA\, 02180\, United States
ATTACH;FMTTYPE=image/jpeg:https://stonehammemorialchurch.org/wp-content/uploads/2018/03/FinancialPeaceUniversity2018.jpg
END:VEVENT
BEGIN:VEVENT
DTSTART;TZID=America/New_York:20180411T183000
DTEND;TZID=America/New_York:20180411T193000
DTSTAMP:20260422T182439
CREATED:20180310T054057Z
LAST-MODIFIED:20180310T055927Z
UID:1281-1523471400-1523475000@stonehammemorialchurch.org
SUMMARY:FINANCIAL PEACE UNIVERSITY
DESCRIPTION:Financial Peace University – A Nine Week course (Wednesdays in April and May) to help you on the path to living debt free. Find our class and purchase your materials online here (https://fpu.com/1062644).
URL:https://stonehammemorialchurch.org/event/financial-peace-university-6/
LOCATION:Stoneham Memorial Church\, 29 MAPLE STREET\, STONEHAM\, MA\, 02180\, United States
ATTACH;FMTTYPE=image/jpeg:https://stonehammemorialchurch.org/wp-content/uploads/2018/03/FinancialPeaceUniversity2018.jpg
END:VEVENT
BEGIN:VEVENT
DTSTART;TZID=America/New_York:20180404T183000
DTEND;TZID=America/New_York:20180404T193000
DTSTAMP:20260422T182439
CREATED:20180310T053808Z
LAST-MODIFIED:20180310T055957Z
UID:1279-1522866600-1522870200@stonehammemorialchurch.org
SUMMARY:FINANCIAL PEACE UNIVERSITY
DESCRIPTION:Financial Peace University – A Nine Week course (Wednesdays in April and May) to help you on the path to living debt free. Find our class and purchase your materials online here (https://fpu.com/1062644).
URL:https://stonehammemorialchurch.org/event/financial-peace-university-5/
LOCATION:Stoneham Memorial Church\, 29 MAPLE STREET\, STONEHAM\, MA\, 02180\, United States
ATTACH;FMTTYPE=image/jpeg:https://stonehammemorialchurch.org/wp-content/uploads/2018/03/FinancialPeaceUniversity2018.jpg
END:VEVENT
BEGIN:VEVENT
DTSTART;TZID=UTC:20170505T190000
DTEND;TZID=UTC:20170505T210000
DTSTAMP:20260422T182439
CREATED:20170504T181930Z
LAST-MODIFIED:20170504T181930Z
UID:1038-1494010800-1494018000@stonehammemorialchurch.org
SUMMARY:Vespers: Cello & Piano Concert
DESCRIPTION:Come and join us for a cello & piano concert by “Duo of Hope”. \nAn offering will be taken to support La Voz de la Esperanza.
URL:https://stonehammemorialchurch.org/event/vespers-cello-piano-concert/
LOCATION:Stoneham Memorial Church\, 29 MAPLE STREET\, STONEHAM\, MA\, 02180\, United States
END:VEVENT
BEGIN:VEVENT
DTSTART;TZID=UTC:20170425T183000
DTEND;TZID=UTC:20170425T213000
DTSTAMP:20260422T182439
CREATED:20170407T185231Z
LAST-MODIFIED:20170407T185231Z
UID:1010-1493145000-1493155800@stonehammemorialchurch.org
SUMMARY:Beginners Cooking Class
DESCRIPTION:Free two-part Beginners Cooking Class. \nClass will include both a lecture and demonstration. There will also be a light vegan meal. Call 781.832.2022 to pre-register and guarantee your spot. \nThe first class will be Tuesday April 18th and the second class will be Tuesday April 25th.
URL:https://stonehammemorialchurch.org/event/beginners-cooking-class-2/
LOCATION:Stoneham Memorial Church\, 29 MAPLE STREET\, STONEHAM\, MA\, 02180\, United States
END:VEVENT
BEGIN:VEVENT
DTSTART;TZID=UTC:20170421T190000
DTEND;TZID=UTC:20170421T210000
DTSTAMP:20260422T182439
CREATED:20170407T185429Z
LAST-MODIFIED:20170407T185429Z
UID:1011-1492801200-1492808400@stonehammemorialchurch.org
SUMMARY:Passover Seder
DESCRIPTION:Email Jeffrey Walker (jpw2101@gmail.com) to reserve.
URL:https://stonehammemorialchurch.org/event/passover-seder/
LOCATION:Stoneham Memorial Church\, 29 MAPLE STREET\, STONEHAM\, MA\, 02180\, United States
END:VEVENT
BEGIN:VEVENT
DTSTART;TZID=UTC:20170418T183000
DTEND;TZID=UTC:20170418T213000
DTSTAMP:20260422T182439
CREATED:20170407T185139Z
LAST-MODIFIED:20170407T185139Z
UID:1009-1492540200-1492551000@stonehammemorialchurch.org
SUMMARY:Beginners Cooking Class
DESCRIPTION:Free two-part Beginners Cooking Class. \nClass will include both a lecture and demonstration. There will also be a light vegan meal. Call 781.832.2022 to pre-register and guarantee your spot. \nThe first class will be Tuesday April 18th and the second class will be Tuesday April 25th.
URL:https://stonehammemorialchurch.org/event/beginners-cooking-class/
LOCATION:Stoneham Memorial Church\, 29 MAPLE STREET\, STONEHAM\, MA\, 02180\, United States
END:VEVENT
BEGIN:VEVENT
DTSTART;TZID=UTC:20170407T190000
DTEND;TZID=UTC:20170407T210000
DTSTAMP:20260422T182439
CREATED:20170407T184835Z
LAST-MODIFIED:20170407T184835Z
UID:1008-1491591600-1491598800@stonehammemorialchurch.org
SUMMARY:Friday Night Vespers
DESCRIPTION:Come join us as we spend time together bringing in the Sabbath. Eve Gilkerson will be sharing about her experience in China ans Korea.
URL:https://stonehammemorialchurch.org/event/friday-night-vespers/
LOCATION:Stoneham Memorial Church\, 29 MAPLE STREET\, STONEHAM\, MA\, 02180\, United States
END:VEVENT
BEGIN:VEVENT
DTSTART;TZID=UTC:20170406T190000
DTEND;TZID=UTC:20170406T200000
DTSTAMP:20260422T182439
CREATED:20170224T070814Z
LAST-MODIFIED:20170224T070814Z
UID:933-1491505200-1491508800@stonehammemorialchurch.org
SUMMARY:FINANCIAL PEACE UNIVERSITY
DESCRIPTION:Join the Financial Peace University seminar by Dave Ramsey Sponsored by Stoneham Memorial Church. To register call (781) 438-2977 or via web @ https://www.daveramsey.com/fpu/classes/1037705/confirm-registration
URL:https://stonehammemorialchurch.org/event/financial-peace-university-4/
LOCATION:Stoneham Memorial Church\, 29 MAPLE STREET\, STONEHAM\, MA\, 02180\, United States
ATTACH;FMTTYPE=image/jpeg:https://stonehammemorialchurch.org/wp-content/uploads/2017/02/financialpeaceSM.jpg
END:VEVENT
BEGIN:VEVENT
DTSTART;TZID=UTC:20170330T190000
DTEND;TZID=UTC:20170330T200000
DTSTAMP:20260422T182439
CREATED:20170224T070716Z
LAST-MODIFIED:20170224T070716Z
UID:931-1490900400-1490904000@stonehammemorialchurch.org
SUMMARY:FINANCIAL PEACE UNIVERSITY
DESCRIPTION:Join the Financial Peace University seminar by Dave Ramsey Sponsored by Stoneham Memorial Church. To register call (781) 438-2977 or via web @ https://www.daveramsey.com/fpu/classes/1037705/confirm-registration
URL:https://stonehammemorialchurch.org/event/financial-peace-university-3/
LOCATION:Stoneham Memorial Church\, 29 MAPLE STREET\, STONEHAM\, MA\, 02180\, United States
ATTACH;FMTTYPE=image/jpeg:https://stonehammemorialchurch.org/wp-content/uploads/2017/02/financialpeaceSM.jpg
END:VEVENT
BEGIN:VEVENT
DTSTART;TZID=UTC:20170323T190000
DTEND;TZID=UTC:20170323T200000
DTSTAMP:20260422T182439
CREATED:20170224T070619Z
LAST-MODIFIED:20170224T075029Z
UID:930-1490295600-1490299200@stonehammemorialchurch.org
SUMMARY:FINANCIAL PEACE UNIVERSITY
DESCRIPTION:Join the Financial Peace University seminar by Dave Ramsey Sponsored by Stoneham Memorial Church. To register call (781) 438-2977 or via web @ https://www.daveramsey.com/fpu/classes/1037705/confirm-registration
URL:https://stonehammemorialchurch.org/event/financial-peace-university-2/
LOCATION:Stoneham Memorial Church\, 29 MAPLE STREET\, STONEHAM\, MA\, 02180\, United States
ATTACH;FMTTYPE=image/jpeg:https://stonehammemorialchurch.org/wp-content/uploads/2017/02/financialpeaceT.jpg
END:VEVENT
END:VCALENDAR