BEGIN:VCALENDAR
VERSION:2.0
PRODID:-//Stoneham Memorial Church - ECPv6.15.20//NONSGML v1.0//EN
CALSCALE:GREGORIAN
METHOD:PUBLISH
X-WR-CALNAME:Stoneham Memorial Church
X-ORIGINAL-URL:https://stonehammemorialchurch.org
X-WR-CALDESC:Events for Stoneham Memorial Church
REFRESH-INTERVAL;VALUE=DURATION:PT1H
X-Robots-Tag:noindex
X-PUBLISHED-TTL:PT1H
BEGIN:VTIMEZONE
TZID:America/New_York
BEGIN:DAYLIGHT
TZOFFSETFROM:-0500
TZOFFSETTO:-0400
TZNAME:EDT
DTSTART:20180311T070000
END:DAYLIGHT
BEGIN:STANDARD
TZOFFSETFROM:-0400
TZOFFSETTO:-0500
TZNAME:EST
DTSTART:20181104T060000
END:STANDARD
BEGIN:DAYLIGHT
TZOFFSETFROM:-0500
TZOFFSETTO:-0400
TZNAME:EDT
DTSTART:20190310T070000
END:DAYLIGHT
BEGIN:STANDARD
TZOFFSETFROM:-0400
TZOFFSETTO:-0500
TZNAME:EST
DTSTART:20191103T060000
END:STANDARD
BEGIN:DAYLIGHT
TZOFFSETFROM:-0500
TZOFFSETTO:-0400
TZNAME:EDT
DTSTART:20200308T070000
END:DAYLIGHT
BEGIN:STANDARD
TZOFFSETFROM:-0400
TZOFFSETTO:-0500
TZNAME:EST
DTSTART:20201101T060000
END:STANDARD
BEGIN:DAYLIGHT
TZOFFSETFROM:-0500
TZOFFSETTO:-0400
TZNAME:EDT
DTSTART:20210314T070000
END:DAYLIGHT
BEGIN:STANDARD
TZOFFSETFROM:-0400
TZOFFSETTO:-0500
TZNAME:EST
DTSTART:20211107T060000
END:STANDARD
BEGIN:DAYLIGHT
TZOFFSETFROM:-0500
TZOFFSETTO:-0400
TZNAME:EDT
DTSTART:20220313T070000
END:DAYLIGHT
BEGIN:STANDARD
TZOFFSETFROM:-0400
TZOFFSETTO:-0500
TZNAME:EST
DTSTART:20221106T060000
END:STANDARD
BEGIN:DAYLIGHT
TZOFFSETFROM:-0500
TZOFFSETTO:-0400
TZNAME:EDT
DTSTART:20230312T070000
END:DAYLIGHT
BEGIN:STANDARD
TZOFFSETFROM:-0400
TZOFFSETTO:-0500
TZNAME:EST
DTSTART:20231105T060000
END:STANDARD
END:VTIMEZONE
BEGIN:VEVENT
DTSTART;TZID=America/New_York:20220102T190000
DTEND;TZID=America/New_York:20220102T200000
DTSTAMP:20260422T185215
CREATED:20211218T010955Z
LAST-MODIFIED:20211218T010955Z
UID:2652-1641150000-1641153600@stonehammemorialchurch.org
SUMMARY:10 Days of Prayer
DESCRIPTION:We will be using the book\, “Steps to Personal Revival.” Here is the link to download the book. https://steps-to-personal-revival.info/. Zoom Meeting ID# 861 8645 7368 PassCode 722538. Each day reading will be provided on-screen each night.
URL:https://stonehammemorialchurch.org/event/10-days-of-prayer-12/
ATTACH;FMTTYPE=image/png:https://stonehammemorialchurch.org/wp-content/uploads/2021/12/10DaysOfPrayer2022.png
END:VEVENT
BEGIN:VEVENT
DTSTART;TZID=America/New_York:20220101T190000
DTEND;TZID=America/New_York:20220101T200000
DTSTAMP:20260422T185215
CREATED:20211218T003231Z
LAST-MODIFIED:20211218T003231Z
UID:2650-1641063600-1641067200@stonehammemorialchurch.org
SUMMARY:10 Days of Prayer
DESCRIPTION:We will be using the book\, “Steps to Personal Revival.” Here is the link to download the book. https://steps-to-personal-revival.info/. Zoom Meeting ID# 861 8645 7368 PassCode 722538. Each day reading will be provided on-screen each night.
URL:https://stonehammemorialchurch.org/event/10-days-of-prayer-11/
ATTACH;FMTTYPE=image/png:https://stonehammemorialchurch.org/wp-content/uploads/2021/12/10DaysOfPrayer2022.png
END:VEVENT
BEGIN:VEVENT
DTSTART;TZID=America/New_York:20211204T183000
DTEND;TZID=America/New_York:20211204T203000
DTSTAMP:20260422T185215
CREATED:20211112T221913Z
LAST-MODIFIED:20211112T221913Z
UID:2626-1638642600-1638649800@stonehammemorialchurch.org
SUMMARY:Thanksgiving Social
DESCRIPTION:SMC invites you to A Thanksgiving Social in the Fellowship Hall \nRSVP to:  mrsgcurt@msn.com
URL:https://stonehammemorialchurch.org/event/thanksgiving-social/
ATTACH;FMTTYPE=image/png:https://stonehammemorialchurch.org/wp-content/uploads/2021/11/ThanksGiving2021.png
END:VEVENT
BEGIN:VEVENT
DTSTART;TZID=America/New_York:20211120T190000
DTEND;TZID=America/New_York:20211120T210000
DTSTAMP:20260422T185215
CREATED:20211112T221708Z
LAST-MODIFIED:20211112T222103Z
UID:2624-1637434800-1637442000@stonehammemorialchurch.org
SUMMARY:Teen Church Roller Skating
DESCRIPTION:Teen Church Roller Skating at Roller World\nTime: 7 pm – 9 pm\nAddress: 425R Broadway\, Saugus\, MA. 01906\nPhone: 781-231-1111\nThe cost is $8.50 which includes skates\nMasks are optional
URL:https://stonehammemorialchurch.org/event/teen-church-roller-skating/
ATTACH;FMTTYPE=image/png:https://stonehammemorialchurch.org/wp-content/uploads/2021/11/RollerSkatingNov20.png
END:VEVENT
BEGIN:VEVENT
DTSTART;TZID=America/New_York:20211119T190000
DTEND;TZID=America/New_York:20211119T203000
DTSTAMP:20260422T185215
CREATED:20211112T221300Z
LAST-MODIFIED:20211113T012137Z
UID:2619-1637348400-1637353800@stonehammemorialchurch.org
SUMMARY:Solid Rock Cafe
DESCRIPTION:Fellowship\, Food\, Worship
URL:https://stonehammemorialchurch.org/event/solid-rock-cafe-4/
LOCATION:Stoneham Memorial Church\, 29 MAPLE STREET\, STONEHAM\, MA\, 02180\, United States
ATTACH;FMTTYPE=image/png:https://stonehammemorialchurch.org/wp-content/uploads/2021/11/SolidRockNov19.png
END:VEVENT
BEGIN:VEVENT
DTSTART;TZID=America/New_York:20211106T140000
DTEND;TZID=America/New_York:20211106T160000
DTSTAMP:20260422T185215
CREATED:20210918T000352Z
LAST-MODIFIED:20210918T000352Z
UID:2559-1636207200-1636214400@stonehammemorialchurch.org
SUMMARY:Ministry to our LGBTQ Friends/Family
DESCRIPTION:Ministry to our LGBTQ Friends/Family – Coming Out Ministries – Pastor Ron Woolsey
URL:https://stonehammemorialchurch.org/event/ministry-to-our-lgbtq-friends-family-2/
END:VEVENT
BEGIN:VEVENT
DTSTART;TZID=America/New_York:20211105T190000
DTEND;TZID=America/New_York:20211105T210000
DTSTAMP:20260422T185215
CREATED:20210918T000310Z
LAST-MODIFIED:20210918T000310Z
UID:2557-1636138800-1636146000@stonehammemorialchurch.org
SUMMARY:Ministry to our LGBTQ Friends/Family
DESCRIPTION:Ministry to our LGBTQ Friends/Family – Coming Out Ministries – Pastor Ron Woolsey
URL:https://stonehammemorialchurch.org/event/ministry-to-our-lgbtq-friends-family/
END:VEVENT
BEGIN:VEVENT
DTSTART;TZID=America/New_York:20211023T093000
DTEND;TZID=America/New_York:20211023T160000
DTSTAMP:20260422T185215
CREATED:20211023T002359Z
LAST-MODIFIED:20211023T002535Z
UID:2599-1634981400-1635004800@stonehammemorialchurch.org
SUMMARY:Service @Washington\, NH SDA Church
DESCRIPTION:Washington NH SDA Church  https://www.firstadventistchurch.org/\nCarpooling from Stoneham Church is encouraged; for those who would like to carpool\, meet at SMC at 8AM. Remember to bring your eZpass or cash for tolls on the way. Church service will be followed by potluck lunch under the pavilion. Please bring food to share. No chairs are needed. After lunch we will walk the Sabbath Trail and then meet at the cemetery\, where the person who keeps the church will talk to us about some of the people buried there.\nAddress: 153 King St\, Washington\, NH 03280
URL:https://stonehammemorialchurch.org/event/service-washington-nh-sda-church/
ATTACH;FMTTYPE=image/png:https://stonehammemorialchurch.org/wp-content/uploads/2021/10/WashingtonChurch.png
END:VEVENT
BEGIN:VEVENT
DTSTART;TZID=America/New_York:20211022T190000
DTEND;TZID=America/New_York:20211022T210000
DTSTAMP:20260422T185215
CREATED:20211009T131846Z
LAST-MODIFIED:20211009T131846Z
UID:2579-1634929200-1634936400@stonehammemorialchurch.org
SUMMARY:Solid Rock Cafe
DESCRIPTION:Solid Rock Cafe – Fellowship\, Food\, Worship
URL:https://stonehammemorialchurch.org/event/solid-rock-cafe-3/
LOCATION:Stoneham Memorial Church\, 29 MAPLE STREET\, STONEHAM\, MA\, 02180\, United States
ATTACH;FMTTYPE=image/png:https://stonehammemorialchurch.org/wp-content/uploads/2021/10/SolidRockCafeOct22.png
END:VEVENT
BEGIN:VEVENT
DTSTART;TZID=America/New_York:20211015T220000
DTEND;TZID=America/New_York:20211113T233000
DTSTAMP:20260422T185215
CREATED:20211015T235545Z
LAST-MODIFIED:20211016T000112Z
UID:2588-1634335200-1636846200@stonehammemorialchurch.org
SUMMARY:Panorama of Prophecy
DESCRIPTION:Panorama of Prophecy – A Bible Study Spectacular with Pastor Doug Bachelor – President\, Amazing Facts International \nBroadcast live from the Granite Bay Hilltop Church\nOctober 15 – November 13\, 2021 | 10:00–11:30 PM EST
URL:https://stonehammemorialchurch.org/event/panorama-of-prophecy/
ATTACH;FMTTYPE=image/jpeg:https://stonehammemorialchurch.org/wp-content/uploads/2021/10/PanoramaOfProfecy2.jpg
END:VEVENT
BEGIN:VEVENT
DTSTART;TZID=America/New_York:20211002T123000
DTEND;TZID=America/New_York:20211002T140000
DTSTAMP:20260422T185215
CREATED:20210918T000126Z
LAST-MODIFIED:20210918T000126Z
UID:2555-1633177800-1633183200@stonehammemorialchurch.org
SUMMARY:SMC Men's 1st group meeting
DESCRIPTION:First meeting of the SMC Men’s group\, after church in the Youth SS Room
URL:https://stonehammemorialchurch.org/event/smc-mens-1st-group-meeting/
END:VEVENT
BEGIN:VEVENT
DTSTART;TZID=America/New_York:20211002T120000
DTEND;TZID=America/New_York:20211002T140000
DTSTAMP:20260422T185215
CREATED:20210917T235903Z
LAST-MODIFIED:20210917T235903Z
UID:2553-1633176000-1633183200@stonehammemorialchurch.org
SUMMARY:Fellowship Lunch
DESCRIPTION:Fellowship Lunch
URL:https://stonehammemorialchurch.org/event/fellowship-lunch-2/
END:VEVENT
BEGIN:VEVENT
DTSTART;TZID=America/New_York:20210925T140000
DTEND;TZID=America/New_York:20210925T153000
DTSTAMP:20260422T185215
CREATED:20210917T235723Z
LAST-MODIFIED:20210917T235723Z
UID:2549-1632578400-1632583800@stonehammemorialchurch.org
SUMMARY:Pastor Bill Brace
DESCRIPTION:Pastor Bill Brace will be speaking Friday evening at 7pm\, Sabbath at the Worship hour and at 2pm after Fellowship Lunch
URL:https://stonehammemorialchurch.org/event/pastor-bill-brace-2/
END:VEVENT
BEGIN:VEVENT
DTSTART;TZID=America/New_York:20210925T120000
DTEND;TZID=America/New_York:20210925T140000
DTSTAMP:20260422T185215
CREATED:20210917T235814Z
LAST-MODIFIED:20210917T235814Z
UID:2551-1632571200-1632578400@stonehammemorialchurch.org
SUMMARY:Fellowship Lunch
DESCRIPTION:Fellowship Lunch
URL:https://stonehammemorialchurch.org/event/fellowship-lunch/
END:VEVENT
BEGIN:VEVENT
DTSTART;TZID=America/New_York:20210924T190000
DTEND;TZID=America/New_York:20210924T203000
DTSTAMP:20260422T185215
CREATED:20210917T235633Z
LAST-MODIFIED:20210917T235633Z
UID:2547-1632510000-1632515400@stonehammemorialchurch.org
SUMMARY:Pastor Bill Brace
DESCRIPTION:Pastor Bill Brace will be speaking Friday evening at 7pm\, Sabbath at the Worship hour and at 2pm after Fellowship Lunch
URL:https://stonehammemorialchurch.org/event/pastor-bill-brace/
END:VEVENT
BEGIN:VEVENT
DTSTART;TZID=America/New_York:20210921T183000
DTEND;TZID=America/New_York:20210921T200000
DTSTAMP:20260422T185215
CREATED:20210917T235442Z
LAST-MODIFIED:20210917T235442Z
UID:2545-1632249000-1632254400@stonehammemorialchurch.org
SUMMARY:SMC Board Meeting
DESCRIPTION:SMC Board Meeting
URL:https://stonehammemorialchurch.org/event/smc-board-meeting-4/
END:VEVENT
BEGIN:VEVENT
DTSTART;TZID=America/New_York:20210919T103000
DTEND;TZID=America/New_York:20210919T133000
DTSTAMP:20260422T185215
CREATED:20210918T000619Z
LAST-MODIFIED:20210918T000619Z
UID:2561-1632047400-1632058200@stonehammemorialchurch.org
SUMMARY:Stoneham Adventist Community Service
DESCRIPTION:Stoneham Adventist Community Service is planning a clothing giveaway for the\nStoneham community and beyond on Sunday\, September 19\, 10:30-1:30. It will be at 9\nGerry Street\, outdoors\, weather permitting. WE NEED HELPERS with organizing\,\ncarrying and crowd control. We need “a village” to help manage this and make it\nhappen. Please sign up in the church lobby for a 2 hour time period or contact Jill Tait
URL:https://stonehammemorialchurch.org/event/stoneham-adventist-community-service/
END:VEVENT
BEGIN:VEVENT
DTSTART;TZID=America/New_York:20210911T110000
DTEND;TZID=America/New_York:20210911T190000
DTSTAMP:20260422T185215
CREATED:20210828T004258Z
LAST-MODIFIED:20210828T004258Z
UID:2520-1631358000-1631386800@stonehammemorialchurch.org
SUMMARY:Church at Cliff Island
DESCRIPTION:Church at Cliff Island
URL:https://stonehammemorialchurch.org/event/church-at-cliff-island/
END:VEVENT
BEGIN:VEVENT
DTSTART;TZID=America/New_York:20210827T160000
DTEND;TZID=America/New_York:20210827T193000
DTSTAMP:20260422T185215
CREATED:20210828T004201Z
LAST-MODIFIED:20210828T004201Z
UID:2518-1630080000-1630092600@stonehammemorialchurch.org
SUMMARY:Picnic Vespers at Chandler Hovey Park\, Marblehead\, MA
DESCRIPTION:Picnic Vespers at Chandler Hovey Park\, Marblehead\, MA
URL:https://stonehammemorialchurch.org/event/picnic-vespers-at-chandler-hovey-park-marblehead-ma/
END:VEVENT
BEGIN:VEVENT
DTSTART;TZID=America/New_York:20210501T091500
DTEND;TZID=America/New_York:20210501T103000
DTSTAMP:20260422T185215
CREATED:20210424T162634Z
LAST-MODIFIED:20210424T162634Z
UID:2400-1619860500-1619865000@stonehammemorialchurch.org
SUMMARY:Sabbath School w/Dr. Michael Hasel
DESCRIPTION:You are welcome to join a Zoom Sabbath School class with Dr. Michael Hasel on Sabbath\, May 1\, at 9:15 am. Dr. Hasel is the chair and a professor of archaeology at Southern Adventist University. He is co-author of this quarter’s SS lesson companion book\, and an editor\, with his father Gerhard Hasel\, of this quarter’s SS lesson. \nUPDATED: Zoom meeting information: https://zoom.us/j/98146469497 or call in at 929-205-6099 with the meeting ID: 981 4646 9497 (same meeting number\, no password).
URL:https://stonehammemorialchurch.org/event/sabbath-school-w-dr-michael-hasel/
ATTACH;FMTTYPE=image/png:https://stonehammemorialchurch.org/wp-content/uploads/2021/04/May1-2021MichaelHasel.png
END:VEVENT
BEGIN:VEVENT
DTSTART;TZID=America/New_York:20210430T190000
DTEND;TZID=America/New_York:20210430T200000
DTSTAMP:20260422T185215
CREATED:20210424T154134Z
LAST-MODIFIED:20210424T162143Z
UID:2390-1619809200-1619812800@stonehammemorialchurch.org
SUMMARY:Virtual Communion via Zoom
DESCRIPTION:Virtual Communion via Zoom Link Here \nMeeting ID: 839 8209 2018 password: 601991. To connect by phone call: 312-626-6799. Expect to have some time to chat together and take part in Communion. In preparation for virtual communion\, you will need the following items: 100% grape juice and unleavened bread (no yeast). Some examples of unleavened bread that you can purchase are: matzo\, tortillas\, crackers. Or you can make your own at home. \nFor those who prefer to pick up prepackaged communion cups with the bread and juice in one container\, they will be available after church on April 24. You also can reach out to the church office or one of the pastors to make other arrangements for how to get yours.\nNote that foot-washing will not be part of the virtual communion experience\, but you are encouraged to have foot-washing with your family ahead of time if you wish.
URL:https://stonehammemorialchurch.org/event/virtual-communion/
ATTACH;FMTTYPE=image/png:https://stonehammemorialchurch.org/wp-content/uploads/2021/04/April30Communion.png
END:VEVENT
BEGIN:VEVENT
DTSTART;TZID=America/New_York:20200202T140000
DTEND;TZID=America/New_York:20200202T170000
DTSTAMP:20260422T185215
CREATED:20200118T011044Z
LAST-MODIFIED:20200118T011044Z
UID:2075-1580652000-1580662800@stonehammemorialchurch.org
SUMMARY:Plant-based\, dairy-free cooking class
DESCRIPTION:Plant-based\, dairy-free cooking class\, February 2 from 2-5pm. Space is limited. Please RSVP to Pamela Griffin.
URL:https://stonehammemorialchurch.org/event/plant-based-dairy-free-cooking-class/
END:VEVENT
BEGIN:VEVENT
DTSTART;TZID=America/New_York:20200121T183000
DTEND;TZID=America/New_York:20200121T203000
DTSTAMP:20260422T185215
CREATED:20200118T010313Z
LAST-MODIFIED:20200118T010313Z
UID:2073-1579631400-1579638600@stonehammemorialchurch.org
SUMMARY:SMC Board Meeting
DESCRIPTION:SMC Board Meeting
URL:https://stonehammemorialchurch.org/event/smc-board-meeting-3/
END:VEVENT
BEGIN:VEVENT
DTSTART;TZID=America/New_York:20200118T160000
DTEND;TZID=America/New_York:20200118T180000
DTSTAMP:20260422T185215
CREATED:20200118T010139Z
LAST-MODIFIED:20200118T010139Z
UID:2071-1579363200-1579370400@stonehammemorialchurch.org
SUMMARY:Jeff Hunt in Concert
DESCRIPTION:Jeff Hunt in concert
URL:https://stonehammemorialchurch.org/event/jeff-hunt-in-concert/
END:VEVENT
BEGIN:VEVENT
DTSTART;TZID=America/New_York:20191219T180000
DTEND;TZID=America/New_York:20191219T200000
DTSTAMP:20260422T185215
CREATED:20191123T012507Z
LAST-MODIFIED:20191123T012507Z
UID:1905-1576778400-1576785600@stonehammemorialchurch.org
SUMMARY:GBA Christmas Concert
DESCRIPTION:GBA Christmas Concert\, Thursday night\, December 19 at SMC
URL:https://stonehammemorialchurch.org/event/gba-christmas-concert/
END:VEVENT
BEGIN:VEVENT
DTSTART;TZID=America/New_York:20191210T183000
DTEND;TZID=America/New_York:20191210T200000
DTSTAMP:20260422T185215
CREATED:20191123T012419Z
LAST-MODIFIED:20191123T012419Z
UID:1903-1576002600-1576008000@stonehammemorialchurch.org
SUMMARY:GBA Board Meeting
DESCRIPTION:GBA Board Meeting\, December 10 at 6:30pm.
URL:https://stonehammemorialchurch.org/event/gba-board-meeting-2/
END:VEVENT
BEGIN:VEVENT
DTSTART;TZID=America/New_York:20191210T180000
DTEND;TZID=America/New_York:20191210T200000
DTSTAMP:20260422T185215
CREATED:20191123T012340Z
LAST-MODIFIED:20191123T012340Z
UID:1901-1576000800-1576008000@stonehammemorialchurch.org
SUMMARY:GBA Constituency Meeting
DESCRIPTION:GBA Constituency Meeting\, December 10 at 6pm. We will be voting on changes to the constitution.
URL:https://stonehammemorialchurch.org/event/gba-constituency-meeting-2/
END:VEVENT
BEGIN:VEVENT
DTSTART;TZID=America/New_York:20191208T120000
DTEND;TZID=America/New_York:20191208T170000
DTSTAMP:20260422T185215
CREATED:20191123T012252Z
LAST-MODIFIED:20191123T012252Z
UID:1899-1575806400-1575824400@stonehammemorialchurch.org
SUMMARY:GBA Christmas Festival
DESCRIPTION:GBA Christmas Festival\, December 8\, 12p-5p. Come shop\, eat\, and have fun! If you would like to sell your crafts or food\, there are still a few booths available. Reach out to the school for details.
URL:https://stonehammemorialchurch.org/event/gba-christmas-festival/
END:VEVENT
BEGIN:VEVENT
DTSTART;TZID=America/New_York:20191207T130000
DTEND;TZID=America/New_York:20191207T150000
DTSTAMP:20260422T185215
CREATED:20191123T012214Z
LAST-MODIFIED:20191123T012214Z
UID:1897-1575723600-1575730800@stonehammemorialchurch.org
SUMMARY:Sabbath Social Hymn Singing
DESCRIPTION:Sabbath Social Hymn Sing\, Dec 7. Relive the memories (or make new ones) of singing around the piano on a Sabbath afternoon.
URL:https://stonehammemorialchurch.org/event/sabbath-social-hymn-singing/
END:VEVENT
BEGIN:VEVENT
DTSTART;TZID=America/New_York:20191203T183000
DTEND;TZID=America/New_York:20191203T200000
DTSTAMP:20260422T185215
CREATED:20191123T012111Z
LAST-MODIFIED:20191123T012111Z
UID:1895-1575397800-1575403200@stonehammemorialchurch.org
SUMMARY:SMC Board Meeting
DESCRIPTION:SMC Board Meeting\, December 3 at 6:30p
URL:https://stonehammemorialchurch.org/event/smc-board-meeting-2/
END:VEVENT
END:VCALENDAR