BEGIN:VCALENDAR
VERSION:2.0
PRODID:-//Stoneham Memorial Church - ECPv6.15.20//NONSGML v1.0//EN
CALSCALE:GREGORIAN
METHOD:PUBLISH
X-WR-CALNAME:Stoneham Memorial Church
X-ORIGINAL-URL:https://stonehammemorialchurch.org
X-WR-CALDESC:Events for Stoneham Memorial Church
REFRESH-INTERVAL;VALUE=DURATION:PT1H
X-Robots-Tag:noindex
X-PUBLISHED-TTL:PT1H
BEGIN:VTIMEZONE
TZID:America/New_York
BEGIN:DAYLIGHT
TZOFFSETFROM:-0500
TZOFFSETTO:-0400
TZNAME:EDT
DTSTART:20220313T070000
END:DAYLIGHT
BEGIN:STANDARD
TZOFFSETFROM:-0400
TZOFFSETTO:-0500
TZNAME:EST
DTSTART:20221106T060000
END:STANDARD
BEGIN:DAYLIGHT
TZOFFSETFROM:-0500
TZOFFSETTO:-0400
TZNAME:EDT
DTSTART:20230312T070000
END:DAYLIGHT
BEGIN:STANDARD
TZOFFSETFROM:-0400
TZOFFSETTO:-0500
TZNAME:EST
DTSTART:20231105T060000
END:STANDARD
BEGIN:DAYLIGHT
TZOFFSETFROM:-0500
TZOFFSETTO:-0400
TZNAME:EDT
DTSTART:20240310T070000
END:DAYLIGHT
BEGIN:STANDARD
TZOFFSETFROM:-0400
TZOFFSETTO:-0500
TZNAME:EST
DTSTART:20241103T060000
END:STANDARD
BEGIN:DAYLIGHT
TZOFFSETFROM:-0500
TZOFFSETTO:-0400
TZNAME:EDT
DTSTART:20250309T070000
END:DAYLIGHT
BEGIN:STANDARD
TZOFFSETFROM:-0400
TZOFFSETTO:-0500
TZNAME:EST
DTSTART:20251102T060000
END:STANDARD
END:VTIMEZONE
BEGIN:VEVENT
DTSTART;TZID=America/New_York:20241116T180000
DTEND;TZID=America/New_York:20241116T210000
DTSTAMP:20260421T223338
CREATED:20241116T005830Z
LAST-MODIFIED:20241116T010603Z
UID:3697-1731780000-1731790800@stonehammemorialchurch.org
SUMMARY:Thanksgiving Potluck & Game Night
DESCRIPTION:Join us for Thanksgiving Potluck and game night at 6pm. \nWe encourage everyone to bring fall/Thanksgiving theme food and desserts. \n 
URL:https://stonehammemorialchurch.org/event/thanksgiving-potluck/
LOCATION:Stoneham Memorial Church\, 29 MAPLE STREET\, STONEHAM\, MA\, 02180\, United States
ATTACH;FMTTYPE=image/png:https://stonehammemorialchurch.org/wp-content/uploads/2024/11/ThanksgivingPotluck.png
END:VEVENT
BEGIN:VEVENT
DTSTART;TZID=America/New_York:20240928T090000
DTEND;TZID=America/New_York:20240928T170000
DTSTAMP:20260421T223338
CREATED:20240920T213906Z
LAST-MODIFIED:20240928T020828Z
UID:3647-1727514000-1727542800@stonehammemorialchurch.org
SUMMARY:Cliff Island (ME) Day
DESCRIPTION:Cliff Island Maine Day – For information Please see Peter Connelly or call the church office. \nArrive at the Casco Bay Lines Ferry Terminal\, Portland\, ME by 9:30 AM to get on the Cliff Island Ferry \nWelcome Peter Connelly\nWorship in Singing Anthony\, Jonathan & Sebastian\nHymn #294\, “Power in the Blood” Congregation\nWorship in Giving Our Church Budget Peter Connelly\nAll Loose Offerings go to Church Budget\nScripture John 3:5-8 Johnathan Zaarate\nPrayer\nSpecial Music Katherine Zarate\nSermon “To Be Born Again” Pastor Glasgow\nHymn #340\, “Jesus Saves” Congregation\nBenediction Pastor Glasgow
URL:https://stonehammemorialchurch.org/event/cliff-island-me-day/
LOCATION:MA
ATTACH;FMTTYPE=image/png:https://stonehammemorialchurch.org/wp-content/uploads/2024/09/cover-Cliff-9.28.24.png
END:VEVENT
BEGIN:VEVENT
DTSTART;TZID=America/New_York:20240924T063000
DTEND;TZID=America/New_York:20240924T070000
DTSTAMP:20260421T223338
CREATED:20240920T213710Z
LAST-MODIFIED:20240920T213710Z
UID:3645-1727159400-1727161200@stonehammemorialchurch.org
SUMMARY:Early Morning Prayer
DESCRIPTION:Early Morning Prayer – Zoom Prayer meeting with Pastor Glasgow\, 6:30am All are welcome. \nMeeting ID – 815 3919 0196   Pass code 010149
URL:https://stonehammemorialchurch.org/event/early-morning-prayer/
LOCATION:MA
END:VEVENT
BEGIN:VEVENT
DTSTART;TZID=America/New_York:20240906T080000
DTEND;TZID=America/New_York:20240914T180000
DTSTAMP:20260421T223338
CREATED:20240810T010341Z
LAST-MODIFIED:20240907T184857Z
UID:3604-1725609600-1726336800@stonehammemorialchurch.org
SUMMARY:“The Revelation of Whom?”
DESCRIPTION:Daily Evening Program starts at 5:30pm with light refreshments followed by the main event at 6pm \nPastor Lee & Marji Venden\, “The Revelation of Whom?” \n \n 
URL:https://stonehammemorialchurch.org/event/the-revelation-of-whom/
LOCATION:Stoneham Memorial Church\, 29 MAPLE STREET\, STONEHAM\, MA\, 02180\, United States
END:VEVENT
BEGIN:VEVENT
DTSTART;TZID=America/New_York:20240824T160000
DTEND;TZID=America/New_York:20240824T180000
DTSTAMP:20260421T223338
CREATED:20240810T010204Z
LAST-MODIFIED:20240810T010204Z
UID:3602-1724515200-1724522400@stonehammemorialchurch.org
SUMMARY:Church Vespers Picnic\, Chandler Hovey Park
DESCRIPTION:Church Vespers Picnic\, Chandler Hovey Park
URL:https://stonehammemorialchurch.org/event/church-vespers-picnic-chandler-hovey-park/
LOCATION:MA
END:VEVENT
BEGIN:VEVENT
DTSTART;TZID=America/New_York:20240720T150000
DTEND;TZID=America/New_York:20240720T170000
DTSTAMP:20260421T223338
CREATED:20240720T021441Z
LAST-MODIFIED:20240720T021441Z
UID:3575-1721487600-1721494800@stonehammemorialchurch.org
SUMMARY:Memorial Service for Darrell Griffin
DESCRIPTION:Memorial Service for Darrell Griffin at 3pm in our sanctuary
URL:https://stonehammemorialchurch.org/event/memorial-service-for-darrell-griffin/
LOCATION:Stoneham Memorial Church\, 29 MAPLE STREET\, STONEHAM\, MA\, 02180\, United States
END:VEVENT
BEGIN:VEVENT
DTSTART;TZID=America/New_York:20240629T080000
DTEND;TZID=America/New_York:20240629T200000
DTSTAMP:20260421T223338
CREATED:20240615T024804Z
LAST-MODIFIED:20240615T024804Z
UID:3542-1719648000-1719691200@stonehammemorialchurch.org
SUMMARY:Camp Meeting
DESCRIPTION:June 22 & 29 – Stoneham Memorial Church will be CLOSED for Camp Meeting taking place in S. Lancaster\, MA \nhttps://www.sneconline.org/campmeeting \n 
URL:https://stonehammemorialchurch.org/event/camp-meeting/
LOCATION:MA
END:VEVENT
BEGIN:VEVENT
DTSTART;TZID=America/New_York:20240622T080000
DTEND;TZID=America/New_York:20240622T200000
DTSTAMP:20260421T223338
CREATED:20240615T024626Z
LAST-MODIFIED:20240615T024626Z
UID:3539-1719043200-1719086400@stonehammemorialchurch.org
SUMMARY:SNEC Camp Meeting
DESCRIPTION:June 22 & 29 – Stoneham Memorial Church will be CLOSED for Camp Meeting taking place in S. Lancaster\, MA \nhttps://www.sneconline.org/campmeeting
URL:https://stonehammemorialchurch.org/event/snec-camp-meeting-3/
LOCATION:MA
END:VEVENT
BEGIN:VEVENT
DTSTART;TZID=America/New_York:20240406T110000
DTEND;TZID=America/New_York:20240406T140000
DTSTAMP:20260421T223338
CREATED:20240316T160121Z
LAST-MODIFIED:20240316T160121Z
UID:3468-1712401200-1712412000@stonehammemorialchurch.org
SUMMARY:Stoneham's annual Health and Wellness Fair
DESCRIPTION:Stoneham’s annual Health and Wellness Fair is taking place on Saturday\, April 6 at Stoneham Town Hall from 11am to 2pm. Come spend an hour or two and help promote healthy living at the Stoneham SDA Church booth. Please see Eloise Pryce if you would like to participate.
URL:https://stonehammemorialchurch.org/event/stonehams-annual-health-and-wellness-fair/
LOCATION:STONEHAM TOWN HALL\, 35 CENTRAL ST.\, STOENHAM\, MA\, 02180\, United States
END:VEVENT
BEGIN:VEVENT
DTSTART;TZID=America/New_York:20240320T190000
DTEND;TZID=America/New_York:20240320T200000
DTSTAMP:20260421T223338
CREATED:20240316T155950Z
LAST-MODIFIED:20240316T155950Z
UID:3466-1710961200-1710964800@stonehammemorialchurch.org
SUMMARY:Studying the Book of Hebrews\, Zoom meeting
DESCRIPTION:Studying the Book of Hebrews\, Zoom meeting.
URL:https://stonehammemorialchurch.org/event/studying-the-book-of-hebrews-zoom-meeting/
LOCATION:MA
END:VEVENT
BEGIN:VEVENT
DTSTART;TZID=America/New_York:20240318T183000
DTEND;TZID=America/New_York:20240318T193000
DTSTAMP:20260421T223338
CREATED:20240316T155722Z
LAST-MODIFIED:20240316T155722Z
UID:3464-1710786600-1710790200@stonehammemorialchurch.org
SUMMARY:Bible Study Group Fellowship Hall
DESCRIPTION:Bible Study Group Fellowship Hall
URL:https://stonehammemorialchurch.org/event/bible-study-group-fellowship-hall/
LOCATION:Stoneham Memorial Church\, 29 MAPLE STREET\, STONEHAM\, MA\, 02180\, United States
END:VEVENT
BEGIN:VEVENT
DTSTART;TZID=America/New_York:20240316T140000
DTEND;TZID=America/New_York:20240316T150000
DTSTAMP:20260421T223338
CREATED:20240224T163741Z
LAST-MODIFIED:20240224T164011Z
UID:3440-1710597600-1710601200@stonehammemorialchurch.org
SUMMARY:Ask A Doctor
DESCRIPTION:Dr. Ekin Simwatachela\, radiologist will answer questions on X-rays and Scans in Health Care.  Please submit questions no later than Tuesday\, March 12 at https://tinyurl.com/SMCAskADoctor
URL:https://stonehammemorialchurch.org/event/ask-a-doctor-3/
LOCATION:Stoneham Memorial Church\, 29 MAPLE STREET\, STONEHAM\, MA\, 02180\, United States
END:VEVENT
BEGIN:VEVENT
DTSTART;TZID=America/New_York:20240303T090000
DTEND;TZID=America/New_York:20240303T103000
DTSTAMP:20260421T223338
CREATED:20240224T163418Z
LAST-MODIFIED:20240224T163418Z
UID:3438-1709456400-1709461800@stonehammemorialchurch.org
SUMMARY:Women's Day of Prayer
DESCRIPTION:“A Life of Prayer” in the Fellowship Hall
URL:https://stonehammemorialchurch.org/event/womens-day-of-prayer/
LOCATION:Stoneham Memorial Church\, 29 MAPLE STREET\, STONEHAM\, MA\, 02180\, United States
END:VEVENT
BEGIN:VEVENT
DTSTART;TZID=America/New_York:20240301T183000
DTEND;TZID=America/New_York:20240301T200000
DTSTAMP:20260421T223338
CREATED:20240224T163016Z
LAST-MODIFIED:20240224T163016Z
UID:3436-1709317800-1709323200@stonehammemorialchurch.org
SUMMARY:Women's Ministry Vespers
DESCRIPTION:Women’s Ministry Vespers – Ignite Your Prayer Life \nSoup and Refreshments @6:30 PM
URL:https://stonehammemorialchurch.org/event/womens-ministry-vespers/
LOCATION:Stoneham Memorial Church\, 29 MAPLE STREET\, STONEHAM\, MA\, 02180\, United States
END:VEVENT
BEGIN:VEVENT
DTSTART;TZID=America/New_York:20240226T183000
DTEND;TZID=America/New_York:20240226T193000
DTSTAMP:20260421T223338
CREATED:20240224T162757Z
LAST-MODIFIED:20240224T162757Z
UID:3433-1708972200-1708975800@stonehammemorialchurch.org
SUMMARY:Bible Study Group
DESCRIPTION:Bible Study Group Fellowship Hall
URL:https://stonehammemorialchurch.org/event/bible-study-group/
LOCATION:Stoneham Memorial Church\, 29 MAPLE STREET\, STONEHAM\, MA\, 02180\, United States
END:VEVENT
BEGIN:VEVENT
DTSTART;TZID=America/New_York:20231118T140000
DTEND;TZID=America/New_York:20231118T150000
DTSTAMP:20260421T223338
CREATED:20231104T013624Z
LAST-MODIFIED:20231104T013714Z
UID:3329-1700316000-1700319600@stonehammemorialchurch.org
SUMMARY:Ask A Doctor
DESCRIPTION:Nicoleta Coconcea will answer questions on substance abuse like alcohol\, marijuana\, cocaine\, fentanyl\, etc.  Please submit your questions at www.tinyurl.com/SMCAskADoctor no later than Tuesday\, November 14.
URL:https://stonehammemorialchurch.org/event/ask-a-doctor-2/
LOCATION:Stoneham Memorial Church\, 29 MAPLE STREET\, STONEHAM\, MA\, 02180\, United States
ATTACH;FMTTYPE=image/png:https://stonehammemorialchurch.org/wp-content/uploads/2023/11/AskADoctorNicoleCoconcea.png
END:VEVENT
BEGIN:VEVENT
DTSTART;TZID=America/New_York:20231111T110000
DTEND;TZID=America/New_York:20231111T120000
DTSTAMP:20260421T223338
CREATED:20231104T013236Z
LAST-MODIFIED:20231104T013236Z
UID:3327-1699700400-1699704000@stonehammemorialchurch.org
SUMMARY:Teen Church
DESCRIPTION:Teen Church
URL:https://stonehammemorialchurch.org/event/teen-church/
LOCATION:Stoneham Memorial Church\, 29 MAPLE STREET\, STONEHAM\, MA\, 02180\, United States
END:VEVENT
BEGIN:VEVENT
DTSTART;TZID=America/New_York:20231109T183000
DTEND;TZID=America/New_York:20231109T200000
DTSTAMP:20260421T223338
CREATED:20231104T013142Z
LAST-MODIFIED:20231104T013142Z
UID:3325-1699554600-1699560000@stonehammemorialchurch.org
SUMMARY:Greater Boston Academy Fall Constituency Meeting
DESCRIPTION:Greater Boston Academy Fall Constituency Meeting\, 6:30pm at GBA. All church members are encouraged to attend. Your support is important. Please come out and see and hear your school.
URL:https://stonehammemorialchurch.org/event/greater-boston-academy-fall-constituency-meeting/
LOCATION:Greater Boston Academy\, 108 Pond St\, Stoneham\, MA\, 02180\, United States
END:VEVENT
BEGIN:VEVENT
DTSTART;TZID=America/New_York:20231104T130000
DTEND;TZID=America/New_York:20231104T143000
DTSTAMP:20260421T223338
CREATED:20231104T012811Z
LAST-MODIFIED:20231104T013017Z
UID:3322-1699102800-1699108200@stonehammemorialchurch.org
SUMMARY:Fellowship Lunch
DESCRIPTION:Fellowship Lunch after church.  Please bring soups\, salads\, and sandwiches for everyone to share.
URL:https://stonehammemorialchurch.org/event/fellowship-lunch-7/
LOCATION:Stoneham Memorial Church\, 29 MAPLE STREET\, STONEHAM\, MA\, 02180\, United States
ATTACH;FMTTYPE=image/png:https://stonehammemorialchurch.org/wp-content/uploads/2023/11/PotluckFall.png
END:VEVENT
BEGIN:VEVENT
DTSTART;VALUE=DATE:20230930
DTEND;VALUE=DATE:20231001
DTSTAMP:20260421T223338
CREATED:20230916T001525Z
LAST-MODIFIED:20230930T002017Z
UID:3282-1696032000-1696118399@stonehammemorialchurch.org
SUMMARY:Cliff Island Day\, ME
DESCRIPTION:Cliff Island Day. For details\, please contact the office or Peter Connelly. \nMeet at the Casco Bay Lines Ferry Terminal\, Maine State Pier\, Portland\, ME 04101 \nGet there well before 10 AM to buy tickets and board the 10 AM ferry.
URL:https://stonehammemorialchurch.org/event/cliff-island-day/
LOCATION:MA
ATTACH;FMTTYPE=image/png:https://stonehammemorialchurch.org/wp-content/uploads/2023/09/CliffIsland9-30-2023.png
END:VEVENT
BEGIN:VEVENT
DTSTART;TZID=America/New_York:20230923T150000
DTEND;TZID=America/New_York:20230923T170000
DTSTAMP:20260421T223338
CREATED:20230916T001405Z
LAST-MODIFIED:20230916T001405Z
UID:3280-1695481200-1695488400@stonehammemorialchurch.org
SUMMARY:Adventurer Club
DESCRIPTION:Adventurer club meets at 3pm
URL:https://stonehammemorialchurch.org/event/adventurer-club/
LOCATION:MA
END:VEVENT
BEGIN:VEVENT
DTSTART;TZID=America/New_York:20230923T110000
DTEND;TZID=America/New_York:20230923T140000
DTSTAMP:20260421T223338
CREATED:20230916T001226Z
LAST-MODIFIED:20230916T001226Z
UID:3278-1695466800-1695477600@stonehammemorialchurch.org
SUMMARY:Town Day
DESCRIPTION:Town Day\, volunteers needed\, see Dr. Eloise Pryce
URL:https://stonehammemorialchurch.org/event/town-day-2/
LOCATION:MA
END:VEVENT
BEGIN:VEVENT
DTSTART;TZID=America/New_York:20230922T190000
DTEND;TZID=America/New_York:20230922T203000
DTSTAMP:20260421T223338
CREATED:20230916T000940Z
LAST-MODIFIED:20230916T000940Z
UID:3276-1695409200-1695414600@stonehammemorialchurch.org
SUMMARY:Solid Rock Café
DESCRIPTION:Solid Rock Café\, 7pm. Come enjoy a Meal\, Music\, Praise and Sharing!
URL:https://stonehammemorialchurch.org/event/solid-rock-cafe-5/
LOCATION:Stoneham Memorial Church\, 29 MAPLE STREET\, STONEHAM\, MA\, 02180\, United States
END:VEVENT
BEGIN:VEVENT
DTSTART;TZID=America/New_York:20230921T170000
DTEND;TZID=America/New_York:20230921T183000
DTSTAMP:20260421T223338
CREATED:20230916T000831Z
LAST-MODIFIED:20230916T001847Z
UID:3273-1695315600-1695321000@stonehammemorialchurch.org
SUMMARY:GBA Corn Roast
DESCRIPTION:GBA Corn Roast\, 5-6:30 at GBA. All are invited to join!
URL:https://stonehammemorialchurch.org/event/gba-corn-roast-2/
LOCATION:Greater Boston Academy\, 108 Pond St\, Stoneham\, MA\, 02180\, United States
ATTACH;FMTTYPE=image/png:https://stonehammemorialchurch.org/wp-content/uploads/2023/09/CornRoastPotluck.png
END:VEVENT
BEGIN:VEVENT
DTSTART;TZID=America/New_York:20230908T180000
DTEND;TZID=America/New_York:20230909T180000
DTSTAMP:20260421T223338
CREATED:20230429T010319Z
LAST-MODIFIED:20230429T010319Z
UID:3142-1694196000-1694282400@stonehammemorialchurch.org
SUMMARY:Teen Weekend Seminar
DESCRIPTION:Save The Date – Sept 8 & 9 2023\, Jennifer Jill Sweitzer from 3ABN will be here for a special Teen Weekend Seminar. Teens\, you won’t want to miss this!
URL:https://stonehammemorialchurch.org/event/teen-weekend-seminar/
LOCATION:MA
END:VEVENT
BEGIN:VEVENT
DTSTART;TZID=America/New_York:20230717T183000
DTEND;TZID=America/New_York:20230717T193000
DTSTAMP:20260421T223338
CREATED:20230715T010952Z
LAST-MODIFIED:20230715T010952Z
UID:3225-1689618600-1689622200@stonehammemorialchurch.org
SUMMARY:Monday Night Fellowship
DESCRIPTION:July 17: Monday night Fellowship 6:30 pm
URL:https://stonehammemorialchurch.org/event/monday-night-fellowship-3/
LOCATION:Stoneham Memorial Church\, 29 MAPLE STREET\, STONEHAM\, MA\, 02180\, United States
END:VEVENT
BEGIN:VEVENT
DTSTART;TZID=America/New_York:20230715T140000
DTEND;TZID=America/New_York:20230715T153000
DTSTAMP:20260421T223338
CREATED:20230715T010832Z
LAST-MODIFIED:20230715T010832Z
UID:3223-1689429600-1689435000@stonehammemorialchurch.org
SUMMARY:Ask A Doctor - Depression & Anxiety
DESCRIPTION:July 15: 2 pm – Ask A Doctor – Depression & Anxiety with Cris Coconcea\,\nPsychiatrist. Submit your questions by July 11 at https://tinyurl.com/smcaskadoctor
URL:https://stonehammemorialchurch.org/event/ask-a-doctor-depression-anxiety/
LOCATION:Stoneham Memorial Church\, 29 MAPLE STREET\, STONEHAM\, MA\, 02180\, United States
END:VEVENT
BEGIN:VEVENT
DTSTART;TZID=America/New_York:20230714T190000
DTEND;TZID=America/New_York:20230714T200000
DTSTAMP:20260421T223338
CREATED:20230715T011122Z
LAST-MODIFIED:20230715T011122Z
UID:3227-1689361200-1689364800@stonehammemorialchurch.org
SUMMARY:Vespers
DESCRIPTION:July 14: Vespers – Study Leviticus 5 – 12\, Bring your favorite Bible verses and what they mean to you.
URL:https://stonehammemorialchurch.org/event/vespers-5/
LOCATION:MA
END:VEVENT
BEGIN:VEVENT
DTSTART;VALUE=DATE:20230616
DTEND;VALUE=DATE:20230625
DTSTAMP:20260421T223338
CREATED:20230603T111411Z
LAST-MODIFIED:20230603T111411Z
UID:3195-1686873600-1687651199@stonehammemorialchurch.org
SUMMARY:Camp Meeting - S. Lancaster\, MA
DESCRIPTION:June 16-24: SNEC Camp Meeting in South Lancaster\, MA – Stoneham Memorial Church CLOSED
URL:https://stonehammemorialchurch.org/event/camp-meeting-s-lancaster-ma/
LOCATION:MA
END:VEVENT
BEGIN:VEVENT
DTSTART;TZID=America/New_York:20230610T110000
DTEND;TZID=America/New_York:20230610T123000
DTSTAMP:20260421T223338
CREATED:20230603T111653Z
LAST-MODIFIED:20230603T111653Z
UID:3199-1686394800-1686400200@stonehammemorialchurch.org
SUMMARY:Communion
DESCRIPTION:Communion
URL:https://stonehammemorialchurch.org/event/communion-3/
LOCATION:Stoneham Memorial Church\, 29 MAPLE STREET\, STONEHAM\, MA\, 02180\, United States
END:VEVENT
END:VCALENDAR