BEGIN:VCALENDAR
VERSION:2.0
PRODID:-//Stoneham Memorial Church - ECPv6.15.20//NONSGML v1.0//EN
CALSCALE:GREGORIAN
METHOD:PUBLISH
X-ORIGINAL-URL:https://stonehammemorialchurch.org
X-WR-CALDESC:Events for Stoneham Memorial Church
REFRESH-INTERVAL;VALUE=DURATION:PT1H
X-Robots-Tag:noindex
X-PUBLISHED-TTL:PT1H
BEGIN:VTIMEZONE
TZID:America/New_York
BEGIN:DAYLIGHT
TZOFFSETFROM:-0500
TZOFFSETTO:-0400
TZNAME:EDT
DTSTART:20250309T070000
END:DAYLIGHT
BEGIN:STANDARD
TZOFFSETFROM:-0400
TZOFFSETTO:-0500
TZNAME:EST
DTSTART:20251102T060000
END:STANDARD
BEGIN:DAYLIGHT
TZOFFSETFROM:-0500
TZOFFSETTO:-0400
TZNAME:EDT
DTSTART:20260308T070000
END:DAYLIGHT
BEGIN:STANDARD
TZOFFSETFROM:-0400
TZOFFSETTO:-0500
TZNAME:EST
DTSTART:20261101T060000
END:STANDARD
BEGIN:DAYLIGHT
TZOFFSETFROM:-0500
TZOFFSETTO:-0400
TZNAME:EDT
DTSTART:20270314T070000
END:DAYLIGHT
BEGIN:STANDARD
TZOFFSETFROM:-0400
TZOFFSETTO:-0500
TZNAME:EST
DTSTART:20271107T060000
END:STANDARD
END:VTIMEZONE
BEGIN:VEVENT
DTSTART;TZID=America/New_York:20260107T190000
DTEND;TZID=America/New_York:20260116T193000
DTSTAMP:20260421T125647
CREATED:20251227T171755Z
LAST-MODIFIED:20260109T230832Z
UID:4246-1767812400-1768591800@stonehammemorialchurch.org
SUMMARY:Ten Days of Prayer\, Jan. 7-16\, 2026
DESCRIPTION:Ten Days of Prayer\, on Jan. 7-16\, 2026 @ 7 pm Fellowship Hall
URL:https://stonehammemorialchurch.org/event/ten-days-of-prayer-jan-7-17-2026/
LOCATION:MA
END:VEVENT
BEGIN:VEVENT
DTSTART;TZID=America/New_York:20260116T063000
DTEND;TZID=America/New_York:20260123T070000
DTSTAMP:20260421T125647
CREATED:20251213T002335Z
LAST-MODIFIED:20260116T223852Z
UID:4223-1768545000-1769151600@stonehammemorialchurch.org
SUMMARY:Early Morning Prayer – Zoom Prayer meeting with Pastor Glasgow
DESCRIPTION:Early Morning Prayer – Zoom Prayer meeting with Pastor Glasgow\, 6:30am All are welcome. Meeting ID – 870 5434 0990
URL:https://stonehammemorialchurch.org/event/early-morning-prayer-zoom-prayer-meeting-with-pastor-glasgow-6/
LOCATION:MA
END:VEVENT
BEGIN:VEVENT
DTSTART;TZID=America/New_York:20260124T173000
DTEND;TZID=America/New_York:20260124T190000
DTSTAMP:20260421T125647
CREATED:20251227T172246Z
LAST-MODIFIED:20251227T172246Z
UID:4248-1769275800-1769281200@stonehammemorialchurch.org
SUMMARY:Social Night
DESCRIPTION:Social night\, 530 pm Jan. 24.
URL:https://stonehammemorialchurch.org/event/social-night-2/
LOCATION:MA
END:VEVENT
BEGIN:VEVENT
DTSTART;TZID=America/New_York:20260201T084500
DTEND;TZID=America/New_York:20260201T100000
DTSTAMP:20260421T125647
CREATED:20260131T005654Z
LAST-MODIFIED:20260131T005654Z
UID:4281-1769935500-1769940000@stonehammemorialchurch.org
SUMMARY:2026 Church Officer Zoom Training
DESCRIPTION:2026 Church Officer Zoom Training \n(English only) @ 8:45 am\nTime: Feb 1\, 2026\nMeeting ID: 646 392 0401
URL:https://stonehammemorialchurch.org/event/2026-church-officer-zoom-training/
LOCATION:MA
END:VEVENT
BEGIN:VEVENT
DTSTART;TZID=America/New_York:20260203T183000
DTEND;TZID=America/New_York:20260203T200000
DTSTAMP:20260421T125647
CREATED:20260131T005748Z
LAST-MODIFIED:20260131T005748Z
UID:4283-1770143400-1770148800@stonehammemorialchurch.org
SUMMARY:Board Meeting
DESCRIPTION:Board Meeting
URL:https://stonehammemorialchurch.org/event/board-meeting/
LOCATION:Stoneham Memorial Church\, 29 MAPLE STREET\, STONEHAM\, MA\, 02180\, United States
END:VEVENT
BEGIN:VEVENT
DTSTART;TZID=America/New_York:20260207T173000
DTEND;TZID=America/New_York:20260207T190000
DTSTAMP:20260421T125647
CREATED:20260206T235513Z
LAST-MODIFIED:20260207T163403Z
UID:4299-1770485400-1770490800@stonehammemorialchurch.org
SUMMARY:Cancelled - Children's SS social @ GBA
DESCRIPTION:Children’s SS social @ GBA – weather permitting.
URL:https://stonehammemorialchurch.org/event/childrens-ss-social-gba/
LOCATION:Greater Boston Academy\, 108 Pond St\, Stoneham\, MA\, 02180\, United States
END:VEVENT
BEGIN:VEVENT
DTSTART;TZID=America/New_York:20260213T190000
DTEND;TZID=America/New_York:20260213T200000
DTSTAMP:20260421T125647
CREATED:20260131T010124Z
LAST-MODIFIED:20260131T010124Z
UID:4289-1771009200-1771012800@stonehammemorialchurch.org
SUMMARY:Vespers Program
DESCRIPTION:Vespers Program – Ellison Group
URL:https://stonehammemorialchurch.org/event/vespers-program-2/
LOCATION:Stoneham Memorial Church\, 29 MAPLE STREET\, STONEHAM\, MA\, 02180\, United States
ATTACH;FMTTYPE=image/jpeg:https://stonehammemorialchurch.org/wp-content/uploads/2026/01/Feb13Vespers.jpeg
END:VEVENT
BEGIN:VEVENT
DTSTART;TZID=America/New_York:20260216T183000
DTEND;TZID=America/New_York:20260216T193000
DTSTAMP:20260421T125647
CREATED:20250913T000841Z
LAST-MODIFIED:20260214T134646Z
UID:4106-1771266600-1771270200@stonehammemorialchurch.org
SUMMARY:Soup with Jesus Bible Study
DESCRIPTION:Soup with Jesus Bible Study with Pr. Clifton Glasgow – Everyone is invited in the Fellowship Hall
URL:https://stonehammemorialchurch.org/event/soup-with-jesus/
LOCATION:Stoneham Memorial Church\, 29 MAPLE STREET\, STONEHAM\, MA\, 02180\, United States
END:VEVENT
BEGIN:VEVENT
DTSTART;TZID=America/New_York:20260218T190000
DTEND;TZID=America/New_York:20260218T200000
DTSTAMP:20260421T125647
CREATED:20260207T000101Z
LAST-MODIFIED:20260214T134511Z
UID:4303-1771441200-1771444800@stonehammemorialchurch.org
SUMMARY:Weekly Prayer meeting
DESCRIPTION:Weekly Prayer meeting\, every\nWednesday evening starting\nFeb. 11\, @ 7pm\, Fellowship Hall.
URL:https://stonehammemorialchurch.org/event/weekly-prayer-meeting/
LOCATION:Stoneham Memorial Church\, 29 MAPLE STREET\, STONEHAM\, MA\, 02180\, United States
ATTACH;FMTTYPE=image/png:https://stonehammemorialchurch.org/wp-content/uploads/2026/02/PrayingHands.png
END:VEVENT
BEGIN:VEVENT
DTSTART;TZID=America/New_York:20260221T143000
DTEND;TZID=America/New_York:20260221T153000
DTSTAMP:20260421T125647
CREATED:20260214T134216Z
LAST-MODIFIED:20260214T134216Z
UID:4313-1771684200-1771687800@stonehammemorialchurch.org
SUMMARY:Ask a Doctor Program
DESCRIPTION:Ask a Doctor Program Come join us on Sabbath\, February 21 at 2:30 pm\nin the sanctuary\, – Ask the Dietitian: Live Q & A on Nutrition & Women’s\nHealth. The speaker will be Sue-Ellen Anderson-Haynes\, Registered and\nLicensed Dietitian – Women’s Health Dietitian. Please use the QR code to\nsend your questions in\, no later than Tuesday February 17. Bring your\nfriends to hear this important topic.
URL:https://stonehammemorialchurch.org/event/ask-a-doctor-program/
LOCATION:MA
ATTACH;FMTTYPE=image/png:https://stonehammemorialchurch.org/wp-content/uploads/2026/02/AskADoctor-21Feb2026.png
END:VEVENT
BEGIN:VEVENT
DTSTART;TZID=America/New_York:20260221T180000
DTEND;TZID=America/New_York:20260221T193000
DTSTAMP:20260421T125647
CREATED:20260206T235732Z
LAST-MODIFIED:20260206T235732Z
UID:4301-1771696800-1771702200@stonehammemorialchurch.org
SUMMARY:Social Night\, Games\, Food
DESCRIPTION:Join us for a memorable social night even with interactive games and good food. \nPsychology of Him and Her… \nAll are welcome\, bring friends!
URL:https://stonehammemorialchurch.org/event/social-night-games-food/
LOCATION:Stoneham Memorial Church\, 29 MAPLE STREET\, STONEHAM\, MA\, 02180\, United States
ATTACH;FMTTYPE=image/jpeg:https://stonehammemorialchurch.org/wp-content/uploads/2026/02/Feb21Social.jpeg
END:VEVENT
BEGIN:VEVENT
DTSTART;TZID=America/New_York:20260222T190000
DTEND;TZID=America/New_York:20260222T203000
DTSTAMP:20260421T125647
CREATED:20260131T005926Z
LAST-MODIFIED:20260131T005926Z
UID:4285-1771786800-1771792200@stonehammemorialchurch.org
SUMMARY:SMC Town Hall Meeting
DESCRIPTION:SMC Town Hall Meeting\, Sanctuary\,\nFeb. 22 @ 7 pm.\nJoin us for a town hall meeting.\nThese pre-Constituency session\nmeetings provide an essential\nopportunity for constituents to hear\nreports from current officers\, ask\nquestions\, and share feedback.
URL:https://stonehammemorialchurch.org/event/smc-town-hall-meeting/
LOCATION:Stoneham Memorial Church\, 29 MAPLE STREET\, STONEHAM\, MA\, 02180\, United States
END:VEVENT
BEGIN:VEVENT
DTSTART;TZID=America/New_York:20260227T080000
DTEND;TZID=America/New_York:20260227T170000
DTSTAMP:20260421T125647
CREATED:20260228T010220Z
LAST-MODIFIED:20260228T010220Z
UID:4327-1772179200-1772211600@stonehammemorialchurch.org
SUMMARY:Woman’s Ministry\, Zoom prayer meeting
DESCRIPTION:Woman’s Ministry\, Zoom prayer meeting\, Mar. 1 @ 7 pm.\nMeeting ID: 850 0361 5019\nPasscode: 791588
URL:https://stonehammemorialchurch.org/event/womans-ministry-zoom-prayer-meeting/
LOCATION:MA
ATTACH;FMTTYPE=image/jpeg:https://stonehammemorialchurch.org/wp-content/uploads/2026/02/WomensMinistry3-1-2026.jpg.jpeg
END:VEVENT
BEGIN:VEVENT
DTSTART;TZID=America/New_York:20260303T183000
DTEND;TZID=America/New_York:20260303T200000
DTSTAMP:20260421T125647
CREATED:20260228T010342Z
LAST-MODIFIED:20260228T010342Z
UID:4329-1772562600-1772568000@stonehammemorialchurch.org
SUMMARY:Board Meeting
DESCRIPTION:Board Meeting\, Mar. 3 @ 6:30 pm.
URL:https://stonehammemorialchurch.org/event/board-meeting-2/
LOCATION:Stoneham Memorial Church\, 29 MAPLE STREET\, STONEHAM\, MA\, 02180\, United States
END:VEVENT
BEGIN:VEVENT
DTSTART;TZID=America/New_York:20260311T190000
DTEND;TZID=America/New_York:20260311T200000
DTSTAMP:20260421T125647
CREATED:20260307T020011Z
LAST-MODIFIED:20260307T020011Z
UID:4336-1773255600-1773259200@stonehammemorialchurch.org
SUMMARY:Weekly Prayer and Fellowship in person
DESCRIPTION:Weekly meeting in person @ 7 pm\, Fellowship Hall
URL:https://stonehammemorialchurch.org/event/weekly-prayer-and-fellowship-in-person/
LOCATION:Stoneham Memorial Church\, 29 MAPLE STREET\, STONEHAM\, MA\, 02180\, United States
END:VEVENT
BEGIN:VEVENT
DTSTART;TZID=America/New_York:20260313T190000
DTEND;TZID=America/New_York:20260313T200000
DTSTAMP:20260421T125647
CREATED:20260307T020118Z
LAST-MODIFIED:20260307T020238Z
UID:4338-1773428400-1773432000@stonehammemorialchurch.org
SUMMARY:Vespers
DESCRIPTION:Vespers\, Mar. 13 @ 7 pm\, Fellowship Hall. The Youth are leading.
URL:https://stonehammemorialchurch.org/event/vespers-8/
LOCATION:Stoneham Memorial Church\, 29 MAPLE STREET\, STONEHAM\, MA\, 02180\, United States
END:VEVENT
BEGIN:VEVENT
DTSTART;TZID=America/New_York:20260314T153000
DTEND;TZID=America/New_York:20260314T170000
DTSTAMP:20260421T125647
CREATED:20260314T003358Z
LAST-MODIFIED:20260314T010749Z
UID:4351-1773502200-1773507600@stonehammemorialchurch.org
SUMMARY:YASNEC Music Certification - Workshop #1
DESCRIPTION:YASNEC Music Certification \nTraining done by music professionals – Register for only $25.00 fee \nWorkshop #1\nMarch 14\, 2026 @3:30 PM\nDorchester\, CV SDA\n113 Hamilton St\, Dorchester\, MA \nFor more details and to register visit: www.yasnec.org
URL:https://stonehammemorialchurch.org/event/yasnec-music-certification-workshop-1/
LOCATION:MA
ATTACH;FMTTYPE=image/jpeg:https://stonehammemorialchurch.org/wp-content/uploads/2026/03/YASNEC-MusicTraining.jpeg
END:VEVENT
BEGIN:VEVENT
DTSTART;TZID=America/New_York:20260321T141500
DTEND;TZID=America/New_York:20260321T153000
DTSTAMP:20260421T125647
CREATED:20260321T000524Z
LAST-MODIFIED:20260321T000524Z
UID:4362-1774102500-1774107000@stonehammemorialchurch.org
SUMMARY:The Salt Controversy - Health Ministries
DESCRIPTION:The Health Ministries Dept. Mar. 21 @2:15 pm. Will be presenting a documentary about salt. Come and bring your friends to hear about this topic.
URL:https://stonehammemorialchurch.org/event/the-salt-controversy-health-ministries/
LOCATION:Stoneham Memorial Church\, 29 MAPLE STREET\, STONEHAM\, MA\, 02180\, United States
ATTACH;FMTTYPE=image/jpeg:https://stonehammemorialchurch.org/wp-content/uploads/2026/03/TheSalt21Mar2026.jpeg
END:VEVENT
BEGIN:VEVENT
DTSTART;TZID=America/New_York:20260328T180000
DTEND;TZID=America/New_York:20260328T193000
DTSTAMP:20260421T125647
CREATED:20260307T020330Z
LAST-MODIFIED:20260327T235432Z
UID:4342-1774720800-1774726200@stonehammemorialchurch.org
SUMMARY:Social Night
DESCRIPTION:Social Night\, Fellowship Hall
URL:https://stonehammemorialchurch.org/event/social-night-3/
LOCATION:Stoneham Memorial Church\, 29 MAPLE STREET\, STONEHAM\, MA\, 02180\, United States
ATTACH;FMTTYPE=image/jpeg:https://stonehammemorialchurch.org/wp-content/uploads/2026/03/Mar28Social.jpeg
END:VEVENT
BEGIN:VEVENT
DTSTART;TZID=America/New_York:20260403T183000
DTEND;TZID=America/New_York:20260403T200000
DTSTAMP:20260421T125647
CREATED:20260307T020210Z
LAST-MODIFIED:20260403T133822Z
UID:4340-1775241000-1775246400@stonehammemorialchurch.org
SUMMARY:Easter Vespers
DESCRIPTION:Easter Vespers\, Apr 3 @ 6:30 pm\,  Fellowship Hall.
URL:https://stonehammemorialchurch.org/event/vespers-9/
LOCATION:Stoneham Memorial Church\, 29 MAPLE STREET\, STONEHAM\, MA\, 02180\, United States
END:VEVENT
BEGIN:VEVENT
DTSTART;TZID=America/New_York:20260404T110000
DTEND;TZID=America/New_York:20260404T140000
DTSTAMP:20260421T125647
CREATED:20260321T000811Z
LAST-MODIFIED:20260321T000811Z
UID:4364-1775300400-1775311200@stonehammemorialchurch.org
SUMMARY:Stoneham Health and Wellness Fair
DESCRIPTION:Stoneham Health and Wellness Fair\,\nApri. 4\, @ 11am -2 pm at the\nStoneham Town Hall. If you’d like to\nhelp at our booth for an hour or two\nplease see Eloise Pryce.
URL:https://stonehammemorialchurch.org/event/stoneham-health-and-wellness-fair/
LOCATION:STONEHAM TOWN HALL\, 35 CENTRAL ST.\, STOENHAM\, MA\, 02180\, United States
END:VEVENT
BEGIN:VEVENT
DTSTART;TZID=America/New_York:20260412T063000
DTEND;TZID=America/New_York:20260412T070000
DTSTAMP:20260421T125647
CREATED:20251213T002109Z
LAST-MODIFIED:20260411T012914Z
UID:4215-1775975400-1775977200@stonehammemorialchurch.org
SUMMARY:Early Morning Prayer – Zoom Prayer meeting with Pastor Glasgow
DESCRIPTION:Early Morning Prayer – Zoom Prayer meeting with Pastor Glasgow\, 6:30am All are welcome. Meeting ID – 870 5434 0990
URL:https://stonehammemorialchurch.org/event/early-morning-prayer-zoom-prayer-meeting-with-pastor-glasgow-2/
LOCATION:MA
END:VEVENT
BEGIN:VEVENT
DTSTART;TZID=America/New_York:20260413T063000
DTEND;TZID=America/New_York:20260413T070000
DTSTAMP:20260421T125647
CREATED:20251213T002146Z
LAST-MODIFIED:20260411T012932Z
UID:4217-1776061800-1776063600@stonehammemorialchurch.org
SUMMARY:Early Morning Prayer – Zoom Prayer meeting with Pastor Glasgow
DESCRIPTION:Early Morning Prayer – Zoom Prayer meeting with Pastor Glasgow\, 6:30am All are welcome. Meeting ID – 870 5434 0990
URL:https://stonehammemorialchurch.org/event/early-morning-prayer-zoom-prayer-meeting-with-pastor-glasgow-3/
LOCATION:MA
END:VEVENT
BEGIN:VEVENT
DTSTART;TZID=America/New_York:20260414T063000
DTEND;TZID=America/New_York:20260414T070000
DTSTAMP:20260421T125647
CREATED:20250301T162359Z
LAST-MODIFIED:20260411T012953Z
UID:3830-1776148200-1776150000@stonehammemorialchurch.org
SUMMARY:Early Morning Prayer – Zoom Prayer meeting with Pastor Glasgow
DESCRIPTION:Early Morning Prayer – Zoom Prayer meeting with Pastor Glasgow\, 6:30am All are welcome. Meeting ID – 870 5434 0990
URL:https://stonehammemorialchurch.org/event/early-morning-prayer-zoom-prayer-meeting-with-pastor-glasgow/
LOCATION:MA
END:VEVENT
BEGIN:VEVENT
DTSTART;TZID=America/New_York:20260415T063000
DTEND;TZID=America/New_York:20260415T070000
DTSTAMP:20260421T125647
CREATED:20251213T002303Z
LAST-MODIFIED:20260411T013012Z
UID:4221-1776234600-1776236400@stonehammemorialchurch.org
SUMMARY:Early Morning Prayer – Zoom Prayer meeting with Pastor Glasgow
DESCRIPTION:Early Morning Prayer – Zoom Prayer meeting with Pastor Glasgow\, 6:30am All are welcome. Meeting ID – 870 5434 0990
URL:https://stonehammemorialchurch.org/event/early-morning-prayer-zoom-prayer-meeting-with-pastor-glasgow-5/
LOCATION:MA
END:VEVENT
BEGIN:VEVENT
DTSTART;TZID=America/New_York:20260416T063000
DTEND;TZID=America/New_York:20260416T070000
DTSTAMP:20260421T125647
CREATED:20251213T002215Z
LAST-MODIFIED:20260411T013039Z
UID:4219-1776321000-1776322800@stonehammemorialchurch.org
SUMMARY:Early Morning Prayer – Zoom Prayer meeting with Pastor Glasgow
DESCRIPTION:Early Morning Prayer – Zoom Prayer meeting with Pastor Glasgow\, 6:30am All are welcome. Meeting ID – 870 5434 0990
URL:https://stonehammemorialchurch.org/event/early-morning-prayer-zoom-prayer-meeting-with-pastor-glasgow-4/
LOCATION:MA
END:VEVENT
BEGIN:VEVENT
DTSTART;TZID=America/New_York:20260417T063000
DTEND;TZID=America/New_York:20260417T070000
DTSTAMP:20260421T125647
CREATED:20260131T005537Z
LAST-MODIFIED:20260411T013103Z
UID:4279-1776407400-1776409200@stonehammemorialchurch.org
SUMMARY:Early Morning Prayer – Zoom Prayer meeting with Pastor Glasgow
DESCRIPTION:Early Morning Prayer – Zoom Prayer meeting with Pastor Glasgow\, 6:30am All are welcome. Meeting ID – 870 5434 0990
URL:https://stonehammemorialchurch.org/event/early-morning-prayer-zoom-prayer-meeting-with-pastor-glasgow-7/
LOCATION:MA
END:VEVENT
BEGIN:VEVENT
DTSTART;TZID=America/New_York:20260424T183000
DTEND;TZID=America/New_York:20260424T200000
DTSTAMP:20260421T125647
CREATED:20260411T013232Z
LAST-MODIFIED:20260411T013232Z
UID:4393-1777055400-1777060800@stonehammemorialchurch.org
SUMMARY:Agape Dinner & Communion
DESCRIPTION:Agape Dinner & Communion\,\nApr. 24 @ 6:30 PM. Fellowship Hall
URL:https://stonehammemorialchurch.org/event/agape-dinner-communion/
LOCATION:Stoneham Memorial Church\, 29 MAPLE STREET\, STONEHAM\, MA\, 02180\, United States
END:VEVENT
END:VCALENDAR