BEGIN:VCALENDAR
VERSION:2.0
PRODID:-//Stoneham Memorial Church - ECPv6.15.20//NONSGML v1.0//EN
CALSCALE:GREGORIAN
METHOD:PUBLISH
X-ORIGINAL-URL:https://stonehammemorialchurch.org
X-WR-CALDESC:Events for Stoneham Memorial Church
REFRESH-INTERVAL;VALUE=DURATION:PT1H
X-Robots-Tag:noindex
X-PUBLISHED-TTL:PT1H
BEGIN:VTIMEZONE
TZID:America/New_York
BEGIN:DAYLIGHT
TZOFFSETFROM:-0500
TZOFFSETTO:-0400
TZNAME:EDT
DTSTART:20250309T070000
END:DAYLIGHT
BEGIN:STANDARD
TZOFFSETFROM:-0400
TZOFFSETTO:-0500
TZNAME:EST
DTSTART:20251102T060000
END:STANDARD
BEGIN:DAYLIGHT
TZOFFSETFROM:-0500
TZOFFSETTO:-0400
TZNAME:EDT
DTSTART:20260308T070000
END:DAYLIGHT
BEGIN:STANDARD
TZOFFSETFROM:-0400
TZOFFSETTO:-0500
TZNAME:EST
DTSTART:20261101T060000
END:STANDARD
BEGIN:DAYLIGHT
TZOFFSETFROM:-0500
TZOFFSETTO:-0400
TZNAME:EDT
DTSTART:20270314T070000
END:DAYLIGHT
BEGIN:STANDARD
TZOFFSETFROM:-0400
TZOFFSETTO:-0500
TZNAME:EST
DTSTART:20271107T060000
END:STANDARD
END:VTIMEZONE
BEGIN:VEVENT
DTSTART;TZID=America/New_York:20260221T143000
DTEND;TZID=America/New_York:20260221T153000
DTSTAMP:20260421T101909
CREATED:20260214T134216Z
LAST-MODIFIED:20260214T134216Z
UID:4313-1771684200-1771687800@stonehammemorialchurch.org
SUMMARY:Ask a Doctor Program
DESCRIPTION:Ask a Doctor Program Come join us on Sabbath\, February 21 at 2:30 pm\nin the sanctuary\, – Ask the Dietitian: Live Q & A on Nutrition & Women’s\nHealth. The speaker will be Sue-Ellen Anderson-Haynes\, Registered and\nLicensed Dietitian – Women’s Health Dietitian. Please use the QR code to\nsend your questions in\, no later than Tuesday February 17. Bring your\nfriends to hear this important topic.
URL:https://stonehammemorialchurch.org/event/ask-a-doctor-program/
LOCATION:MA
ATTACH;FMTTYPE=image/png:https://stonehammemorialchurch.org/wp-content/uploads/2026/02/AskADoctor-21Feb2026.png
END:VEVENT
BEGIN:VEVENT
DTSTART;TZID=America/New_York:20260221T180000
DTEND;TZID=America/New_York:20260221T193000
DTSTAMP:20260421T101909
CREATED:20260206T235732Z
LAST-MODIFIED:20260206T235732Z
UID:4301-1771696800-1771702200@stonehammemorialchurch.org
SUMMARY:Social Night\, Games\, Food
DESCRIPTION:Join us for a memorable social night even with interactive games and good food. \nPsychology of Him and Her… \nAll are welcome\, bring friends!
URL:https://stonehammemorialchurch.org/event/social-night-games-food/
LOCATION:Stoneham Memorial Church\, 29 MAPLE STREET\, STONEHAM\, MA\, 02180\, United States
ATTACH;FMTTYPE=image/jpeg:https://stonehammemorialchurch.org/wp-content/uploads/2026/02/Feb21Social.jpeg
END:VEVENT
END:VCALENDAR