BEGIN:VCALENDAR
VERSION:2.0
PRODID:-//Stoneham Memorial Church - ECPv6.15.20//NONSGML v1.0//EN
CALSCALE:GREGORIAN
METHOD:PUBLISH
X-ORIGINAL-URL:https://stonehammemorialchurch.org
X-WR-CALDESC:Events for Stoneham Memorial Church
REFRESH-INTERVAL;VALUE=DURATION:PT1H
X-Robots-Tag:noindex
X-PUBLISHED-TTL:PT1H
BEGIN:VTIMEZONE
TZID:America/New_York
BEGIN:DAYLIGHT
TZOFFSETFROM:-0500
TZOFFSETTO:-0400
TZNAME:EDT
DTSTART:20250309T070000
END:DAYLIGHT
BEGIN:STANDARD
TZOFFSETFROM:-0400
TZOFFSETTO:-0500
TZNAME:EST
DTSTART:20251102T060000
END:STANDARD
BEGIN:DAYLIGHT
TZOFFSETFROM:-0500
TZOFFSETTO:-0400
TZNAME:EDT
DTSTART:20260308T070000
END:DAYLIGHT
BEGIN:STANDARD
TZOFFSETFROM:-0400
TZOFFSETTO:-0500
TZNAME:EST
DTSTART:20261101T060000
END:STANDARD
BEGIN:DAYLIGHT
TZOFFSETFROM:-0500
TZOFFSETTO:-0400
TZNAME:EDT
DTSTART:20270314T070000
END:DAYLIGHT
BEGIN:STANDARD
TZOFFSETFROM:-0400
TZOFFSETTO:-0500
TZNAME:EST
DTSTART:20271107T060000
END:STANDARD
END:VTIMEZONE
BEGIN:VEVENT
DTSTART;TZID=America/New_York:20260218T190000
DTEND;TZID=America/New_York:20260218T200000
DTSTAMP:20260421T102646
CREATED:20260207T000101Z
LAST-MODIFIED:20260214T134511Z
UID:4303-1771441200-1771444800@stonehammemorialchurch.org
SUMMARY:Weekly Prayer meeting
DESCRIPTION:Weekly Prayer meeting\, every\nWednesday evening starting\nFeb. 11\, @ 7pm\, Fellowship Hall.
URL:https://stonehammemorialchurch.org/event/weekly-prayer-meeting/
LOCATION:Stoneham Memorial Church\, 29 MAPLE STREET\, STONEHAM\, MA\, 02180\, United States
ATTACH;FMTTYPE=image/png:https://stonehammemorialchurch.org/wp-content/uploads/2026/02/PrayingHands.png
END:VEVENT
END:VCALENDAR